Workbook

Sheet Приложение3
C2: Приложение 3 к постановлению администрации Пожарского муниципального района Приморского края от 27.12.2022 № 1031-па
C3: Приложение 3 к постановлению администрации Пожарского муниципального района Приморского края от 27.06.2022 № 451-па
B4: Паспорт подпрограммы № 2 «Благоустройство территорий Пожарского муниципального округа» на 2023 – 2027 годы
B5: Ответственный исполнитель муниципальной программы | C5: Администрация Пожарского муниципального округа
B6: Цель муниципальной программы | C6: повышение уровня комфортности жизнедеятельности граждан посредством благоустройства территорий Пожарского муниципального округа
B7: Задачи муниципальной программы | C7: улучшение состояния придомовых территорий; повышение уровня благоустройства общественных территорий; формирование (обустройство) детских и спортивных площадок, ремонт дворовых проездов
B8: Показатели муниципальной программы | C8: количество благоустроенных дворовых территорий, ед.; количество благоустроенных муниципальных общественных территорий, ед.; количество реализованных проектов благоустройства дворовых территорий, ед.; количество реализованных комплексных проектов благоустройства общественных территорий, ед.; количество установленных детских и спортивных площадок, ед.; количество отремонтированных дворовых проездов, ед; доля граждан, принявших участие в решении вопросов формирования комфортной городской среды, проживающих в муниципальном образовании, на территории которых реализуются проекты, %
B9: Сроки реализации муниципальной программы | C9: с 2023 года по 2027 год
B10: Объем средств на финансирование подпрограммы из краевого бюджета Российской Федерации, бюджета Пожарского муниципального округа Приморского края и средств из внебюджетных источников | C10: объем финансирования мероприятий подпрограммы из краевого бюджета Российской Федерации составляет:
C11: всего 2023 - 2027 годы | D11: =SUM(D13:D17) -> 66258066 | E11: рублей
C12: в том числе по годам:
C13: 2023 год | D13: ='приложение11-2пподпрограмма'!E13 -> 7446274.6 | E13: рублей
C14: 2024 год | D14: ='приложение11-2пподпрограмма'!E44 -> 41871814 | E14: рублей
C15: 2025 год | D15: ='приложение11-2пподпрограмма'!E57 -> 10622429 | E15: рублей
C16: 2026 год | D16: ='приложение11-2пподпрограмма'!E65 -> 1691536.2 | E16: рублей
C17: 2027 год | D17: ='приложение11-2пподпрограмма'!E74 -> 4626012.6 | E17: рублей
C18: объем финансирования мероприятий подпрограммы из бюджета Пожарского муниципального округа Приморского края составляет:
C19: всего 2023 - 2027 годы | D19: =SUM(D21:D25) -> 671999.91 | E19: рублей
C20: в том числе по годам:
C21: 2023 год | D21: ='приложение11-2пподпрограмма'!F13 -> 77941.41 | E21: рублей
C22: 2024 год | D22: ='приложение11-2пподпрограмма'!F44 -> 422947.61 | E22: рублей
C23: 2025 год | D23: ='приложение11-2пподпрограмма'!F57 -> 107297.27 | E23: рублей
C24: 2026 год | D24: ='приложение11-2пподпрограмма'!F65 -> 17086.224 | E24: рублей
C25: 2027 год | D25: ='приложение11-2пподпрограмма'!F71+'приложение11-2пподпрограмма'!F72 -> 46727.4 | E25: рублей
C26: объем финансирования мероприятий подпрограммы средств из внебюджетных источников составляет:
C27: всего 2023 - 2027 годы | D27: =SUM(D47:D52) -> 0 | E27: рублей
C28: в том числе по годам:
C29: 2023 год | D29: 0 | E29: рублей
C30: 2024 год | D30: 0 | E30: рублей
C31: 2025 год | D31: 0 | E31: рублей
C32: 2026 год | D32: 0 | E32: рублей
C33: 2027 год | D33: 0 | E33: рублей
B34: Ожидаемые результаты реализации муниципальной программы | C34: обеспечение комфортных и безопасных условий проживания граждан; сохранение и улучшение внешнего вида мест общего пользования и массового отдыха населения; формирование положительного имиджа Пожарского муниципального округа; повышение уровня духовного, нравственно-эстетического и физического развития жителей Пожарского муниципального округа; формирование у населения здорового образа жизни

Sheet Приложение2
C2: Приложение 2 к постановлению администрации Пожарского муниципального района Приморского края от 27.12.2022 № 1031-па
C3: Приложение 2 к постановлению администрации Пожарского муниципального района Приморского края от 27.06.2022 № 451-па
B4: Паспорт подпрограммы № 1 «Формирование современной городской среды Пожарского муниципального округа» на 2023-2027 годы
B5: Ответственный исполнитель муниципальной программы | C5: Администрация Пожарского муниципального округа
B6: Цель муниципальной программы | C6: повышение уровня комфортности жизнедеятельности граждан Пожарского муниципального округа посредством благоустройства территорий
B7: Задачи муниципальной программы | C7: улучшение состояния придомовых территорий; повышение уровня благоустройства общественных территорий; формирование (обустройство) мест массового отдыха населения (городских парков); формирование (обустройство) детских и спортивных площадок
B8: Показатели муниципальной программы | C8: количество благоустроенных дворовых территорий, ед.; количество благоустроенных муниципальных общественных территорий, ед.; количество благоустроенных мест массового отдыха населения (городских парков), ед.; количество реализованных проектов благоустройства дворовых территорий, ед.; количество реализованных комплексных проектов благоустройства общественных территорий, ед.; количество установленных детских и спортивных площадок, ед.; доля граждан, принявших участие в решении вопросов формирования комфортной городской среды от общего количества граждан в возрасте от 14 лет, проживающих в муниципальных образованиях, на территории которых реализуются проекты по созданию комфортной городской среды, %
B9: Сроки реализации муниципальной программы | C9: с 2023 года по 2027 год
B10: Объем средств на финансирование подпрограммы из федерального и краевого бюджетов Российской Федерации, бюджета Пожарского муниципального округа Приморского края и средств из внебюджетных источников | C10: объем финансирования мероприятий подпрограммы из федерального и краевого бюджетов Российской Федерации составляет:
C11: всего 2023 - 2027 годы | D11: =SUM(D13:D17) -> 2.4273727e+08 | E11: рублей
C12: в том числе по годам:
C13: 2023 год | D13: ='приложение10-1ппрограмма'!E13 -> 8355968.2 | E13: рублей
C14: 2024 год | D14: ='приложение10-1ппрограмма'!E21 -> 9743522.7 | E14: рублей
C15: 2025 год | D15: ='приложение10-1ппрограмма'!E43 -> 61586626 | E15: рублей
C16: 2026 год | D16: ='приложение10-1ппрограмма'!E65 -> 84129387 | E16: рублей
C17: 2027 год | D17: ='приложение10-1ппрограмма'!E87 -> 78921762 | E17: рублей
C18: объем финансирования мероприятий подпрограммы из бюджета Пожарского муниципального округа Приморского края составляет:
C19: всего 2023 - 2027 годы | D19: =SUM(D21:D25) -> 1265610.8 | E19: рублей
C20: в том числе по годам:
C21: 2023 год | D21: ='приложение10-1ппрограмма'!D13-'приложение10-1ппрограмма'!E13 -> 87815.349 | E21: рублей
C22: 2024 год | D22: ='приложение10-1ппрограмма'!D21-'приложение10-1ппрограмма'!E21 -> 48962.426 | E22: рублей
C23: 2025 год | D23: ='приложение10-1ппрограмма'!F43 -> 309480.53 | E23: рублей
C24: 2026 год | D24: ='приложение10-1ппрограмма'!F65 -> 422760.74 | E24: рублей
C25: 2027 год | D25: ='приложение10-1ппрограмма'!F87 -> 396591.77 | E25: рублей
C26: объем финансирования мероприятий подпрограммы средств из внебюджетных источников составляет:
C27: всего 2023 - 2027 годы | D27: =SUM(D29:D33) -> 50796702 | E27: рублей
C28: в том числе по годам:
C29: 2023 год | D29: 0 | E29: рублей
C30: 2024 год | D30: 0 | E30: рублей
C31: 2025 год | D31: ='приложение10-1ппрограмма'!G43 -> 18022602 | E31: рублей
C32: 2026 год | D32: ='приложение10-1ппрограмма'!G65 -> 16910430 | E32: рублей
C33: 2027 год | D33: ='приложение10-1ппрограмма'!G87 -> 15863671 | E33: рублей
B34: Ожидаемые результаты реализации муниципальной программы | C34: обеспечение комфортных и безопасных условий проживания граждан; сохранение и улучшение внешнего вида мест общего пользования и массового отдыха населения; формирование положительного имиджа Пожарского муниципального округа; повышение уровня духовного, нравственно-эстетического и физического развития жителей Пожарского муниципального округа; формирование у населения здорового образа жизни

Sheet Приложение1
C1: Приложение 1 к постановлению администрации Пожарского муниципального района Приморского края от 27.12.2022 № 1031-па
C2: Приложение 1 к постановлению администрации Пожарского муниципального района Приморского края от 27.06.2022 № 451-па
B3: Паспорт муниципальной программы «Формирование современной городской среды на территории Пожарского муниципального округа» на 2023-2027годы
B5: Ответственный исполнитель муниципальной программы | C5: Администрация Пожарского муниципального округа
B6: Структура муниципальной программы | C6: подпрограмма № 1 «Формирование современной городской среды Пожарского муниципального округа» на 2023–2027 годы; информация о паспорте подпрограммы приведена в приложении № 2 к муниципальной программе «Формирование современной городской среды Пожарского муниципального округа» на 2023–2027 годы (далее – муниципальная программа); подпрограмма № 2 «Благоустройство территорий Пожарского муниципального округа» на 2023–2027 годы; информация о паспорте подпрограммы приведена в приложении № 3 к муниципальной программе
B7: Цель муниципальной программы | C7: повышение уровня комфортности жизнедеятельности граждан посредством благоустройства территорий Пожарского муниципального округа
B8: Задачи муниципальной программы | C8: улучшение состояния придомовых территорий; повышение уровня благоустройства общественных территорий ; формирование (обустройство) мест массового отдыха населения (городских парков); формирование (обустройство) детских и спортивных площадок
B9: Показатели муниципальной программы | C9: количество благоустроенных дворовых территорий, ед.; количество благоустроенных муниципальных общественных территорий, ед.; количество благоустроенных мест массового отдыха населения (городских парков), ед.; количество реализованных проектов благоустройства дворовых территорий, ед.; количество реализованных комплексных проектов благоустройства общественных территорий, ед.; количество установленных детских и спортивных площадок, ед.; доля граждан, принявших участие в решении вопросов формирования комфортной городской среды от общего количества граждан в возрасте от 14 лет, проживающих в муниципальных образованиях, на территории которых реализуются проекты по созданию комфортной городской среды, %
B10: Сроки реализации муниципальной программы | C10: с 2023 года по 2027 год
B11: Объем средств на финансирование подпрограммы из федерального и краевого бюджетов Российской Федерации, бюджета Пожарского муниципального округа Приморского края и средств из внебюджетных источников | C11: объем финансирования мероприятий подпрограммы из федерального и краевого бюджетов Российской Федерации составляет:
C12: всего 2023 - 2027 годы | D12: =SUM(D14:D18) -> 3.0899533e+08 | E12: рублей
C13: в том числе по годам:
C14: 2023 год | D14: =Приложение2!D13+Приложение3!D13 -> 15802243 | E14: рублей
C15: 2024 год | D15: =Приложение2!D14+Приложение3!D14 -> 51615336 | E15: рублей
C16: 2025 год | D16: =Приложение2!D15+Приложение3!D15 -> 72209056 | E16: рублей
C17: 2026 год | D17: =Приложение2!D16+Приложение3!D16 -> 85820923 | E17: рублей
C18: 2027 год | D18: =Приложение2!D17+Приложение3!D17 -> 83547775 | E18: рублей
C19: объем финансирования мероприятий подпрограммы из бюджета Пожарского муниципального округа Приморского края составляет:
C20: всего 2023 - 2027 годы | D20: =SUM(D22:D26) -> 1937610.7 | E20: рублей
C21: в том числе по годам:
C22: 2023 год | D22: =Приложение2!D21+Приложение3!D21 -> 165756.76 | E22: рублей
C23: 2024 год | D23: =Приложение2!D22+Приложение3!D22 -> 471910.04 | E23: рублей
C24: 2025 год | D24: =Приложение2!D23+Приложение3!D23 -> 416777.8 | E24: рублей
C25: 2026 год | D25: =Приложение2!D24+Приложение3!D24 -> 439846.96 | E25: рублей
C26: 2027 год | D26: =Приложение2!D25+Приложение3!D25 -> 443319.17 | E26: рублей
C27: объем финансирования мероприятий подпрограммы средств из внебюджетных источников составляет:
C28: всего 2023 - 2027 годы | D28: =SUM(D30:D34) -> 50796702 | E28: рублей
C29: в том числе по годам:
C30: 2023 год | D30: =Приложение2!D29+Приложение3!D29 -> 0 | E30: рублей
C31: 2024 год | D31: =Приложение2!D30+Приложение3!D30 -> 0 | E31: рублей
C32: 2025 год | D32: =Приложение2!D31+Приложение3!D31 -> 18022602 | E32: рублей
C33: 2026 год | D33: =Приложение2!D32+Приложение3!D32 -> 16910430 | E33: рублей
C34: 2027 год | D34: =Приложение2!D33+Приложение3!D33 -> 15863671 | E34: рублей
B35: Ожидаемые результаты реализации муниципальной программы | C35: обеспечение комфортных и безопасных условий проживания граждан; сохранение и улучшение внешнего вида мест общего пользования и массового отдыха населения; формирование положительного имиджа Пожарского муниципального округа; повышение уровня духовного, нравственно-эстетического и физического развития жителей Пожарского муниципального округа; формирование у населения здоровоого образа жизни

Sheet Приложение9
F2: Приложение 9 к постановлению администрации Пожарского муниципального района Приморского края от 27.06.2022 № 451-па
B4: Объем средств, необходимых на реализацию программы за счет всех источников финансирования на 2023-2027 годы
B5: Наименование | C5: Ответственный исполнитель, соисполнитель, государственный (муниципальный) заказчик-координатор, участник | D5: Источник финансирования | E5: Код бюджетной классификации | I5: Объемы бюджетных ассигнований (рублей)
E6: ГРБС | F6: Рз Пр | G6: ЦСР | H6: ВР
B7: Муниципальная программа «Формирование современной городской среды на территории Пожарского муниципального округа» на 2023-2027 годы | C7: всего в том числе: | I7: =I8+I9+I10 -> 3.6172965e+08
C8: Администрация Пожарского муниципального округа | D8: Федеральный и краевой бюджеты | I8: =Приложение2!D11+Приложение3!D11 -> 3.0899533e+08
D9: Местный бюджет | I9: =1937610.73 -> 1937610.7
D10: Средства из внебюджетных источников | I10: =Приложение1!D28 -> 50796702

Sheet приложение10-1ппрограмма
E1: Приложение 6 к постановлению администрации Пожарского муниципального района Приморского края от 27.12.2022 № 1031-па
E2: Приложение 10 к постановлению администрации Пожарского муниципального района Приморского края от 27.06.2022 № 451-па
B4: Объем средств, необходимых на реализацию подпрограммы № 1 за счет всех источников финансирования на 2023-2027 годы по объектно
B6: 2023 год
B7: № п/п | C7: Наименование и адрес территории | D7: Затраты на выполнение всего (рублей) | E7: В том числе с разбивкой
E8: за счет средств федерального и краевого бюджетов Российской Федерации (рублей) | F8: за счет средств Пожарского муниципального округа (рублей)
B9: Общественные территории
B10: 1 | C10: Сквер "Детство"; местоположение установлено относительно ориентира, расположенного за пределами участка. Ориентир здание администрации. Участок находится примерно в 208 м оториентира по направлению на северо-запад. Почтовый адрес ориентира: Приморский край, Пожарский район, пгт Лучегорск, общественный центр,1; кадастровый нолмер 25:15:080103:1108 | D10: 7750785.6 | E10: =D10-F10 -> 7670177.4 | F10: =D10*1.04% -> 80608.17
B11: 2 | C11: Спортивная площадка, расположенная напротив МКД № 9 с.Светлогорье | D11: 692997.96 | E11: =D11-F11 -> 685790.78 | F11: =D11*1.04% -> 7207.1788
C12: Итого по общественным территориям на 2023 год: | D12: =D11+D10 -> 8443783.6 | E12: =E11+E10 -> 8355968.2 | F12: =F11+F10 -> 87815.349
C13: Итого на 2023 год: | D13: =D12 -> 8443783.6 | E13: =E12 -> 8355968.2 | F13: =F12 -> 87815.349
B14: 2024 год
B15: Общественные территории
B16: № п/п | C16: Наименование | D16: Затраты на выполнение всего | E16: В том числе с разбивкой
D17: (рублей) | E17: за счет средств федерального и краевого бюджетов Российской Федерации (рублей) | F17: за счет средств Пожарского муниципального округа (рублей)
B18: 1 | C18: Парк Энергетиков пгт Лучегорск 4 микрорайон | D18: 8790066 | E18: =D18-F18 -> 8746115.7 | F18: =D18*0.5% -> 43950.33
B19: 2 | C19: Детская площадка, расположенная напротив МКД №3, с.Светлогорье | D19: 1002419.2 | E19: =D19-F19 -> 997407.06 | F19: =D19*0.5% -> 5012.0958
C20: Итого по общественным территориям на 2024 год: | D20: =D18+D19 -> 9792485.2 | E20: =E18+E19 -> 9743522.7 | F20: =F18+F19 -> 48962.426
C21: Итого на 2024 год: | D21: =D20 -> 9792485.2 | E21: =E20 -> 9743522.7 | F21: =F20 -> 48962.426
B22: 2025 год
B23: Дворовые территории многоквартирных домов
B24: № п/п | C24: Наименование и адрес территории | D24: Затраты на выполнение всего | E24: В том числе с разбивкой
D25: (рублей) | E25: за счет средств федерального и краевого бюджетов Российской Федерации (рублей) | F25: за счет средств Пожарского муниципального округа (рублей) | G25: средства из внебюджетных источников (рублей)
B26: 1 | C26: Ремонт дворовой территории МКД № 16-1 микрорайона | D26: =E26+F26 -> 3017959 | E26: 3002869.2 | F26: 15089.8 | G26: 603591.8
B27: 2 | C27: Ремонт дворовой территории МКД № 2-2 микрорайона | D27: =E27+F27 -> 3850515 | E27: 3831262.4 | F27: 19252.58 | G27: 770103
B28: 3 | C28: Ремонт дворовой территории МКД № 3-3 микрорайона | D28: =E28+F28 -> 2237504.2 | E28: 2226316.7 | F28: 11187.52 | G28: 881928
B29: 4 | C29: Ремонт дворовой территории МКД № 9-3 микрорайона | D29: =E29+F29 -> 2841729 | E29: 2827520.4 | F29: 14208.64 | G29: 568345.8
B30: 5 | C30: Ремонт дворовой территории МКД № 24-3 микрорайона | D30: =E30+F30 -> 3174564.6 | E30: 3158691.8 | F30: 15872.82 | G30: 634912.92
B31: 6 | C31: Ремонт дворовой территории МКД № 1,2-1 микрорайона | D31: =E31+F31 -> 6088031 | E31: 6057590.8 | F31: 30440.15 | G31: 1217606.2
B32: 7 | C32: Ремонт дворовой территории МКД № 7-2 микрорайона | D32: =E32+F32 -> 2150000 | E32: 2139250 | F32: 10750 | G32: 430000
B33: 8 | C33: Ремонт дворовой территории МКД № 2-3 микрорайона | D33: =E33+F33 -> 4728316.6 | E33: 4704675 | F33: 23641.59 | G33: 6154616.8
B34: 9 | C34: Ремонт дворовой территории МКД № 5-3 микрорайона | D34: =E34+F34 -> 5680314 | E34: 5651912.4 | F34: 28401.57 | G34: 1136062.8
B35: 10 | C35: Ремонт дворовой территории МКД № 15-4 микрорайона | D35: =E35+F35 -> 2913896.7 | E35: 2899327.2 | F35: 14569.48 | G35: 582779.34
B36: 11 | C36: Ремонт дворовой территории МКД № 14-4 микрорайона | D36: =E36+F36 -> 4165241 | E36: 4144414.8 | F36: 20826.21 | G36: 833048.2
B37: 12 | C37: Ремонт дворовой территории МКД № 36-4 микрорайона | D37: =E37+F37 -> 7270000 | E37: 7233650 | F37: 36350 | G37: 1454000
... B41: 16 | C41: Ремонт дворовой территории МКД № 13-1 микрорайона | D41: =E41+F41 -> 3793512 | E41: 3774544.4 | F41: 18967.56 | G41: 758702.4
C42: Итого по дворовым территориям на 2025год: | D42: =SUM(D26:D41) -> 61896107 | E42: =SUM(E26:E41) -> 61586626 | F42: =SUM(F26:F41) -> 309480.53 | G42: =SUM(G26:G41) -> 18022602
C43: Итого на 2025 год: | D43: =D42 -> 61896107 | E43: =E42 -> 61586626 | F43: =F42 -> 309480.53 | G43: =G42 -> 18022602
B44: 2026 год
B45: Дворовые территории многоквартирных домов
B46: № п/п | C46: Наименование и адрес территории | D46: Затраты на выполнение всего | E46: В том числе с разбивкой
D47: (рублей) | E47: за счет средств федерального и краевого бюджетов Российской Федерации (рублей) | F47: за счет средств Пожарского муниципального округа (рублей) | G47: средства из внебюджетных источников (рублей)
B48: 1 | C48: Ремонт дворовой территории МКД № 14-1 микрорайона | D48: =E48+F48 -> 2999062 | E48: 2984066.7 | F48: 14995.31 | G48: 599812.4
B49: 2 | C49: Ремонт дворовой территории МКД № 8-4 микрорайона | D49: =E49+F49 -> 3796370 | E49: 3777388.1 | F49: 18981.85 | G49: 759274
B50: 3 | C50: Ремонт дворовой территории МКД № 18-4 микрорайона | D50: =E50+F50 -> 7319703 | E50: 7283104.5 | F50: 36598.51 | G50: 1463940.6
B51: 4 | C51: Ремонт дворовой территории МКД № 20-4 микрорайона | D51: =E51+F51 -> 1200067 | E51: 1194066.7 | F51: 6000.34 | G51: 240013.4
B52: 5 | C52: Ремонт дворовой территории МКД № 21-4 микрорайона | D52: =E52+F52 -> 6890000 | E52: 6855550 | F52: 34450 | G52: 1378000
B53: 6 | C53: Ремонт дворовой территории МКД № 24-4 микрорайона | D53: =E53+F53 -> 4657238 | E53: 4633951.8 | F53: 23286.19 | G53: 931447.6
B54: 7 | C54: Ремонт дворовой территории МКД № 27-4 микрорайона | D54: =E54+F54 -> 5955000 | E54: 5925225 | F54: 29775 | G54: 1191000
B55: 8 | C55: Ремонт дворовой территории МКД № 28-4 микрорайона | D55: =E55+F55 -> 8670000 | E55: 8626650 | F55: 43350 | G55: 1734000
B56: 9 | C56: Ремонт дворовой территории МКД № 29-4 микрорайона | D56: =E56+F56 -> 4980000 | E56: 4955100 | F56: 24900 | G56: 996000
B57: 10 | C57: Ремонт дворовой территории МКД № 3,6-2 микрорайона | D57: =E57+F57 -> 14569901 | E57: 14497051 | F57: 72849.51 | G57: 2913980.2
B58: 11 | C58: Ремонт дворовой территории МКД № 14-2 микрорайона | D58: =E58+F58 -> 4538304 | E58: 4515612.5 | F58: 22691.52 | G58: 907660.8
B59: 12 | C59: Ремонт дворовой территории МКД № 18-2 микрорайона | D59: =E59+F59 -> 3497502 | E59: 3480014.5 | F59: 17487.51 | G59: 699500.4
... B63: 16 | C63: Ремонт дворовой территории МКД № 10-3 микрорайона | D63: =E63+F63 -> 4107488 | E63: 4086950.6 | F63: 20537.44 | G63: 821497.6
C64: Итого по дворовым территориям на 2026 год: | D64: =SUM(D48:D63) -> 84552148 | E64: =SUM(E48:E63) -> 84129387 | F64: =SUM(F48:F63) -> 422760.74 | G64: =SUM(G48:G63) -> 16910430
C65: Итого на 2026 год: | D65: =D64 -> 84552148 | E65: =E64 -> 84129387 | F65: =F64 -> 422760.74 | G65: =G64 -> 16910430
B66: 2027 год
B67: Дворовые территории многоквартирных домов
B68: № п/п | C68: Наименование и адрес территории | D68: Затраты на выполнение всего | E68: В том числе с разбивкой
D69: (рублей) | E69: за счет средств федерального и краевого бюджетов Российской Федерации (рублей) | F69: за счет средств Пожарского муниципального округа (рублей) | G69: средства из внебюджетных источников (рублей)
B70: 1 | C70: Ремонт дворовой территории МКД № 30-4 микрорайона | D70: =E70+F70 -> 5465000 | E70: 5437675 | F70: 27325 | G70: 1093000
B71: 2 | C71: Ремонт дворовой территории МКД № 32-4 микрорайона | D71: =E71+F71 -> 4980000 | E71: 4955100 | F71: 24900 | G71: 996000
B72: 3 | C72: Ремонт дворовой территории МКД № 33-4 микрорайона | D72: =E72+F72 -> 9770000 | E72: 9721150 | F72: 48850 | G72: 1954000
B73: 4 | C73: Ремонт дворовой территории МКД № 35-4 микрорайона | D73: =E73+F73 -> 4620000 | E73: 4596900 | F73: 23100 | G73: 924000
B74: 5 | C74: Ремонт дворовой территории МКД № 37-4 микрорайона | D74: =E74+F74 -> 4640000 | E74: 4616800 | F74: 23200 | G74: 928000
B75: 6 | C75: Ремонт дворовой территории МКД № 48-4 микрорайона | D75: =E75+F75 -> 4870000 | E75: 4845650 | F75: 24350 | G75: 974000
B76: 7 | C76: Ремонт дворовой территории МКД № 1а-ул. Строительная | D76: =E76+F76 -> 5950000 | E76: 5920250 | F76: 29750 | G76: 1190000
B77: 8 | C77: Ремонт дворовой территории МКД № 2-ул. Строительная | D77: =E77+F77 -> 4780000 | E77: 4756100 | F77: 23900 | G77: 956000
B78: 9 | C78: Ремонт дворовой территории МКД № 7-1 микрорайона | D78: =E78+F78 -> 7063788 | E78: 7028469.1 | F78: 35318.94 | G78: 1412757.6
B79: 10 | C79: Ремонт дворовой территории МКД № 5-1 микрорайона | D79: =E79+F79 -> 4124072 | E79: 4103451.6 | F79: 20620.36 | G79: 824814.4
B80: 11 | C80: Ремонт дворовой территории МКД № 9-1 микрорайона | D80: =E80+F80 -> 6738129 | E80: 6704438.4 | F80: 33690.64 | G80: 1347625.8
B81: 12 | C81: Ремонт дворовой территории МКД № 3-4 микрорайона | D81: =E81+F81 -> 3549385 | E81: 3531638.1 | F81: 17746.93 | G81: 709877
... B85: 16 | C85: Ремонт дворовой территории МКД № 7-4 микрорайона | D85: =E85+F85 -> 3587174 | E85: 3569238.1 | F85: 17935.87 | G85: 717434.8
C86: Итого по дворовымм территориям на 2027 год: | D86: =SUM(D70:D85) -> 79318354 | E86: =SUM(E70:E85) -> 78921762 | F86: =SUM(F70:F85) -> 396591.77 | G86: =SUM(G70:G85) -> 15863671
C87: Итого на 2027 год: | D87: =D86 -> 79318354 | E87: =E86 -> 78921762 | F87: =F86 -> 396591.77 | G87: =G86 -> 15863671

Sheet приложение11-2пподпрограмма
D2: Приложение №4 (подпрограмма №2)
D3: Приложение 7 к постановлению администрации Пожарского муниципального района Приморского края от 27.12.2022 № 1031-па
D4: Приложение 11 к постановлению администрации Пожарского муниципального района Приморского края от 27.06.2022 № 451-па
B5: Объем средств, необходимых на реализацию подпрограммы № 2 за счет всех источников финансирования на 2023-2027 годы по объектно
B6: 2023 год
B7: № п/п | C7: Адрес территории | D7: Затраты на выполнение всего, руб. | E7: за счет средств краевого бюджета Российской Федерации, руб. | F7: за счет средств бюджета Пожарского муниципального округа, руб.
B10: дворовые территории
B11: 1 | C11: пгт Лучегорск МКД №22 - 1 микрорайон | D11: 7524216 | E11: =D11-F11 -> 7446274.6 | F11: =77941.41 -> 77941.41
C12: Итого по дворовым территориям | D12: =D11 -> 7524216 | E12: =E11 -> 7446274.6 | F12: =F11 -> 77941.41
B13: Итого на 2023 год: | D13: =D12 -> 7524216 | E13: =11:11 -> 7446274.6 | F13: =F12 -> 77941.41
B14: 2024 год
B15: № п/п | C15: Адрес дворовой территории | D15: Затраты на выполнение всего, руб. | E15: за счет средств краевого бюджета Российской Федерации, руб. | F15: за счет средств бюджета Пожарского муниципального округа, руб.
B18: дворовые территории
B19: 1 | C19: пгт Лучегорск МКД №10 - 3 микрорайон | D19: 2352040 | E19: =D19-F19 -> 2328519.6 | F19: =D19*1% -> 23520.4
B20: 2 | C20: пгт Лучегорск МКД №10- 4 микрорайон | D20: 2395493 | E20: =D20-F20 -> 2371538.1 | F20: =D20*1% -> 23954.93
B21: 3 | C21: пгт Лучегорск МКД №6 - 4 микрорайон | D21: 1832540 | E21: =D21-F21 -> 1814214.6 | F21: =D21*1% -> 18325.4
B22: 4 | C22: пгт Лучегорск МКД №5 - 3 микрорайон | D22: 2352446.4 | E22: =D22-F22 -> 2328921.9 | F22: =D22*1% -> 23524.464
B23: 5 | C23: пгт Лучегорск МКД №1-2 - 1 микрорайон | D23: 3534473.8 | E23: =D23-F23 -> 3499129.1 | F23: =D23*1% -> 35344.738
B24: 6 | C24: пгт Лучегорск МКД №7 - 2 микрорайон | D24: 1682922.8 | E24: =D24-F24 -> 1666093.6 | F24: =D24*1% -> 16829.228
B25: 7 | C25: пгт Лучегорск МКД №29 - 4 микрорайон | D25: 1823768 | E25: =D25-F25 -> 1805530.3 | F25: =D25*1% -> 18237.68
B26: 8 | C26: пгт Лучегорск МКД №33 - 4 микрорайон | D26: 2089461 | E26: =D26-F26 -> 2068566.4 | F26: =D26*1% -> 20894.61
B27: 9 | C27: пгт Лучегорск МКД №37 - 4 микрорайон | D27: 1826634 | E27: =D27-F27 -> 1808367.7 | F27: =D27*1% -> 18266.34
B28: 10 | C28: пгт Лучегорск МКД №2 - 3 микрорайон | D28: 1936345.7 | E28: =D28-F28 -> 1916982.2 | F28: =D28*1% -> 19363.457
B29: 11 | C29: пгт Лучегорск МКД №6 ул.Лесная | D29: 2062219.8 | E29: =D29-F29 -> 2041597.6 | F29: =D29*1% -> 20622.198
B30: 2 | C30: пгт Лучегорск МКД №48 - 4 микрорайон | D30: =1394969.08+10000+58777.34 -> 1463746.4 | E30: =D30-F30 -> 1449109 | F30: =D30*1% -> 14637.464
B31: 3 | C31: пгт Лучегорск МКД №14 - 1 микрорайон | D31: =1545452+187703.09+58000 -> 1791155.1 | E31: =D31-F31 -> 1773243.5 | F31: =D31*1% -> 17911.551
B32: 4 | C32: с. Светлогорье МКД №8 - 1 микрорайон | D32: 3030303 | E32: =D32-F32 -> 3000000 | F32: =D32*1% -> 30303.03
B33: 12 | C33: с. Светлогорье МКД №3 - 1 микрорайон | D33: 3030303 | E33: =D33-F33 -> 3000000 | F33: =D33*1% -> 30303.03
C34: Итого по дворовым территориям | D34: =SUM(D19:D33) -> 33203852 | E34: =SUM(E19:E33) -> 32871814 | F34: =SUM(F19:F33) -> 332038.52
B35: общественные территории
B36: 3 | C36: с. Верхний Перевал площадка для культурного отдыха примерно 70м на восток от здания МОБУ СОШ №16 ул.Школьная-2 | D36: 3030303 | E36: =D36-F36 -> 3000000 | F36: =D36*1% -> 30303.03
B37: 4 | C37: с.Новостройка зона отдыха ул.Заводская, ориентир д.№ 4 | D37: 3030303 | E37: =D37-F37 -> 3000000 | F37: =D37*1% -> 30303.03
B38: 5 | C38: с. Пожарское прилегающая территория дома культуры, ориентир эдание дома культуры. Участок находится примерно в 75 м оториентира по направлению на северо-запад, Почтовый адрес ориентира: Приморский край, Пожарский район, с. Пожарское, ул. Ленинская, 22 | D38: 3030303 | E38: =D38-F38 -> 3000000 | F38: =D38*1% -> 30303.03
C39: Итого по общественным территориям | D39: =SUM(D36:D38) -> 9090909.1 | E39: =SUM(E36:E38) -> 9000000 | F39: =SUM(F36:F38) -> 90909.091
B40: общественные территории
B41: 1
B42: 2
C43: Итого по общественным территориям | D43: =SUM(D41:D42) -> 0 | E43: =SUM(E41:E42) -> 0 | F43: =SUM(F41:F42) -> 0
B44: Итого на 2024 год: | D44: =D34+D39 -> 42294761 | E44: =E34+E39 -> 41871814 | F44: =F34+F39 -> 422947.61
B45: 2025 год
B46: № п/п | C46: Адрес дворовой территории | D46: Затраты на выполнение всего, руб. | E46: за счет средств краевого бюджета Российской Федерации, руб. | F46: за счет средств бюджета Пожарского муниципального округа, руб.
B49: дворовые территории
B50: 1 | C50: пгт Лучегорск МКД №15 - 3 микрорайон | D50: 1336885.8 | E50: =D50-F50 -> 1323516.9 | F50: =D50*1% -> 13368.858
B51: 2 | C51: пгт Лучегорск МКД №7 - 1 микрорайон | D51: 1729388.9 | E51: =D51-F51 -> 1712095 | F51: =D51*1% -> 17293.889
B52: 3 | C52: пгт Лучегорск МКД №9 - 3 микрорайон | D52: 1945521.6 | E52: =D52-F52 -> 1926066.4 | F52: =D52*1% -> 19455.216
B53: 4 | C53: пгт Лучегорск МКД №1 - 3 микрорайон | D53: 1868856 | E53: =D53-F53 -> 1850167.4 | F53: =D53*1% -> 18688.56
B54: 5 | C54: пгт Лучегорск МКД №31 - 4 микрорайон | D54: 1599925.2 | E54: =D54-F54 -> 1583925.9 | F54: =D54*1% -> 15999.252
B55: 6 | C55: пгт Лучегорск МКД №10 - 3 микрорайон | D55: 2249149.2 | E55: =D55-F55 -> 2226657.7 | F55: =D55*1% -> 22491.492
C56: Итого по дворовым территориям | D56: =SUM(D50:D55) -> 10729727 | E56: =SUM(E50:E55) -> 10622429 | F56: =SUM(F50:F55) -> 107297.27
B57: Итого на 2025 год: | D57: =D56 -> 10729727 | E57: =E56 -> 10622429 | F57: =F56 -> 107297.27
B58: 2026 год
B59: № п/п | C59: Адрес дворовой территории | D59: Затраты на выполнение всего, руб. | E59: за счет средств краевого бюджета Российской Федерации, руб. | F59: за счет средств бюджета Пожарского муниципального округа, руб.
B62: дворовые территории | J62: =62000-43247.45 -> 18752.55
B63: 1 | C63: пгт Лучегорск МКД №5 - 1 микрорайон | D63: 1708622.4 | E63: =D63-F63 -> 1691536.2 | F63: =D63*1% -> 17086.224
C64: Итого по дворовым территориям | D64: =SUM(D63:D63) -> 1708622.4 | E64: =SUM(E63:E63) -> 1691536.2 | F64: =SUM(F63:F63) -> 17086.224
B65: Итого на 2026 год: | D65: =D64 -> 1708622.4 | E65: =E64 -> 1691536.2 | F65: =F64 -> 17086.224
B66: 2027 год
B67: № п/п | C67: Адрес дворовой территории | D67: Затраты на выполнение всего, руб. | E67: за счет средств краевого бюджета Российской Федерации, руб. | F67: за счет средств бюджета Пожарского муниципального округа, руб.
B70: дворовые территории
B71: 1 | C71: пгт Лучегорск МКД №48 - 4 микрорайон | D71: 2277247 | E71: =D71-F71 -> 2254474.5 | F71: =D71*1% -> 22772.47
B72: 2 | C72: пгт Лучегорск МКД №8 - 4 микрорайон | D72: 2395493 | E72: =D72-F72 -> 2371538.1 | F72: =D72*1% -> 23954.93
C73: Итого по дворовым территориям | D73: =SUM(D71:D72) -> 4672740 | E73: =SUM(E71:E72) -> 4626012.6 | F73: =SUM(F71:F72) -> 46727.4
B74: Итого на 2027 год: | D74: =D73 -> 4672740 | E74: =E73 -> 4626012.6 | F74: =F73 -> 46727.4
B76: 2028 год
C77: Адрес дворовой территории | D77: Затраты на выполнение всего, руб. | E77: за счет средств краевого бюджета Российской Федерации, руб. | F77: за счет средств бюджета Пожарского муниципального округа, руб.
E80: руб. | F80: руб
B81: дворовые территории
B82: 1 | D82: 0 | E82: =D82-F82 -> 0 | F82: =D82*1% -> 0
B83: 2 | D83: 0 | E83: =D83-F83 -> 0 | F83: =D83*1% -> 0
B84: 3 | D84: 0 | E84: =D84-F84 -> 0 | F84: =D84*1% -> 0
B85: 4 | D85: 0 | E85: =D85-F85 -> 0 | F85: =D85*1% -> 0
B86: 5 | D86: 0 | E86: =D86-F86 -> 0 | F86: =D86*1% -> 0
B87: 6 | D87: 0 | E87: =D87-F87 -> 0 | F87: =D87*1% -> 0
B88: 7 | D88: 0 | E88: =D88-F88 -> 0 | F88: =D88*1% -> 0
B89: 8 | D89: 0 | E89: =D89-F89 -> 0 | F89: =D89*1% -> 0
B90: 9 | D90: 0 | E90: =D90-F90 -> 0 | F90: =D90*1% -> 0
B91: 10 | D91: 0 | E91: =D91-F91 -> 0 | F91: =D91*1% -> 0
B92: 11 | D92: 0 | E92: =D92-F92 -> 0 | F92: =D92*1% -> 0
B93: 12 | D93: 0 | E93: =D93-F93 -> 0 | F93: =D93*1% -> 0
... B97: 16 | D97: 0 | E97: =D97-F97 -> 0 | F97: =D97*1% -> 0
C98: Итого по дворовым территориям на 2028год: | D98: =SUM(D82:D97) -> 0 | E98: =SUM(E82:E97) -> 0 | F98: =SUM(F82:F97) -> 0
B99: Итого на 2028год: | D99: =D98 -> 0 | E99: =E98 -> 0 | F99: =F98 -> 0

Sheet Лист1
