Workbook

Sheet Приложение3
C3: Приложение 3 к постановлению администрации Пожарского муниципального округа Приморского края от ___________ № _____-па
B4: Паспорт подпрограммы № 2 «Благоустройство территорий Пожарского муниципального округа» на 2023 – 2027 годы
B5: Ответственный исполнитель муниципальной программы | C5: Отдел строительства и проведения ремонтов администрации Пожарского муниципального округа Приморского края
B6: Соисполнитель | C6: Отдел закупок администрации Пожарского муниципального округа Приморского края.
B7: Цель муниципальной программы | C7: повышение уровня комфортности жизнедеятельности граждан посредством благоустройства территорий Пожарского муниципального округа
B8: Задачи муниципальной программы | C8: улучшение состояния придомовых территорий; повышение уровня благоустройства общественных территорий; формирование (обустройство) детских и спортивных площадок, ремонт дворовых проездов
B9: Показатели муниципальной программы | C9: количество благоустроенных дворовых территорий, ед.; количество благоустроенных муниципальных общественных территорий, ед.; количество реализованных проектов благоустройства дворовых территорий, ед.; количество реализованных комплексных проектов благоустройства общественных территорий, ед.; количество установленных детских и спортивных площадок, ед.; количество отремонтированных дворовых проездов, ед; доля граждан, принявших участие в решении вопросов формирования комфортной городской среды, проживающих в муниципальном образовании, на территории которых реализуются проекты, %
B10: Сроки реализации муниципальной программы | C10: с 2023 года по 2027 год
B11: Объем средств на финансирование подпрограммы из краевого бюджета Российской Федерации, бюджета Пожарского муниципального округа Приморского края и средств из внебюджетных источников | C11: объем финансирования мероприятий подпрограммы из краевого бюджета Российской Федерации составляет:
C12: всего 2023 - 2027 годы | D12: =SUM(D14:D18) -> 24018432 | E12: рублей
C13: в том числе по годам:
C14: 2023 год | D14: ='приложение11-2пподпрограмма'!E13 -> 7446274.6 | E14: рублей
C15: 2024 год | D15: 16572158 | E15: рублей
C16: 2025 год | D16: 0 | E16: рублей
C17: 2026 год | D17: 0 | E17: рублей
C18: 2027 год | D18: 0 | E18: рублей
C19: объем финансирования мероприятий подпрограммы из бюджета Пожарского муниципального округа Приморского края составляет:
C20: всего 2023 - 2027 годы | D20: =SUM(D22:D26) -> 264074.13 | E20: рублей
C21: в том числе по годам:
C22: 2023 год | D22: 96678.6 | E22: рублей
C23: 2024 год | D23: 167395.53 | E23: рублей
C24: 2025 год | D24: 0 | E24: рублей
C25: 2026 год | D25: 0 | E25: рублей
C26: 2027 год | D26: 0 | E26: рублей
C27: объем финансирования мероприятий подпрограммы средств из внебюджетных источников составляет:
C28: всего 2023 - 2027 годы | D28: =SUM(D48:D53) -> 0 | E28: рублей
C29: в том числе по годам:
C30: 2023 год | D30: 0 | E30: рублей
C31: 2024 год | D31: 0 | E31: рублей
C32: 2025 год | D32: 0 | E32: рублей
C33: 2026 год | D33: 0 | E33: рублей
C34: 2027 год | D34: 0 | E34: рублей
B35: Ожидаемые результаты реализации муниципальной программы | C35: обеспечение комфортных и безопасных условий проживания граждан; сохранение и улучшение внешнего вида мест общего пользования и массового отдыха населения; формирование положительного имиджа Пожарского муниципального округа; повышение уровня духовного, нравственно-эстетического и физического развития жителей Пожарского муниципального округа; формирование у населения здорового образа жизни

Sheet Приложение2
C3: Приложение 2 к постановлению администрации Пожарского муниципального округа Приморского края от ___________ № ____-па
B4: Паспорт подпрограммы № 1 «Формирование современной городской среды Пожарского муниципального округа» на 2023-2027 годы
B5: Ответственный исполнитель муниципальной программы | C5: Отдел строительства и проведения ремонтов администрации Пожарского муниципального округа Приморского края
B6: Соисполнитель | C6: Отдел закупок администрации Пожарского муниципального округа Приморского края
B7: Цель муниципальной программы | C7: повышение уровня комфортности жизнедеятельности граждан Пожарского муниципального округа посредством благоустройства территорий
B8: Задачи муниципальной программы | C8: улучшение состояния придомовых территорий; повышение уровня благоустройства общественных территорий; формирование (обустройство) мест массового отдыха населения (городских парков); формирование (обустройство) детских и спортивных площадок
B9: Показатели муниципальной программы | C9: количество благоустроенных дворовых территорий, ед.; количество благоустроенных муниципальных общественных территорий, ед.; количество благоустроенных мест массового отдыха населения (городских парков), ед.; количество реализованных проектов благоустройства дворовых территорий, ед.; количество реализованных комплексных проектов благоустройства общественных территорий, ед.; количество установленных детских и спортивных площадок, ед.; доля граждан, принявших участие в решении вопросов формирования комфортной городской среды от общего количества граждан в возрасте от 14 лет, проживающих в муниципальных образованиях, на территории которых реализуются проекты по созданию комфортной городской среды, %
B10: Сроки реализации муниципальной программы | C10: с 2023 года по 2027 год
B11: Объем средств на финансирование подпрограммы из федерального и краевого бюджетов Российской Федерации, бюджета Пожарского муниципального округа Приморского края и средств из внебюджетных источников | C11: объем финансирования мероприятий подпрограммы из федерального и краевого бюджетов Российской Федерации составляет:
C12: всего 2023 - 2027 годы | D12: =SUM(D14:D18) -> 17651733 | E12: рублей
C13: в том числе по годам:
C14: 2023 год | D14: 8355968.2 | E14: рублей
C15: 2024 год | D15: 9295764.5 | E15: рублей
C16: 2025 год | D16: 0 | E16: рублей
C17: 2026 год | D17: 0 | E17: рублей
C18: 2027 год | D18: 0 | E18: рублей
C19: объем финансирования мероприятий подпрограммы из бюджета Пожарского муниципального округа Приморского края составляет:
C20: всего 2023 - 2027 годы | D20: =SUM(D22:D26) -> 342824.91 | E20: рублей
C21: в том числе по годам:
C22: 2023 год | D22: 87819.35 | E22: рублей
C23: 2024 год | D23: 255005.56 | E23: рублей
C24: 2025 год | D24: 0 | E24: рублей
C25: 2026 год | D25: 0 | E25: рублей
C26: 2027 год | D26: 0 | E26: рублей
C27: объем финансирования мероприятий подпрограммы средств из внебюджетных источников составляет:
C28: всего 2023 - 2027 годы | D28: =SUM(D30:D34) -> 50796702 | E28: рублей
C29: в том числе по годам:
C30: 2023 год | D30: 0 | E30: рублей
C31: 2024 год | D31: 0 | E31: рублей
C32: 2025 год | D32: ='приложение10-1ппрограмма'!G43 -> 18022602 | E32: рублей
C33: 2026 год | D33: ='приложение10-1ппрограмма'!G65 -> 16910430 | E33: рублей
C34: 2027 год | D34: ='приложение10-1ппрограмма'!G87 -> 15863671 | E34: рублей
B35: Ожидаемые результаты реализации муниципальной программы | C35: обеспечение комфортных и безопасных условий проживания граждан; сохранение и улучшение внешнего вида мест общего пользования и массового отдыха населения; формирование положительного имиджа Пожарского муниципального округа; повышение уровня духовного, нравственно-эстетического и физического развития жителей Пожарского муниципального округа; формирование у населения здорового образа жизни

Sheet Приложение1
C2: Приложение 1 к постановлению администрации Пожарского муниципального округа Приморского края от __________ № ____-па
B3: Паспорт муниципальной программы «Формирование современной городской среды на территории Пожарского муниципального округа» на 2023-2027годы
B5: Ответственный исполнитель муниципальной программы | C5: Отдел строительства и проведения ремонтов администрации Пожарского муниципального округа Приморского края
B6: Соисполнитель | C6: Отдел закупок администрации Пожарского муниципального округа Приморского края
B7: Структура муниципальной программы | C7: подпрограмма № 1 «Формирование современной городской среды Пожарского муниципального округа» на 2023–2027 годы; информация о паспорте подпрограммы приведена в приложении № 2 к муниципальной программе «Формирование современной городской среды Пожарского муниципального округа» на 2023–2027 годы (далее – муниципальная программа); подпрограмма № 2 «Благоустройство территорий Пожарского муниципального округа» на 2023–2027 годы; информация о паспорте подпрограммы приведена в приложении № 3 к муниципальной программе
B8: Цель муниципальной программы | C8: повышение уровня комфортности жизнедеятельности граждан посредством благоустройства территорий Пожарского муниципального округа
B9: Задачи муниципальной программы | C9: улучшение состояния придомовых территорий; повышение уровня благоустройства общественных территорий ; формирование (обустройство) мест массового отдыха населения (городских парков); формирование (обустройство) детских и спортивных площадок
B10: Показатели муниципальной программы | C10: количество благоустроенных дворовых территорий, ед.; количество благоустроенных муниципальных общественных территорий, ед.; количество благоустроенных мест массового отдыха населения (городских парков), ед.; количество реализованных проектов благоустройства дворовых территорий, ед.; количество реализованных комплексных проектов благоустройства общественных территорий, ед.; количество установленных детских и спортивных площадок, ед.; доля граждан, принявших участие в решении вопросов формирования комфортной городской среды от общего количества граждан в возрасте от 14 лет, проживающих в муниципальных образованиях, на территории которых реализуются проекты по созданию комфортной городской среды, %
B11: Сроки реализации муниципальной программы | C11: с 2023 года по 2027 год
B12: Объем средств на финансирование подпрограммы из федерального и краевого бюджетов Российской Федерации, бюджета Пожарского муниципального округа Приморского края и средств из внебюджетных источников | C12: объем финансирования мероприятий подпрограммы из федерального и краевого бюджетов Российской Федерации составляет:
C13: всего 2023 - 2027 годы | D13: =SUM(D15:D19) -> 41670165 | E13: рублей
C14: в том числе по годам:
C15: 2023 год | D15: 15802243 | E15: рублей
C16: 2024 год | D16: 25867922 | E16: рублей
C17: 2025 год | D17: 0 | E17: рублей
C18: 2026 год | D18: =Приложение2!D17+Приложение3!D17 -> 0 | E18: рублей
C19: 2027 год | D19: =Приложение2!D18+Приложение3!D18 -> 0 | E19: рублей
C20: объем финансирования мероприятий подпрограммы из бюджета Пожарского муниципального округа Приморского края составляет:
C21: всего 2023 - 2027 годы | D21: =SUM(D23:D27) -> 606899.04 | E21: рублей
C22: в том числе по годам:
C23: 2023 год | D23: 184497.95 | E23: рублей
C24: 2024 год | D24: 422401.09 | E24: рублей
C25: 2025 год | D25: 0 | E25: рублей
C26: 2026 год | D26: =Приложение2!D25+Приложение3!D25 -> 0 | E26: рублей
C27: 2027 год | D27: =Приложение2!D26+Приложение3!D26 -> 0 | E27: рублей
C28: объем финансирования мероприятий подпрограммы средств из внебюджетных источников составляет:
C29: всего 2023 - 2027 годы | D29: =SUM(D31:D35) -> 50796702 | E29: рублей
C30: в том числе по годам:
C31: 2023 год | D31: =Приложение2!D30+Приложение3!D30 -> 0 | E31: рублей
C32: 2024 год | D32: =Приложение2!D31+Приложение3!D31 -> 0 | E32: рублей
C33: 2025 год | D33: =Приложение2!D32+Приложение3!D32 -> 18022602 | E33: рублей
C34: 2026 год | D34: =Приложение2!D33+Приложение3!D33 -> 16910430 | E34: рублей
C35: 2027 год | D35: =Приложение2!D34+Приложение3!D34 -> 15863671 | E35: рублей
B36: Ожидаемые результаты реализации муниципальной программы | C36: обеспечение комфортных и безопасных условий проживания граждан; сохранение и улучшение внешнего вида мест общего пользования и массового отдыха населения; формирование положительного имиджа Пожарского муниципального округа; повышение уровня духовного, нравственно-эстетического и физического развития жителей Пожарского муниципального округа; формирование у населения здоровоого образа жизни

Sheet Приложение9
F2: Приложение 9 к постановлению администрации Пожарского муниципального округа Приморского края от _30 июня 2023 года_ № _752-па
B4: Объем средств, необходимых на реализацию программы за счет всех источников финансирования на 2023-2027 годы
B5: Наименование | C5: Ответственный исполнитель, соисполнитель, государственный (муниципальный) заказчик-координатор, участник | D5: Источник финансирования | E5: Код бюджетной классификации | I5: Объемы бюджетных ассигнований (рублей)
E6: ГРБС | F6: Рз Пр | G6: ЦСР | H6: ВР
B7: Муниципальная программа «Формирование современной городской среды на территории Пожарского муниципального округа» на 2023-2027 годы | C7: всего в том числе: | I7: 93055029
C8: Администрация Пожарского муниципального округа | D8: Федеральный и краевой бюджеты | I8: 41670165
D9: Местный бюджет | I9: 606899.04
D10: Средства из внебюджетных источников | I10: =Приложение1!D29 -> 50796702

Sheet приложение10-1ппрограмма
E2: Приложение 10 к постановлению администрации Пожарского муниципального округа Приморского края от_30 июня 2023 года_ № _752-па
B4: Объем средств, необходимых на реализацию подпрограммы № 1 за счет всех источников финансирования на 2023-2027 годы по объектно
B6: 2023 год
B7: № п/п | C7: Наименование и адрес территории | D7: Затраты на выполнение всего (рублей) | E7: В том числе с разбивкой
E8: за счет средств федерального и краевого бюджетов Российской Федерации (рублей) | F8: за счет средств Пожарского муниципального округа (рублей)
B9: Общественные территории
B10: 1 | C10: Сквер "Детство"; местоположение установлено относительно ориентира, расположенного за пределами участка. Ориентир здание администрации. Участок находится примерно в 208 м оториентира по направлению на северо-запад. Почтовый адрес ориентира: Приморский край, Пожарский район, пгт Лучегорск, общественный центр,1; кадастровый нолмер 25:15:080103:1108 | D10: 7750785.6 | E10: =D10-F10 -> 7670177.4 | F10: =D10*1.04% -> 80608.17
B11: 2 | C11: Спортивная площадка, расположенная напротив МКД № 9 с.Светлогорье | D11: 693001.2 | E11: =D11-F11 -> 685790.78 | F11: 7210.42
C12: Итого по общественным территориям на 2023 год: | D12: =D11+D10 -> 8443786.8 | E12: =E11+E10 -> 8355968.2 | F12: =F11+F10 -> 87818.59
C13: Итого на 2023 год: | D13: =D12 -> 8443786.8 | E13: =E12 -> 8355968.2 | F13: 87818.93
B14: 2024 год
B15: Общественные территории
B16: № п/п | C16: Наименование | D16: Затраты на выполнение всего | E16: В том числе с разбивкой
D17: (рублей) | E17: за счет средств федерального и краевого бюджетов Российской Федерации (рублей) | F17: за счет средств Пожарского муниципального округа (рублей)
B18: 1 | C18: Сквер Первостроителей, расположенный примерно в 201 м от ориентира по направлению на северо-восток. Адрес: Приморский край, Пожарский район, пгт Лучегорск, Общественный центр, 1 | D18: 5100000 | E18: 4963830 | F18: 136170
B19: 2 | C19: Сквер имени лейтенанта Микуленко Евгения Николаевича, расположенный по адресу: Приморский край, Пожарский район, пгт Лучегорск, в районе домов 8, 16, 26 4 микрорайона | D19: 4450770 | E19: 4331934.5 | F19: 118 835 ,56
C20: Итого по общественным территориям на 2024 год: | D20: =D18+D19 -> 9550770 | E20: =E18+E19 -> 9295764.5 | F20: 255005.56
C21: Итого на 2024 год: | D21: =D20 -> 9550770 | E21: =E20 -> 9295764.5 | F21: =F20 -> 255005.56
B22: 2025 год
B23: Дворовые территории многоквартирных домов
B24: № п/п | C24: Наименование и адрес территории | D24: Затраты на выполнение всего | E24: В том числе с разбивкой
D25: (рублей) | E25: за счет средств федерального и краевого бюджетов Российской Федерации (рублей) | F25: за счет средств Пожарского муниципального округа (рублей) | G25: средства из внебюджетных источников (рублей)
B26: 1 | C26: Ремонт дворовой территории МКД № 16-1 микрорайона | D26: =E26+F26 -> 3017959 | E26: 3002869.2 | F26: 15089.8 | G26: 603591.8
B27: 2 | C27: Ремонт дворовой территории МКД № 2-2 микрорайона | D27: =E27+F27 -> 3850515 | E27: 3831262.4 | F27: 19252.58 | G27: 770103
B28: 3 | C28: Ремонт дворовой территории МКД № 3-3 микрорайона | D28: =E28+F28 -> 2237504.2 | E28: 2226316.7 | F28: 11187.52 | G28: 881928
B29: 4 | C29: Ремонт дворовой территории МКД № 9-3 микрорайона | D29: =E29+F29 -> 2841729 | E29: 2827520.4 | F29: 14208.64 | G29: 568345.8
B30: 5 | C30: Ремонт дворовой территории МКД № 24-3 микрорайона | D30: =E30+F30 -> 3174564.6 | E30: 3158691.8 | F30: 15872.82 | G30: 634912.92
B31: 6 | C31: Ремонт дворовой территории МКД № 1,2-1 микрорайона | D31: =E31+F31 -> 6088031 | E31: 6057590.8 | F31: 30440.15 | G31: 1217606.2
B32: 7 | C32: Ремонт дворовой территории МКД № 7-2 микрорайона | D32: =E32+F32 -> 2150000 | E32: 2139250 | F32: 10750 | G32: 430000
B33: 8 | C33: Ремонт дворовой территории МКД № 2-3 микрорайона | D33: =E33+F33 -> 4728316.6 | E33: 4704675 | F33: 23641.59 | G33: 6154616.8
B34: 9 | C34: Ремонт дворовой территории МКД № 5-3 микрорайона | D34: =E34+F34 -> 5680314 | E34: 5651912.4 | F34: 28401.57 | G34: 1136062.8
B35: 10 | C35: Ремонт дворовой территории МКД № 15-4 микрорайона | D35: =E35+F35 -> 2913896.7 | E35: 2899327.2 | F35: 14569.48 | G35: 582779.34
B36: 11 | C36: Ремонт дворовой территории МКД № 14-4 микрорайона | D36: =E36+F36 -> 4165241 | E36: 4144414.8 | F36: 20826.21 | G36: 833048.2
B37: 12 | C37: Ремонт дворовой территории МКД № 36-4 микрорайона | D37: =E37+F37 -> 7270000 | E37: 7233650 | F37: 36350 | G37: 1454000
... B41: 16 | C41: Ремонт дворовой территории МКД № 13-1 микрорайона | D41: =E41+F41 -> 3793512 | E41: 3774544.4 | F41: 18967.56 | G41: 758702.4
C42: Итого по дворовым территориям на 2025год: | D42: =SUM(D26:D41) -> 61896107 | E42: =SUM(E26:E41) -> 61586626 | F42: =SUM(F26:F41) -> 309480.53 | G42: =SUM(G26:G41) -> 18022602
C43: Итого на 2025 год: | D43: =D42 -> 61896107 | E43: =E42 -> 61586626 | F43: =F42 -> 309480.53 | G43: =G42 -> 18022602
B44: 2026 год
B45: Дворовые территории многоквартирных домов
B46: № п/п | C46: Наименование и адрес территории | D46: Затраты на выполнение всего | E46: В том числе с разбивкой
...

Sheet приложение11-2пподпрограмма
D2: Приложение №4 (подпрограмма №2)
D4: Приложение 11 к постановлению администрации Пожарского муниципального округа Приморского края от _30 июня 2023 года_ № _752-па
B5: Объем средств, необходимых на реализацию подпрограммы № 2 за счет всех источников финансирования на 2023-2027 годы по объектно
B6: 2023 год
B7: № п/п | C7: Адрес территории | D7: Затраты на выполнение всего, руб. | E7: за счет средств краевого бюджета Российской Федерации, руб. | F7: за счет средств бюджета Пожарского муниципального округа, руб.
B10: дворовые территории
B11: 1 | C11: пгт Лучегорск МКД №22 - 1 микрорайон | D11: 7521578.1 | E11: 7446274.6 | F11: 75303.55
C12: Итого по дворовым территориям | D12: =D11 -> 7521578.1 | E12: =E11 -> 7446274.6 | F12: =F11 -> 75303.55
B13: Итого на 2023 год: | D13: =D12 -> 7521578.1 | E13: =11:11 -> 7446274.6 | F13: =F12 -> 75303.55
B14: 2024 год
B15: № п/п | C15: Адрес дворовой территории | D15: Затраты на выполнение всего, руб. | E15: за счет средств краевого бюджета Российской Федерации, руб. | F15: за счет средств бюджета Пожарского муниципального округа, руб.
B18: дворовые территории
B19: 1 | C19: пгт Лучегорск МКД № 48- 4 микрорайон | D19: 1693327.9 | E19: 1567211.3 | F19: 16933.28
B20: 2 | C20: пгт Лучегорск МКД № 14 - 1 микрорайон | D20: 1937134.2 | E20: 1917762.9 | F20: 19371.34
B21: 3 | C21: с. Светлогорье МКД № 8 - 1 микрорайон | D21: 3277272.7 | E21: 3244500 | F21: 32772.73
B22: общественные территории
B23: 4 | C23: с. Верхний Перевал площадка для культурного отдыха примерно 70 м на восток от здания МОБУ СОШ № 16 ул. Школьная-2 | D23: 3277272.7 | E23: 3244500 | F23: 32772.73
B24: 5 | C24: с. Новостройка зона отдыха ул. Заводская, ориентир д.№ 4 | D24: 3277272.7 | E24: 3244500 | F24: 32772.73
B25: 6 | C25: с. Пожарское, прилегающая территория дома культуры, ориентир здание дома культуры. Участок находится примерно в 75 м от ориентира по направлению на северо-запад, Почтовый адрес: Приморский край, Пожарский район, с. Пожарское. Ул. Ленинская, 22 | D25: 3277272.7 | E25: 3244500 | F25: 32772.73
B26: Итого по общественным территориям | D26: 9831818.2 | E26: 9733500 | F26: 98318.18
B27: Итого по всем территориям | D27: 16739553 | E27: 16572158 | F27: 167395.53
B28: 2025 год
B29: 1 | C29: пгт Лучегорск МКД №10 - 3 микрорайон | D29: 2352040 | E29: =D29-F29 -> 2328519.6 | F29: =D29*1% -> 23520.4
B30: 2 | C30: пгт Лучегорск МКД №10- 4 микрорайон | D30: 2395493 | E30: =D30-F30 -> 2371538.1 | F30: =D30*1% -> 23954.93
B31: 3 | C31: пгт Лучегорск МКД №6 - 4 микрорайон | D31: 1832540 | E31: =D31-F31 -> 1814214.6 | F31: =D31*1% -> 18325.4
B32: 4 | C32: пгт Лучегорск МКД №5 - 3 микрорайон | D32: 2352446.4 | E32: =D32-F32 -> 2328921.9 | F32: =D32*1% -> 23524.464
B33: 5 | C33: пгт Лучегорск МКД №1-2 - 1 микрорайон | D33: 3534473.8 | E33: =D33-F33 -> 3499129.1 | F33: =D33*1% -> 35344.738
B34: 6 | C34: пгт Лучегорск МКД №7 - 2 микрорайон | D34: 1682922.8 | E34: =D34-F34 -> 1666093.6 | F34: =D34*1% -> 16829.228
B35: 7 | C35: пгт Лучегорск МКД №29 - 4 микрорайон | D35: 1823768 | E35: =D35-F35 -> 1805530.3 | F35: =D35*1% -> 18237.68
B36: 8 | C36: пгт Лучегорск МКД №33 - 4 микрорайон | D36: 2089461 | E36: =D36-F36 -> 2068566.4 | F36: =D36*1% -> 20894.61
B37: 9 | C37: пгт Лучегорск МКД №37 - 4 микрорайон | D37: 1826634 | E37: =D37-F37 -> 1808367.7 | F37: =D37*1% -> 18266.34
B38: 10 | C38: пгт Лучегорск МКД №2 - 3 микрорайон | D38: 1936345.7 | E38: =D38-F38 -> 1916982.2 | F38: =D38*1% -> 19363.457
B39: 11 | C39: пгт Лучегорск МКД №6 ул.Лесная | D39: 2062219.8 | E39: =D39-F39 -> 2041597.6 | F39: =D39*1% -> 20622.198
B40: 12 | C40: с. Светлогорье МКД № 3 - 1 микрорайон | D40: 3030303 | E40: 3000000 | F40: =D40*1% -> 30303.03
B41: Итого по общественным территориям | D41: 26918648 | E41: 26649461 | F41: 269186.48
B42: Итого на 2025 год: | D42: 26918648 | E42: 26649461 | F42: 269186.48
B43: 2026 год
B44: № п/п | C44: Адрес дворовой территории | D44: Затраты на выполнение всего, руб. | E44: за счет средств краевого бюджета Российской Федерации, руб. | F44: за счет средств бюджета Пожарского муниципального округа, руб.
B47: 1 | C47: пгт Лучегорск МКД №15 - 3 микрорайон | D47: 1336885.8 | E47: =D47-F47 -> 1323516.9 | F47: =D47*1% -> 13368.858
B48: 2 | C48: пгт Лучегорск МКД №7 - 1 микрорайон | D48: 1729388.9 | E48: =D48-F48 -> 1712095 | F48: =D48*1% -> 17293.889
...

Sheet Лист1
