Workbook

Sheet Приложение3
C2: Приложение 3 к постановлению от "____"_____ №___
B5: Паспорт подпрограммы № 2 «Благоустройство территорий Пожарского муниципального округа» на 2023 – 2027 годы
B6: Ответственный исполнитель муниципальной программы | C6: Администрация Пожарского муниципального округа
B7: Цель муниципальной программы | C7: повышение уровня комфортности жизнедеятельности граждан посредством благоустройства территорий Пожарского муниципального округа
B8: Задачи муниципальной программы | C8: улучшение состояния придомовых территорий; повышение уровня благоустройства общественных территорий; формирование (обустройство) детских и спортивных площадок, ремонт дворовых проездов
B9: Показатели муниципальной программы | C9: количество благоустроенных дворовых территорий, ед.; количество благоустроенных муниципальных общественных территорий, ед.; количество реализованных проектов благоустройства дворовых территорий, ед.; количество реализованных комплексных проектов благоустройства общественных территорий, ед.; количество установленных детских и спортивных площадок, ед.; количество отремонтированных дворовых проездов, ед; доля граждан, принявших участие в решении вопросов формирования комфортной городской среды, проживающих в муниципальном образовании, на территории которых реализуются проекты, %
B10: Сроки реализации муниципальной программы | C10: с 2023 года по 2027 год
B11: Объем средств на финансирование подпрограммы из краевого бюджета Российской Федерации, бюджета Пожарского муниципального округа Приморского края и средств из внебюджетных источников | C11: объем финансирования мероприятий подпрограммы из краевого бюджета Российской Федерации составляет:
C12: всего 2023 - 2027 годы | D12: =SUM(D14:D18) -> 76169017 | E12: рублей
C13: в том числе по годам:
C14: 2023 год | D14: ='приложение11-2пподпрограмма'!E31 -> 33084168 | E14: рублей
C15: 2024 год | D15: ='приложение11-2пподпрограмма'!E50 -> 17806267 | E15: рублей
C16: 2025 год | D16: ='приложение11-2пподпрограмма'!E63 -> 10622429 | E16: рублей
C17: 2026 год | D17: ='приложение11-2пподпрограмма'!E72 -> 10030140 | E17: рублей
C18: 2027 год | D18: ='приложение11-2пподпрограмма'!E81 -> 4626012.6 | E18: рублей
C19: объем финансирования мероприятий подпрограммы из бюджета Пожарского муниципального округа Приморского края составляет:
C20: всего 2023 - 2027 годы | D20: =SUM(D22:D26) -> 5348669.2 | E20: рублей
C21: в том числе по годам:
C22: 2023 год | D22: ='приложение11-2пподпрограмма'!F31 -> 334183.51 | E22: рублей
C23: 2024 год | D23: ='приложение11-2пподпрограмма'!F50 -> 179861.28 | E23: рублей
C24: 2025 год | D24: ='приложение11-2пподпрограмма'!F63 -> 107297.27 | E24: рублей
C25: 2026 год | D25: ='приложение11-2пподпрограмма'!F72 -> 101314.54 | E25: рублей
C26: 2027 год | D26: ='приложение11-2пподпрограмма'!E81 -> 4626012.6 | E26: рублей
C27: объем финансирования мероприятий подпрограммы средств из внебюджетных источников составляет:
C28: всего 2023 - 2027 годы | D28: =SUM(D48:D53) -> 0 | E28: рублей
C29: в том числе по годам:
C30: 2023 год | D30: 0 | E30: рублей
C31: 2024 год | D31: 0 | E31: рублей
C32: 2025 год | D32: 0 | E32: рублей
C33: 2026 год | D33: 0 | E33: рублей
C34: 2027 год | D34: 0 | E34: рублей
B35: Ожидаемые результаты реализации муниципальной программы | C35: обеспечение комфортных и безопасных условий проживания граждан; сохранение и улучшение внешнего вида мест общего пользования и массового отдыха населения; формирование положительного имиджа Пожарского муниципального округа; повышение уровня духовного, нравственно-эстетического и физического развития жителей Пожарского муниципального округа; формирование у населения здорового образа жизни

Sheet Приложение2
C2: Приложение 2 к постановлению от "____"_____ №___
B5: Паспорт подпрограммы № 1 «Формирование современной городской среды Пожарского муниципального округа» на 2023-2027 годы
B6: Ответственный исполнитель муниципальной программы | C6: Администрация Пожарского муниципального округа
B7: Цель муниципальной программы | C7: повышение уровня комфортности жизнедеятельности граждан Пожарского муниципального округа посредством благоустройства территорий
B8: Задачи муниципальной программы | C8: улучшение состояния придомовых территорий; повышение уровня благоустройства общественных территорий; формирование (обустройство) мест массового отдыха населения (городских парков); формирование (обустройство) детских и спортивных площадок
B9: Показатели муниципальной программы | C9: количество благоустроенных дворовых территорий, ед.; количество благоустроенных муниципальных общественных территорий, ед.; количество благоустроенных мест массового отдыха населения (городских парков), ед.; количество реализованных проектов благоустройства дворовых территорий, ед.; количество реализованных комплексных проектов благоустройства общественных территорий, ед.; количество установленных детских и спортивных площадок, ед.; доля граждан, принявших участие в решении вопросов формирования комфортной городской среды от общего количества граждан в возрасте от 14 лет, проживающих в муниципальных образованиях, на территории которых реализуются проекты по созданию комфортной городской среды, %
B10: Сроки реализации муниципальной программы | C10: с 2023 года по 2027 год
B11: Объем средств на финансирование подпрограммы из федерального и краевого бюджетов Российской Федерации, бюджета Пожарского муниципального округа Приморского края и средств из внебюджетных источников | C11: объем финансирования мероприятий подпрограммы из федерального и краевого бюджетов Российской Федерации составляет:
C12: всего 2023 - 2027 годы | D12: =SUM(D14:D18) -> 2.4702795e+08 | E12: рублей
C13: в том числе по годам:
C14: 2023 год | D14: ='приложение10-1ппрограмма'!E12 -> 12646652 | E14: рублей
C15: 2024 год | D15: ='приложение10-1ппрограмма'!E20 -> 9743522.7 | E15: рублей
C16: 2025 год | D16: ='приложение10-1ппрограмма'!E42 -> 61586626 | E16: рублей
C17: 2026 год | D17: ='приложение10-1ппрограмма'!E64 -> 84129387 | E17: рублей
C18: 2027 год | D18: ='приложение10-1ппрограмма'!E86 -> 78921762 | E18: рублей
C19: объем финансирования мероприятий подпрограммы из бюджета Пожарского муниципального округа Приморского края составляет:
C20: всего 2023 - 2027 годы | D20: =SUM(D22:D26) -> 1241346.5 | E20: рублей
C21: в том числе по годам:
C22: 2023 год | D22: ='приложение10-1ппрограмма'!D12-'приложение10-1ппрограмма'!E12 -> 63551.015 | E22: рублей
C23: 2024 год | D23: ='приложение10-1ппрограмма'!D20-'приложение10-1ппрограмма'!E20 -> 48962.426 | E23: рублей
C24: 2025 год | D24: ='приложение10-1ппрограмма'!F42 -> 309480.53 | E24: рублей
C25: 2026 год | D25: ='приложение10-1ппрограмма'!F64 -> 422760.74 | E25: рублей
C26: 2027 год | D26: ='приложение10-1ппрограмма'!F86 -> 396591.77 | E26: рублей
C27: объем финансирования мероприятий подпрограммы средств из внебюджетных источников составляет:
C28: всего 2023 - 2027 годы | D28: =SUM(D30:D34) -> 50796702 | E28: рублей
C29: в том числе по годам:
C30: 2023 год | D30: 0 | E30: рублей
C31: 2024 год | D31: 0 | E31: рублей
C32: 2025 год | D32: ='приложение10-1ппрограмма'!G42 -> 18022602 | E32: рублей
C33: 2026 год | D33: ='приложение10-1ппрограмма'!G64 -> 16910430 | E33: рублей
C34: 2027 год | D34: ='приложение10-1ппрограмма'!G86 -> 15863671 | E34: рублей
B35: Ожидаемые результаты реализации муниципальной программы | C35: обеспечение комфортных и безопасных условий проживания граждан; сохранение и улучшение внешнего вида мест общего пользования и массового отдыха населения; формирование положительного имиджа Пожарского муниципального округа; повышение уровня духовного, нравственно-эстетического и физического развития жителей Пожарского муниципального округа; формирование у населения здорового образа жизни

Sheet Приложение1
C2: Приложение 1 к постановлению от "____"_____ №___
B4: Паспорт муниципальной программы «Формирование современной городской среды Пожарского муниципального округа» на 2023-2027годы
B6: Ответственный исполнитель муниципальной программы | C6: Администрация Пожарского муниципального округа
B7: Структура муниципальной программы | C7: подпрограмма № 1 «Формирование современной городской среды Пожарского муниципального округа» на 2023 – 2027 годы; информация о паспорте подпрограммы приведена в приложении № 2 к муниципальной программе «Формирование современной городской среды Пожарского муниципального округа» на 2023 – 2027 годы (далее – муниципальная программа); подпрограмма № 2 «Благоустройство территорий Пожарского муниципального округа» на 2023 – 2027 годы; информация о паспорте подпрограммы приведена в приложении № 3 к муниципальной программе
B8: Цель муниципальной программы | C8: повышение уровня комфортности жизнедеятельности граждан посредством благоустройства территорий Пожарского муниципального округа
B9: Задачи муниципальной программы | C9: улучшение состояния придомовых территорий; повышение уровня благоустройства общественных территорий ; формирование (обустройство) мест массового отдыха населения (городских парков); формирование (обустройство) детских и спортивных площадок
B10: Показатели муниципальной программы | C10: количество благоустроенных дворовых территорий, ед.; количество благоустроенных муниципальных общественных территорий, ед.; количество благоустроенных мест массового отдыха населения (городских парков), ед.; количество реализованных проектов благоустройства дворовых территорий, ед.; количество реализованных комплексных проектов благоустройства общественных территорий, ед.; количество установленных детских и спортивных площадок, ед.; доля граждан, принявших участие в решении вопросов формирования комфортной городской среды от общего количества граждан в возрасте от 14 лет, проживающих в муниципальных образованиях, на территории которых реализуются проекты по созданию комфортной городской среды, %
B11: Сроки реализации муниципальной программы | C11: с 2023 года по 2027 год
B12: Объем средств на финансирование подпрограммы из федерального и краевого бюджетов Российской Федерации, бюджета Пожарского муниципального округа Приморского края и средств из внебюджетных источников | C12: объем финансирования мероприятий подпрограммы из федерального и краевого бюджетов Российской Федерации составляет:
C13: всего 2023 - 2027 годы | D13: =SUM(D15:D19) -> 3.2319697e+08 | E13: рублей
C14: в том числе по годам:
C15: 2023 год | D15: =Приложение2!D14+Приложение3!D14 -> 45730820 | E15: рублей
C16: 2024 год | D16: =Приложение2!D15+Приложение3!D15 -> 27549790 | E16: рублей
C17: 2025 год | D17: =Приложение2!D16+Приложение3!D16 -> 72209056 | E17: рублей
C18: 2026 год | D18: =Приложение2!D17+Приложение3!D17 -> 94159527 | E18: рублей
C19: 2027 год | D19: =Приложение2!D18+Приложение3!D18 -> 83547775 | E19: рублей
C20: объем финансирования мероприятий подпрограммы из бюджета Пожарского муниципального округа Приморского края составляет:
C21: всего 2023 - 2027 годы | D21: =SUM(D23:D27) -> 6590015.7 | E21: рублей
C22: в том числе по годам:
C23: 2023 год | D23: =Приложение2!D22+Приложение3!D22 -> 397734.53 | E23: рублей
C24: 2024 год | D24: =Приложение2!D23+Приложение3!D23 -> 228823.71 | E24: рублей
C25: 2025 год | D25: =Приложение2!D24+Приложение3!D24 -> 416777.8 | E25: рублей
C26: 2026 год | D26: =Приложение2!D25+Приложение3!D25 -> 524075.28 | E26: рублей
C27: 2027 год | D27: =Приложение2!D26+Приложение3!D26 -> 5022604.4 | E27: рублей
C28: объем финансирования мероприятий подпрограммы средств из внебюджетных источников составляет:
C29: всего 2023 - 2027 годы | D29: =SUM(D31:D35) -> 50796702 | E29: рублей
C30: в том числе по годам:
C31: 2023 год | D31: =Приложение2!D30+Приложение3!D30 -> 0 | E31: рублей
C32: 2024 год | D32: =Приложение2!D31+Приложение3!D31 -> 0 | E32: рублей
C33: 2025 год | D33: =Приложение2!D32+Приложение3!D32 -> 18022602 | E33: рублей
C34: 2026 год | D34: =Приложение2!D33+Приложение3!D33 -> 16910430 | E34: рублей
C35: 2027 год | D35: =Приложение2!D34+Приложение3!D34 -> 15863671 | E35: рублей
B36: Ожидаемые результаты реализации муниципальной программы | C36: обеспечение комфортных и безопасных условий проживания граждан; сохранение и улучшение внешнего вида мест общего пользования и массового отдыха населения; формирование положительного имиджа Пожарского муниципального округа; повышение уровня духовного, нравственно-эстетического и физического развития жителей Пожарского муниципального округа; формирование у населения здоровоого образа жизни

Sheet Приложение9
F2: Приложение 9 к постановлению от "____"_____ №___
B4: Объем средств, необходимых на реализацию программы за счет всех источников финансирования на 2023-2027 годы
B5: Наименование | C5: Ответственный исполнитель, соисполнитель, государственный (муниципальный) заказчик-координатор, участник | D5: Источник финансирования | E5: Код бюджетной классификации | I5: Объемы бюджетных ассигнований (рублей)
E6: ГРБС | F6: Рз Пр | G6: ЦСР | H6: ВР
B7: Муниципальная программа «Формирование современной городской среды на территории Пожарского муниципального округа» на 2023-2027 годы | C7: всего в том числе: | I7: =I8+I9+I10 -> 3.8058368e+08
C8: Администрация Пожарского муниципального округа | D8: Федеральный и краевой бюджеты | I8: =Приложение1!D13 -> 3.2319697e+08
D9: Местный бюджет | I9: =Приложение1!D21 -> 6590015.7
D10: Средства из внебюджетных источников | I10: =Приложение1!D29 -> 50796702

Sheet приложение10-1ппрограмма
E1: Приложение 10 к постановлению от "____"_____ №___
B3: Объем средств, необходимых на реализацию подпрограммы № 1 за счет всех источников финансирования на 2018-2024 годы по объектно
B5: 2023 год
B6: № п/п | C6: Наименование и адрес территории | D6: Затраты на выполнение всего (рублей) | E6: В том числе с разбивкой
E7: за счет средств федерального и краевого бюджетов Российской Федерации (рублей) | F7: за счет средств Пожарского муниципального округа (рублей)
B8: Общественные территории
B9: 1 | C9: Сквер "Детство"; местоположение установлено относительно ориентира, расположенного за пределами участка. Ориентир здание администрации. Участок находится примерно в 208 м оториентира по направлению на северо-запад. Почтовый адрес ориентира: Приморский край, Пожарский район, пгт Лучегорск, общественный центр,1; кадастровый нолмер 25:15:080103:1108 | D9: 11808025 | E9: =D9-F9 -> 11748985 | F9: =D9*0.5% -> 59040.125
B10: 2 | C10: Спортивная площадка, расположенная напротив МКД № 9 с.Светлогорье | D10: 902177.6 | E10: =D10-F10 -> 897666.71 | F10: 4510.89
C11: Итого по общественным территориям на 2023 год: | D11: =D10+D9 -> 12710203 | E11: =E10+E9 -> 12646652 | F11: =F10+F9 -> 63551.015
C12: Итого на 2023 год: | D12: =D11 -> 12710203 | E12: =E11 -> 12646652 | F12: =F11 -> 63551.015
B13: 2024 год
B14: Общественные территории
B15: № п/п | C15: Наименование | D15: Затраты на выполнение всего | E15: В том числе с разбивкой
D16: (рублей) | E16: за счет средств федерального и краевого бюджетов Российской Федерации (рублей) | F16: за счет средств Пожарского муниципального округа (рублей)
B17: 1 | C17: Парк Энергетиков пгт Лучегорск 4 микрорайон | D17: 8790066 | E17: =D17-F17 -> 8746115.7 | F17: =D17*0.5% -> 43950.33
B18: 2 | C18: Детская площадка, расположенная напротив МКД №3, с.Светлогорье | D18: 1002419.2 | E18: =D18-F18 -> 997407.06 | F18: =D18*0.5% -> 5012.0958
C19: Итого по общественным территориям на 2024 год: | D19: =D17+D18 -> 9792485.2 | E19: =E17+E18 -> 9743522.7 | F19: =F17+F18 -> 48962.426
C20: Итого на 2024 год: | D20: =D19 -> 9792485.2 | E20: =E19 -> 9743522.7 | F20: =F19 -> 48962.426
B21: 2025 год
B22: Дворовые территории многоквартирных домов
B23: № п/п | C23: Наименование и адрес территории | D23: Затраты на выполнение всего | E23: В том числе с разбивкой
D24: (рублей) | E24: за счет средств федерального и краевого бюджетов Российской Федерации (рублей) | F24: за счет средств Пожарского муниципального округа (рублей) | G24: средства из внебюджетных источников (рублей)
B25: 1 | C25: Ремонт дворовой территории МКД № 16-1 микрорайона | D25: =E25+F25 -> 3017959 | E25: 3002869.2 | F25: 15089.8 | G25: 603591.8
B26: 2 | C26: Ремонт дворовой территории МКД № 2-2 микрорайона | D26: =E26+F26 -> 3850515 | E26: 3831262.4 | F26: 19252.58 | G26: 770103
B27: 3 | C27: Ремонт дворовой территории МКД № 3-3 микрорайона | D27: =E27+F27 -> 2237504.2 | E27: 2226316.7 | F27: 11187.52 | G27: 881928
B28: 4 | C28: Ремонт дворовой территории МКД № 9-3 микрорайона | D28: =E28+F28 -> 2841729 | E28: 2827520.4 | F28: 14208.64 | G28: 568345.8
B29: 5 | C29: Ремонт дворовой территории МКД № 24-3 микрорайона | D29: =E29+F29 -> 3174564.6 | E29: 3158691.8 | F29: 15872.82 | G29: 634912.92
B30: 6 | C30: Ремонт дворовой территории МКД № 1,2-1 микрорайона | D30: =E30+F30 -> 6088031 | E30: 6057590.8 | F30: 30440.15 | G30: 1217606.2
B31: 7 | C31: Ремонт дворовой территории МКД № 7-2 микрорайона | D31: =E31+F31 -> 2150000 | E31: 2139250 | F31: 10750 | G31: 430000
B32: 8 | C32: Ремонт дворовой территории МКД № 2-3 микрорайона | D32: =E32+F32 -> 4728316.6 | E32: 4704675 | F32: 23641.59 | G32: 6154616.8
B33: 9 | C33: Ремонт дворовой территории МКД № 5-3 микрорайона | D33: =E33+F33 -> 5680314 | E33: 5651912.4 | F33: 28401.57 | G33: 1136062.8
B34: 10 | C34: Ремонт дворовой территории МКД № 15-4 микрорайона | D34: =E34+F34 -> 2913896.7 | E34: 2899327.2 | F34: 14569.48 | G34: 582779.34
B35: 11 | C35: Ремонт дворовой территории МКД № 14-4 микрорайона | D35: =E35+F35 -> 4165241 | E35: 4144414.8 | F35: 20826.21 | G35: 833048.2
B36: 12 | C36: Ремонт дворовой территории МКД № 36-4 микрорайона | D36: =E36+F36 -> 7270000 | E36: 7233650 | F36: 36350 | G36: 1454000
... B40: 16 | C40: Ремонт дворовой территории МКД № 13-1 микрорайона | D40: =E40+F40 -> 3793512 | E40: 3774544.4 | F40: 18967.56 | G40: 758702.4
C41: Итого по дворовым территориям на 2025год: | D41: =SUM(D25:D40) -> 61896107 | E41: =SUM(E25:E40) -> 61586626 | F41: =SUM(F25:F40) -> 309480.53 | G41: =SUM(G25:G40) -> 18022602
C42: Итого на 2025 год: | D42: =D41 -> 61896107 | E42: =E41 -> 61586626 | F42: =F41 -> 309480.53 | G42: =G41 -> 18022602
B43: 2026 год
B44: Дворовые территории многоквартирных домов
B45: № п/п | C45: Наименование и адрес территории | D45: Затраты на выполнение всего | E45: В том числе с разбивкой
...

Sheet приложение11-2пподпрограмма
D2: Приложение №4 (подпрограмма №2)
D3: Приложение 11 к постановлению от "____"_____ №___
B4: Объем средств, необходимых на реализацию подпрограммы № 2 за счет всех источников финансирования на 2023-2027 годы по объектно
B5: 2023 год
B6: № п/п | C6: Адрес территории | D6: Затраты на выполнение всего, руб. | E6: за счет средств краевого бюджета Российской Федерации, руб. | F6: за счет средств бюджета Пожарского муниципального округа, руб.
B9: дворовые территории
B10: 1 | C10: пгт Лучегорск МКД №48 - 4 микрорайон | D10: 1294969 | E10: =D10-F10 -> 1282019.3 | F10: =D10*1% -> 12949.69
B11: 2 | C11: пгт Лучегорск МКД №14 - 1 микрорайон | D11: 1545452 | E11: =D11-F11 -> 1529997.5 | F11: =D11*1% -> 15454.52
B12: 3 | C12: пгт Лучегорск МКД №10 - 3 микрорайон | D12: 2352040 | E12: =D12-F12 -> 2328519.6 | F12: =D12*1% -> 23520.4
B13: 4 | C13: пгт Лучегорск МКД №10- 4 микрорайон | D13: 2395493 | E13: =D13-F13 -> 2371538.1 | F13: =D13*1% -> 23954.93
B14: 5 | C14: пгт Лучегорск МКД №6 - 4 микрорайон | D14: 1832540 | E14: =D14-F14 -> 1814214.6 | F14: =D14*1% -> 18325.4
B15: 6 | C15: пгт Лучегорск МКД №5 - 3 микрорайон | D15: 2352446.4 | E15: =D15-F15 -> 2328921.9 | F15: =D15*1% -> 23524.464
B16: 7 | C16: с. Светлогорье МКД №8 - 1 микрорайон | D16: 3030303 | E16: =D16-F16 -> 3000000 | F16: =D16*1% -> 30303.03
C17: Итого по дворовым территориям | D17: =SUM(D10:D16) -> 14803243 | E17: =SUM(E10:E16) -> 14655211 | F17: =SUM(F10:F16) -> 148032.43
B18: общественные территории
B19: 8 | C19: с. Красный Яр сквер ул.Ленинская д.28 | D19: 1250000 | E19: =D19-F19 -> 1237500 | F19: =D19*1% -> 12500
B20: 9 | C20: с. Красный Яр с территория общего пользования ул.Бесхмельницына | D20: 750000 | E20: =D20-F20 -> 742500 | F20: =D20*1% -> 7500
B21: 10 | C21: с. Красный Яр территория общего пользования ул.И.Мунова | D21: 500000 | E21: =D21-F21 -> 495000 | F21: =D21*1% -> 5000
B22: 11 | C22: с. Верхний перевал площадка для культурного отдыха | D22: 3030303 | E22: =D22-F22 -> 3000000 | F22: =D22*1% -> 30303.03
B23: 12 | C23: с.Новостройка территория общего пользования ул.Заводская, ориентир д.№ 4 | D23: 3030303 | E23: =D23-F23 -> 3000000 | F23: =D23*1% -> 30303.03
B24: 13 | C24: с. Игнатьевка ул.Советская, д.11 | D24: 1857000 | E24: =D24-F24 -> 1838430 | F24: =D24*1% -> 18570
B25: 14 | C25: с. Ласточка ул.Советская, д.17 | D25: 1857000 | E25: =D25-F25 -> 1838430 | F25: =D25*1% -> 18570
B26: 15 | C26: с. Соболиный территория общего пользования ул. Родниковая д.4 | D26: 1294969 | E26: =D26-F26 -> 1282019.3 | F26: =D26*1% -> 12949.69
B27: 16 | C27: с. Ясенево территория общего пользования ул. Школьная д.1 | D27: 1294969 | E27: =D27-F27 -> 1282019.3 | F27: =D27*1% -> 12949.69
B28: 17 | C28: с. Федосьевка ул.Партизанская, д.21 | D28: 1857000 | E28: =D28-F28 -> 1838430 | F28: =D28*1% -> 18570
B29: 18 | C29: с.Федосьевка территория общего пользования ул. Советская д.29 | D29: 1893564 | E29: =D29-F29 -> 1874628.4 | F29: =D29*1% -> 18935.64
C30: Итого по общественным территориям | D30: =SUM(D19:D29) -> 18615108 | E30: =SUM(E19:E29) -> 18428957 | F30: =SUM(F19:F29) -> 186151.08
B31: Итого на 2023 год: | D31: =D17+D30 -> 33418351 | E31: =E17+E30 -> 33084168 | F31: =F17+F30 -> 334183.51
B32: 2024 год
C33: Адрес дворовой территории | D33: Затраты на выполнение всего, руб. | E33: за счет средств краевого бюджета Российской Федерации, руб. | F33: за счет средств бюджета Пожарского муниципального округа, руб.
B36: дворовые территории
B37: 1 | C37: пгт Лучегорск МКД №1-2 - 1 микрорайон | D37: 3534473.8 | E37: =D37-F37 -> 3499129.1 | F37: =D37*1% -> 35344.738
B38: 2 | C38: пгт Лучегорск МКД №7 - 2 микрорайон | D38: 1682922.8 | E38: =D38-F38 -> 1666093.6 | F38: =D38*1% -> 16829.228
B39: 3 | C39: пгт Лучегорск МКД №29 - 4 микрорайон | D39: 1823768 | E39: =D39-F39 -> 1805530.3 | F39: =D39*1% -> 18237.68
B40: 4 | C40: пгт Лучегорск МКД №33 - 4 микрорайон | D40: 2089461 | E40: =D40-F40 -> 2068566.4 | F40: =D40*1% -> 20894.61
B41: 5 | C41: пгт Лучегорск МКД №37 - 4 микрорайон | D41: 1826634 | E41: =D41-F41 -> 1808367.7 | F41: =D41*1% -> 18266.34
B42: 6 | C42: пгт Лучегорск МКД №2 - 3 микрорайон | D42: 1936345.7 | E42: =D42-F42 -> 1916982.2 | F42: =D42*1% -> 19363.457
B43: 7 | C43: пгт Лучегорск МКД №6 ул.Лесная | D43: 2062219.8 | E43: =D43-F43 -> 2041597.6 | F43: =D43*1% -> 20622.198
B44: 8 | C44: с. Светлогорье МКД №3 - 1 микрорайон | D44: 3030303 | E44: =D44-F44 -> 3000000 | F44: =D44*1% -> 30303.03
C45: Итого по дворовым территориям | D45: =SUM(D37:D44) -> 17986128 | E45: =SUM(E37:E44) -> 17806267 | F45: =SUM(F37:F44) -> 179861.28
...
