Workbook

Sheet Приложение 1 (ОТЧЕТНЫЙ ПЕРИОД)
N1: Приложение 1
A2: ИНФОРМАЦИЯ по показателям и мероприятиям дорожных карт по достижению показателей Указа Президента Российской Федерации от 07.05.2018 № 204 Пожарский муниципальный район | K2: ИТОГОВЫЙ ОТЧЕТ на 27.01.2020 форма предоставления информации
A3: № п.п. | B3: Наименование показателя | C3: Базовое значение | E3: Значение показателя/ потребность в финансировании, млн. рублей | J3: Примечание. Сумма контракта, дата заключения контракта, поставщик, дата завершения работ по контракту. Дата внесения изменений в план-график, планируемая дата начала конкурсных процедур, планируемая дата заключения контракта. Для контрактов на подписании - дата завершения конкурсных процедур, сумма контракта, поставщик, планируемая дата заключения контракта, дата завершения работ по контракту. | K3: Значение показателя/ потребность в финансировании, млн. рублей | N3: ВСЕГО 2019-2024
B4: Пожарский муниципальный район | C4: Значение/ года | D4: Дата / вид бюджета | E4: 2019 г. (план в соответствии с бюджетом) | F4: сумма подписанного контракта по мероприятию | G4: профинанси-ровано (кассовый расход) /исполнение на 27.01.2020 | H4: 2020 г. (план в соответствии с бюджетом) | I4: 2021 г. (план в соответствии с бюджетом) | K4: 2022 г. | L4: 2023 г. | M4: 2024 г.
B5: ВСЕГО | D5: Всего | E5: =E6+E7+E8 -> 140.70178 | F5: =F6+F7+F8 -> 140.70178 | G5: =G6+G7+G8 -> 129.99178 | H5: =H6+H7+H8 -> 766.0815 | I5: =I6+I7+I8 -> 458.36633 | K5: =K6+K7+K8 -> 128.12 | L5: =L6+L7+L8 -> 118.16 | M5: =M6+M7+M8 -> 47.75 | N5: =N6+N7+N8 -> 1659.1796
D6: федер. бюджет | E6: =E11+E687 -> 17.52 | F6: =F11+F687 -> 17.52 | G6: =G11+G687 -> 17.52 | H6: =H11+H687 -> 302.936 | I6: =I11+I687 -> 329.34 | K6: =K11+K687 -> 0 | L6: =L11+L687 -> 0 | M6: =M11+M687 -> 0 | N6: =N11+N687 -> 649.796
D7: краевой бюджет | E7: =E12+E688 -> 112.25806 | F7: =F12+F688 -> 112.25806 | G7: =G12+G688 -> 102.28306 | H7: =H12+H688 -> 452.7955 | I7: =I12+I688 -> 115.32633 | K7: =K12+K688 -> 94.48 | L7: =L12+L688 -> 84.46 | M7: =M12+M688 -> 34.46 | N7: =N12+N688 -> 893.77989
D8: бюджет МО | E8: =E13+E689 -> 10.92372 | F8: =F13+F689 -> 10.92372 | G8: =G13+G689 -> 10.18872 | H8: =H13+H689 -> 10.35 | I8: =I13+I689 -> 13.7 | K8: =K13+K689 -> 33.64 | L8: =L13+L689 -> 33.7 | M8: =M13+M689 -> 13.29 | N8: =N13+N689 -> 115.60372
B10: Всего по мероприятиям национальных проектов | D10: Всего | E10: =SUM(E11:E13) -> 140.70178 | F10: =SUM(F11:F13) -> 140.70178 | G10: =SUM(G11:G13) -> 129.99178 | H10: =SUM(H11:H13) -> 766.0815 | I10: =SUM(I11:I13) -> 458.36633 | K10: =SUM(K11:K13) -> 128.12 | L10: =SUM(L11:L13) -> 118.16 | M10: =SUM(M11:M13) -> 47.75 | N10: =SUM(N11:N13) -> 1659.1796
D11: федер. бюджет | E11: =E117+E155+E392+E429+E470+E519+E548+E577+E600+E632+E648+E677 -> 17.52 | F11: =F117+F155+F392+F429+F470+F519+F548+F577+F600+F632+F648+F677 -> 17.52 | G11: =G117+G155+G392+G429+G470+G519+G548+G577+G600+G632+G648+G677 -> 17.52 | H11: =H117+H155+H392+H429+H470+H519+H548+H577+H600+H632+H648+H677 -> 302.936 | I11: =I117+I155+I392+I429+I470+I519+I548+I577+I600+I632+I648+I677 -> 329.34 | K11: =K117+K155+K392+K429+K470+K519+K548+K577+K600+K632+K648+K677 -> 0 | L11: =L117+L155+L392+L429+L470+L519+L548+L577+L600+L632+L648+L677 -> 0 | M11: =M117+M155+M392+M429+M470+M519+M548+M577+M600+M632+M648+M677 -> 0 | N11: =E11+H11+I11+K11+L11+M11 -> 649.796
D12: краевой бюджет | E12: =E118+E156+E393+E430+E471+E520+E549+E578+E601+E633+E649+E678 -> 112.25806 | F12: =F118+F156+F393+F430+F471+F520+F549+F578+F601+F633+F649+F678 -> 112.25806 | G12: =G118+G156+G393+G430+G471+G520+G549+G578+G601+G633+G649+G678 -> 102.28306 | H12: =H118+H156+H393+H430+H471+H520+H549+H578+H601+H633+H649+H678 -> 452.7955 | I12: =I118+I156+I393+I430+I471+I520+I549+I578+I601+I633+I649+I678 -> 115.32633 | K12: =K118+K156+K393+K430+K471+K520+K549+K578+K601+K633+K649+K678 -> 94.48 | L12: =L118+L156+L393+L430+L471+L520+L549+L578+L601+L633+L649+L678 -> 84.46 | M12: =M118+M156+M393+M430+M471+M520+M549+M578+M601+M633+M649+M678 -> 34.46 | N12: =E12+H12+I12+K12+L12+M12 -> 893.77989
D13: бюджет МО | E13: =E119+E157+E394+E431+E472+E521+E550+E579+E602+E634+E650+E679 -> 10.92372 | F13: =F119+F157+F394+F431+F472+F521+F550+F579+F602+F634+F650+F679 -> 10.92372 | G13: =G119+G157+G394+G431+G472+G521+G550+G579+G602+G634+G650+G679 -> 10.18872 | H13: =H119+H157+H394+H431+H472+H521+H550+H579+H602+H634+H650+H679 -> 10.35 | I13: =I119+I157+I394+I431+I472+I521+I550+I579+I602+I634+I650+I679 -> 13.7 | K13: =K119+K157+K394+K431+K472+K521+K550+K579+K602+K634+K650+K679 -> 33.64 | L13: =L119+L157+L394+L431+L472+L521+L550+L579+L602+L634+L650+L679 -> 33.7 | M13: =M119+M157+M394+M431+M472+M521+M550+M579+M602+M634+M650+M679 -> 13.29 | N13: =E13+H13+I13+K13+L13+M13 -> 115.60372
E15: I. | F15: ДЕМОГРАФИЯ
A16: Проект 2. Содействие занятости женщин - создание условий дошкольного образования для детей в возрасте до трех лет
A17: 1 | B17: Численность воспитанников в возрасте до трех лет, посещающих государственные и муниципальные организации, осуществляющие образовательную деятельность по образовательным программам дошкольного образования, присмотр и уход, человек | C17: 10120 | D17: 43101 | E17: 10294 | H17: 10673 | I17: 11395 | K17: 11445 | L17: 11450 | M17: 11450
B18: Пожарский муниципальный район | C18: 296 | D18: 43101 | E18: 300 | G18: 260 | H18: 320 | I18: 325 | J18: В 15 образовательных учреждениях воспитываются 260 детей в возрасте до 3-х лет | K18: 350 | L18: 350 | M18: 350
A19: 2 | B19: Доступность дошкольного образования для детей в возрасте от полутора до трех лет, % | C19: 94.7 | D19: 43101 | E19: 95 | H19: 97 | I19: 100 | K19: 100 | L19: 100 | M19: 100
B20: Пожарский муниципальный район | C20: 100 | D20: 43101 | E20: 100 | G20: 100 | H20: 100 | I20: 100 | J20: ПОКАЗАТЕЛЬ ВЫПОЛНЕН. В Пожарском муниципальном районе отсутствует очередь для детей в возрасте от 1,5 до 3-х лет. | K20: 100 | L20: 100 | M20: 100
B21: Меропиятия | C21: Потребность в финансировании, млн. рублей
A22: 1 | B22: Сохранение сети действующих бюджетных организации, осуществляющих образовательную деятельность по образовательным программам дошкольного образования, присмотра и ухода за детьми | D22: всего | E22: =SUM(E23:E25) -> 0 | F22: =SUM(F23:F25) -> 0 | G22: =SUM(G23:G25) -> 0 | H22: =SUM(H23:H25) -> 0 | I22: =SUM(I23:I25) -> 0 | J22: На территории Пожарского муниципального района сохранена сеть дошкольных учреждений. Действуют 10 детских дошкольных учреждений и 5 дошкольных групп при школах, которые посещает 1,4 тыс. детей | K22: =SUM(K23:K25) -> 0 | L22: =SUM(L23:L25) -> 0 | M22: =SUM(M23:M25) -> 0 | N22: =E22+H22+I22+K22+L22+M22 -> 0
D23: федер. бюджет | N23: =E23+H23+I23+K23+L23+M23 -> 0
D24: краевой бюджет | N24: =E24+H24+I24+K24+L24+M24 -> 0
D25: бюджет МО | N25: =E25+H25+I25+K25+L25+M25 -> 0
A26: Проект 5. Создание для всех категорий и групп населения условий для занятости физической культурой и спортом, массовым спортом, в том числе повышение уровня обеспеченности населения объектами спорта, а также подготовка спортивного резерва
A27: 1 | B27: Доля детей и молодёжи (возраст 3-29 лет), систематически занимающихся физической культурой и спортом, % | C27: 67.7 | D27: 12.2017 | E27: 74.9 | H27: 78.8 | I27: 80.5 | K27: 81 | L27: 83.9 | M27: 86
B28: Пожарский муниципальный район | C28: 18.3 | D28: 12.2017 | E28: 25 | G28: 67.1 | H28: 40 | I28: 46 | J28: ПОКАЗАТЕЛЬ ВЫПОЛНЕН | K28: 55 | L28: 60 | M28: 86
A29: 2 | B29: Доля граджан среднего возраста (женщины 30-54 года, мужчины 30-59 лет), систематически занимающихся физической культурой и спортом, % | C29: 23.59 | D29: 12.2017 | E29: 25.7 | H29: 31.7 | I29: 34.4 | K29: 42 | L29: 48 | M29: 56
B30: Пожарский муниципальный район | C30: 3.53 | D30: 12.2017 | E30: 15 | G30: 30.1 | H30: 35 | I30: 40 | J30: ПОКАЗАТЕЛЬ ВЫПОЛНЕН | K30: 45 | L30: 50 | M30: 56
A31: 3 | B31: Доля граджан старшего возраста (женщины 55-79 лет, мужчины 60-79 лет), систематически занимающихся физической культурой и спортом, % | C31: 4.77 | D31: 12.2017 | E31: 4.6 | H31: 6.6 | I31: 8.8 | K31: 11.8 | L31: 14.3 | M31: 18
B32: Пожарский муниципальный район | C32: 3.37 | D32: 12.2017 | E32: 4 | G32: 6.1 | H32: 4.4 | I32: 8.8 | J32: ПОКАЗАТЕЛЬ ВЫПОЛНЕН | K32: 11.8 | L32: 14.3 | M32: 18
A33: 4 | B33: Уровень обеспеченности граждан спортивными сооружениями исходя из единовременной пропускной способности объектов спорта,% | C33: 34.8 | D33: 12.2017 | E33: 52 | H33: 55.6 | I33: 56.1 | K33: 57.6 | L33: 59.1 | M33: 60.6
B34: Пожарский муниципальный район | C34: 54.44 | D34: 12.2017 | E34: 55.683322 | G34: 60.6 | H34: 55.7 | I34: 55.7 | J34: ПОКАЗАТЕЛЬ ВЫПОЛНЕН | K34: 55.8 | L34: 55.9 | M34: 60
B35: Меропиятия | C35: Потребность в финансировании, млн. рублей
A36: 1 | B36: Плоскостное спортивное сооружение. Крытая спортивная площадка (атлетический павильон) для гимнастических упражнений, Соболинское сельское поселение | D36: всего | E36: =SUM(E37:E39) -> 1.762172 | F36: =SUM(F37:F39) -> 1.762172 | G36: =SUM(G37:G39) -> 1.762172 | H36: =SUM(H37:H39) -> 0 | I36: =SUM(I37:I39) -> 0 | J36: 08.11.2019 г. площадка сдана в эксплуатацию, 07.12.2019 г. прошло торжественное открытие площадки. Все обязательства по контракту выполнены в полном объёме. Работы оплачены. | K36: =SUM(K37:K39) -> 0 | L36: =SUM(L37:L39) -> 0 | M36: =SUM(M37:M39) -> 0 | N36: =E36+H36+I36+K36+L36+M36 -> 1.762172
D37: федер. бюджет | N37: =E37+H37+I37+K37+L37+M37 -> 0
D38: краевой бюджет | E38: 1.74455 | F38: 1.74455 | G38: 1.74455 | N38: =E38+H38+I38+K38+L38+M38 -> 1.74455
D39: бюджет МО | E39: 0.017622 | F39: 0.017622 | G39: 0.017622 | N39: =E39+H39+I39+K39+L39+M39 -> 0.017622
A40: 2 | B40: Строительство хоккейной коробки в пгт Лучегорск, МОБУ СОШ № 4 | D40: всего | E40: =SUM(E41:E43) -> 2.43775 | F40: =SUM(F41:F43) -> 2.43775 | G40: =SUM(G41:G43) -> 2.43775 | H40: =SUM(H41:H43) -> 0 | I40: =SUM(I41:I43) -> 0 | J40: 02.12.2012 объект введен в эксплуатацию. Работы оплачены. | K40: =SUM(K41:K43) -> 0 | L40: =SUM(L41:L43) -> 0 | M40: =SUM(M41:M43) -> 0 | N40: =E40+H40+I40+K40+L40+M40 -> 2.43775
D41: федер. бюджет | I41: =SUM(I42:I44) -> 0 | N41: =E41+H41+I41+K41+L41+M41 -> 0
D42: краевой бюджет | E42: 2.41325 | F42: 2.41325 | G42: 2.41325 | I42: =SUM(I43:I45) -> 0 | N42: =E42+H42+I42+K42+L42+M42 -> 2.41325
...

Sheet Приложение 2 (СВОД)
B1: ФОРМАТ И ШРИФТЫ НЕ ИЗМЕНЯТЬ | N1: Приложение 2
A2: ='Приложение 1 (ОТЧЕТНЫЙ ПЕРИОД)'!A2:J2 -> ИНФОРМАЦИЯ по показателям и мероприятиям дорожных карт по достижению показателей Указа Президента Российской Федерации от 07.05.2018 № 204 Пожарский муниципальный район | K2: ИТОГОВАЯ форма предоставления информации | X2: Приложение 3
A3: № п.п. | B3: Наименование показателя | C3: Базовое значение | E3: Значение показателя/ потребность в финансировании, млн. рублей | J3: Примечание. Сумма контракта, дата заключения контракта, поставщик, дата завершения работ по контракту. Дата внесения изменений в план-график, планируемая дата начала конкурсных процедур, планируемая дата заключения контракта. Для контрактов на подписании - дата завершения конкурсных процедур, сумма контракта, поставщик, планируемая дата заключения контракта, дата завершения работ по контракту. | K3: Значение показателя/ потребность в финансировании, млн. рублей | N3: ВСЕГО 2019-2024 | R3: Текущее исполнение показателей, %, 2019 год
B4: ='Приложение 1 (ОТЧЕТНЫЙ ПЕРИОД)'!B4 -> Пожарский муниципальный район | C4: Значение/ года | D4: Дата / вид бюджета | E4: 2019 г. (план в соответствии с бюджетом) | F4: сумма подписанного контракта по мероприятию | G4: ='Приложение 1 (ОТЧЕТНЫЙ ПЕРИОД)'!G4 -> профинанси-ровано (кассовый расход) /исполнение на 27.01.2020 | H4: 2020 г. (план в соответствии с бюджетом) | I4: 2021 г. (план в соответствии с бюджетом) | K4: 2022 г. | L4: 2023 г. | M4: 2024 г. | P4: проверочная сторока | R4: =B4 -> Пожарский муниципальный район | S4: Вид бюджета | T4: 2019 г. (план в соответствии с бюджетом), млн рублей | U4: сумма подписанного контракта по мероприятию, млн рублей | V4: =G4 -> профинанси-ровано (кассовый расход) /исполнение на 27.01.2020 | W4: % подписанного контракта по мероприятию от запланированного, (законтрактовано) | X4: % профинансировано (кассовый расход) /исполнение (от закантрактованного)
B5: ВСЕГО | D5: Всего | E5: =E6+E7+E8 -> 140.70178 | F5: =F6+F7+F8 -> 140.70178 | G5: =G6+G7+G8 -> 129.99178 | H5: =H6+H7+H8 -> 766.0815 | I5: =I6+I7+I8 -> 458.36633 | K5: =K6+K7+K8 -> 128.12 | L5: =L6+L7+L8 -> 118.16 | M5: =M6+M7+M8 -> 47.75 | N5: =N6+N7+N8 -> 1659.1796 | R5: =B5 -> ВСЕГО | S5: =D5 -> Всего | T5: =E5 -> 140.70178 | U5: =F5 -> 140.70178 | V5: =G5 -> 129.99178 | W5: =F5/E5% -> 100 | X5: =G5/F5% -> 92.388156
D6: федер. бюджет | E6: =E19+E135 -> 17.52 | F6: =F19+F135 -> 17.52 | G6: =G19+G135 -> 17.52 | H6: =H19+H135 -> 302.936 | I6: =I19+I135 -> 329.34 | K6: =K19+K135 -> 0 | L6: =L19+L135 -> 0 | M6: =M19+M135 -> 0 | N6: =N19+N135 -> 649.796
D7: краевой бюджет | E7: =E20+E136 -> 112.25806 | F7: =F20+F136 -> 112.25806 | G7: =G20+G136 -> 102.28306 | H7: =H20+H136 -> 452.7955 | I7: =I20+I136 -> 115.32633 | K7: =K20+K136 -> 94.48 | L7: =L20+L136 -> 84.46 | M7: =M20+M136 -> 34.46 | N7: =N20+N136 -> 893.77989
D8: бюджет МО | E8: =E21+E137 -> 10.92372 | F8: =F21+F137 -> 10.92372 | G8: =G21+G137 -> 10.18872 | H8: =H21+H137 -> 10.35 | I8: =I21+I137 -> 13.7 | K8: =K21+K137 -> 33.64 | L8: =L21+L137 -> 33.7 | M8: =M21+M137 -> 13.29 | N8: =N21+N137 -> 115.60372
B11: проверочная сторока | D11: Всего | E11: =E5-'Приложение 1 (ОТЧЕТНЫЙ ПЕРИОД)'!E5 -> 0 | F11: =F5-'Приложение 1 (ОТЧЕТНЫЙ ПЕРИОД)'!F5 -> 0 | G11: =G5-'Приложение 1 (ОТЧЕТНЫЙ ПЕРИОД)'!G5 -> 0 | H11: =H5-'Приложение 1 (ОТЧЕТНЫЙ ПЕРИОД)'!H5 -> 0 | I11: =I5-'Приложение 1 (ОТЧЕТНЫЙ ПЕРИОД)'!I5 -> 0 | K11: =K5-'Приложение 1 (ОТЧЕТНЫЙ ПЕРИОД)'!K5 -> 0 | L11: =L5-'Приложение 1 (ОТЧЕТНЫЙ ПЕРИОД)'!L5 -> 0 | M11: =M5-'Приложение 1 (ОТЧЕТНЫЙ ПЕРИОД)'!M5 -> 0 | N11: =N5-'Приложение 1 (ОТЧЕТНЫЙ ПЕРИОД)'!N5 -> 0 | P11: =SUM(E11:O11) -> 0
B12: проверочная сторока | D12: федер. бюджет | E12: =E6-'Приложение 1 (ОТЧЕТНЫЙ ПЕРИОД)'!E6 -> 0 | F12: =F6-'Приложение 1 (ОТЧЕТНЫЙ ПЕРИОД)'!F6 -> 0 | G12: =G6-'Приложение 1 (ОТЧЕТНЫЙ ПЕРИОД)'!G6 -> 0 | H12: =H6-'Приложение 1 (ОТЧЕТНЫЙ ПЕРИОД)'!H6 -> 0 | I12: =I6-'Приложение 1 (ОТЧЕТНЫЙ ПЕРИОД)'!I6 -> 0 | K12: =K6-'Приложение 1 (ОТЧЕТНЫЙ ПЕРИОД)'!K6 -> 0 | L12: =L6-'Приложение 1 (ОТЧЕТНЫЙ ПЕРИОД)'!L6 -> 0 | M12: =M6-'Приложение 1 (ОТЧЕТНЫЙ ПЕРИОД)'!M6 -> 0 | N12: =N6-'Приложение 1 (ОТЧЕТНЫЙ ПЕРИОД)'!N6 -> 0 | P12: =SUM(E12:O12) -> 0
B13: проверочная сторока | D13: краевой бюджет | E13: =E7-'Приложение 1 (ОТЧЕТНЫЙ ПЕРИОД)'!E7 -> 0 | F13: =F7-'Приложение 1 (ОТЧЕТНЫЙ ПЕРИОД)'!F7 -> 0 | G13: =G7-'Приложение 1 (ОТЧЕТНЫЙ ПЕРИОД)'!G7 -> 0 | H13: =H7-'Приложение 1 (ОТЧЕТНЫЙ ПЕРИОД)'!H7 -> 0 | I13: =I7-'Приложение 1 (ОТЧЕТНЫЙ ПЕРИОД)'!I7 -> 0 | K13: =K7-'Приложение 1 (ОТЧЕТНЫЙ ПЕРИОД)'!K7 -> 0 | L13: =L7-'Приложение 1 (ОТЧЕТНЫЙ ПЕРИОД)'!L7 -> 0 | M13: =M7-'Приложение 1 (ОТЧЕТНЫЙ ПЕРИОД)'!M7 -> 0 | N13: =N7-'Приложение 1 (ОТЧЕТНЫЙ ПЕРИОД)'!N7 -> 0 | P13: =SUM(E13:O13) -> 0
B14: проверочная сторока | D14: бюджет МО | E14: =E8-'Приложение 1 (ОТЧЕТНЫЙ ПЕРИОД)'!E8 -> 0 | F14: =F8-'Приложение 1 (ОТЧЕТНЫЙ ПЕРИОД)'!F8 -> 0 | G14: =G8-'Приложение 1 (ОТЧЕТНЫЙ ПЕРИОД)'!G8 -> 0 | H14: =H8-'Приложение 1 (ОТЧЕТНЫЙ ПЕРИОД)'!H8 -> 0 | I14: =I8-'Приложение 1 (ОТЧЕТНЫЙ ПЕРИОД)'!I8 -> 0 | K14: =K8-'Приложение 1 (ОТЧЕТНЫЙ ПЕРИОД)'!K8 -> 0 | L14: =L8-'Приложение 1 (ОТЧЕТНЫЙ ПЕРИОД)'!L8 -> 0 | M14: =M8-'Приложение 1 (ОТЧЕТНЫЙ ПЕРИОД)'!M8 -> 0 | N14: =N8-'Приложение 1 (ОТЧЕТНЫЙ ПЕРИОД)'!N8 -> 0 | P14: =SUM(E14:O14) -> 0
B18: Всего по мероприятиям национальных проектов | D18: Всего | E18: ='Приложение 1 (ОТЧЕТНЫЙ ПЕРИОД)'!E10 -> 140.70178 | F18: ='Приложение 1 (ОТЧЕТНЫЙ ПЕРИОД)'!F10 -> 140.70178 | G18: ='Приложение 1 (ОТЧЕТНЫЙ ПЕРИОД)'!G10 -> 129.99178 | H18: ='Приложение 1 (ОТЧЕТНЫЙ ПЕРИОД)'!H10 -> 766.0815 | I18: ='Приложение 1 (ОТЧЕТНЫЙ ПЕРИОД)'!I10 -> 458.36633 | K18: ='Приложение 1 (ОТЧЕТНЫЙ ПЕРИОД)'!K10 -> 128.12 | L18: ='Приложение 1 (ОТЧЕТНЫЙ ПЕРИОД)'!L10 -> 118.16 | M18: ='Приложение 1 (ОТЧЕТНЫЙ ПЕРИОД)'!M10 -> 47.75 | N18: ='Приложение 1 (ОТЧЕТНЫЙ ПЕРИОД)'!N10 -> 1659.1796
D19: федер. бюджет | E19: ='Приложение 1 (ОТЧЕТНЫЙ ПЕРИОД)'!E11 -> 17.52 | F19: ='Приложение 1 (ОТЧЕТНЫЙ ПЕРИОД)'!F11 -> 17.52 | G19: ='Приложение 1 (ОТЧЕТНЫЙ ПЕРИОД)'!G11 -> 17.52 | H19: ='Приложение 1 (ОТЧЕТНЫЙ ПЕРИОД)'!H11 -> 302.936 | I19: ='Приложение 1 (ОТЧЕТНЫЙ ПЕРИОД)'!I11 -> 329.34 | K19: ='Приложение 1 (ОТЧЕТНЫЙ ПЕРИОД)'!K11 -> 0 | L19: ='Приложение 1 (ОТЧЕТНЫЙ ПЕРИОД)'!L11 -> 0 | M19: ='Приложение 1 (ОТЧЕТНЫЙ ПЕРИОД)'!M11 -> 0 | N19: ='Приложение 1 (ОТЧЕТНЫЙ ПЕРИОД)'!N11 -> 649.796
D20: краевой бюджет | E20: ='Приложение 1 (ОТЧЕТНЫЙ ПЕРИОД)'!E12 -> 112.25806 | F20: ='Приложение 1 (ОТЧЕТНЫЙ ПЕРИОД)'!F12 -> 112.25806 | G20: ='Приложение 1 (ОТЧЕТНЫЙ ПЕРИОД)'!G12 -> 102.28306 | H20: ='Приложение 1 (ОТЧЕТНЫЙ ПЕРИОД)'!H12 -> 452.7955 | I20: ='Приложение 1 (ОТЧЕТНЫЙ ПЕРИОД)'!I12 -> 115.32633 | K20: ='Приложение 1 (ОТЧЕТНЫЙ ПЕРИОД)'!K12 -> 94.48 | L20: ='Приложение 1 (ОТЧЕТНЫЙ ПЕРИОД)'!L12 -> 84.46 | M20: ='Приложение 1 (ОТЧЕТНЫЙ ПЕРИОД)'!M12 -> 34.46 | N20: ='Приложение 1 (ОТЧЕТНЫЙ ПЕРИОД)'!N12 -> 893.77989
D21: бюджет МО | E21: ='Приложение 1 (ОТЧЕТНЫЙ ПЕРИОД)'!E13 -> 10.92372 | F21: ='Приложение 1 (ОТЧЕТНЫЙ ПЕРИОД)'!F13 -> 10.92372 | G21: ='Приложение 1 (ОТЧЕТНЫЙ ПЕРИОД)'!G13 -> 10.18872 | H21: ='Приложение 1 (ОТЧЕТНЫЙ ПЕРИОД)'!H13 -> 10.35 | I21: ='Приложение 1 (ОТЧЕТНЫЙ ПЕРИОД)'!I13 -> 13.7 | K21: ='Приложение 1 (ОТЧЕТНЫЙ ПЕРИОД)'!K13 -> 33.64 | L21: ='Приложение 1 (ОТЧЕТНЫЙ ПЕРИОД)'!L13 -> 33.7 | M21: ='Приложение 1 (ОТЧЕТНЫЙ ПЕРИОД)'!M13 -> 13.29 | N21: ='Приложение 1 (ОТЧЕТНЫЙ ПЕРИОД)'!N13 -> 115.60372
D22: проверочная сторока | E22: =E19+E20+E21 -> 140.70178 | F22: =F19+F20+F21 -> 140.70178 | G22: =G19+G20+G21 -> 129.99178 | H22: =H19+H20+H21 -> 766.0815 | I22: =I19+I20+I21 -> 458.36633 | K22: =K19+K20+K21 -> 128.12 | L22: =L19+L20+L21 -> 118.16 | M22: =M19+M20+M21 -> 47.75 | N22: =N19+N20+N21 -> 1659.1796 | P22: =SUM(E22:O22) -> 3589.0528
D23: проверочная сторока | E23: =E22-E18 -> 0 | F23: =F22-F18 -> 0 | G23: =G22-G18 -> 0 | H23: =H22-H18 -> 0 | I23: =I22-I18 -> 0 | K23: =K22-K18 -> 0 | L23: =L22-L18 -> 0 | M23: =M22-M18 -> 0 | N23: =N22-N18 -> 0 | P23: =SUM(E23:O23) -> 0
B24: проверочная сторока | D24: Всего | E24: =E25+E26+E27 -> 140.70178 | F24: =F25+F26+F27 -> 140.70178 | G24: =G25+G26+G27 -> 129.99178 | H24: =H25+H26+H27 -> 766.0815 | I24: =I25+I26+I27 -> 458.36633 | K24: =K25+K26+K27 -> 128.12 | L24: =L25+L26+L27 -> 118.16 | M24: =M25+M26+M27 -> 47.75 | N24: =N25+N26+N27 -> 1659.1796 | P24: =SUM(E24:O24) -> 3589.0528
B25: проверочная сторока | D25: федер. бюджет | E25: =E37+E44+E62+E69+E76+E83+E90+E97+E104+E111+E118+E125 -> 17.52 | F25: =F37+F44+F62+F69+F76+F83+F90+F97+F104+F111+F118+F125 -> 17.52 | G25: =G37+G44+G62+G69+G76+G83+G90+G97+G104+G111+G118+G125 -> 17.52 | H25: =H37+H44+H62+H69+H76+H83+H90+H97+H104+H111+H118+H125 -> 302.936 | I25: =I37+I44+I62+I69+I76+I83+I90+I97+I104+I111+I118+I125 -> 329.34 | K25: =K37+K44+K62+K69+K76+K83+K90+K97+K104+K111+K118+K125 -> 0 | L25: =L37+L44+L62+L69+L76+L83+L90+L97+L104+L111+L118+L125 -> 0 | M25: =M37+M44+M62+M69+M76+M83+M90+M97+M104+M111+M118+M125 -> 0 | N25: =N37+N44+N62+N69+N76+N83+N90+N97+N104+N111+N118+N125 -> 649.796 | P25: =SUM(E25:O25) -> 1334.632
B26: проверочная сторока | D26: краевой бюджет | E26: =E38+E45+E63+E70+E77+E84+E91+E98+E105+E112+E119+E126 -> 112.25806 | F26: =F38+F45+F63+F70+F77+F84+F91+F98+F105+F112+F119+F126 -> 112.25806 | G26: =G38+G45+G63+G70+G77+G84+G91+G98+G105+G112+G119+G126 -> 102.28306 | H26: =H38+H45+H63+H70+H77+H84+H91+H98+H105+H112+H119+H126 -> 452.7955 | I26: =I38+I45+I63+I70+I77+I84+I91+I98+I105+I112+I119+I126 -> 115.32633 | K26: =K38+K45+K63+K70+K77+K84+K91+K98+K105+K112+K119+K126 -> 94.48 | L26: =L38+L45+L63+L70+L77+L84+L91+L98+L105+L112+L119+L126 -> 84.46 | M26: =M38+M45+M63+M70+M77+M84+M91+M98+M105+M112+M119+M126 -> 34.46 | N26: =N38+N45+N63+N70+N77+N84+N91+N98+N105+N112+N119+N126 -> 893.77989 | P26: =SUM(E26:O26) -> 2002.1009
B27: проверочная сторока | D27: бюджет МО | E27: =E39+E46+E64+E71+E78+E85+E92+E99+E106+E113+E120+E127 -> 10.92372 | F27: =F39+F46+F64+F71+F78+F85+F92+F99+F106+F113+F120+F127 -> 10.92372 | G27: =G39+G46+G64+G71+G78+G85+G92+G99+G106+G113+G120+G127 -> 10.18872 | H27: =H39+H46+H64+H71+H78+H85+H92+H99+H106+H113+H120+H127 -> 10.35 | I27: =I39+I46+I64+I71+I78+I85+I92+I99+I106+I113+I120+I127 -> 13.7 | K27: =K39+K46+K64+K71+K78+K85+K92+K99+K106+K113+K120+K127 -> 33.64 | L27: =L39+L46+L64+L71+L78+L85+L92+L99+L106+L113+L120+L127 -> 33.7 | M27: =M39+M46+M64+M71+M78+M85+M92+M99+M106+M113+M120+M127 -> 13.29 | N27: =N39+N46+N64+N71+N78+N85+N92+N99+N106+N113+N120+N127 -> 115.60372 | P27: =SUM(E27:O27) -> 252.31988
B29: проверочная сторока | D29: Всего | E29: =E24-E18 -> 0 | F29: =F24-F18 -> 0 | G29: =G24-G18 -> 0 | H29: =H24-H18 -> 0 | I29: =I24-I18 -> 0 | K29: =K24-K18 -> 0 | L29: =L24-L18 -> 0 | M29: =M24-M18 -> 0 | N29: =N24-N18 -> 0 | P29: =SUM(E29:O29) -> 0
B30: проверочная сторока | D30: федер. бюджет | E30: =E25-E19 -> 0 | F30: =F25-F19 -> 0 | G30: =G25-G19 -> 0 | H30: =H25-H19 -> 0 | I30: =I25-I19 -> 0 | K30: =K25-K19 -> 0 | L30: =L25-L19 -> 0 | M30: =M25-M19 -> 0 | N30: =N25-N19 -> 0 | P30: =SUM(E30:O30) -> 0
B31: проверочная сторока | D31: краевой бюджет | E31: =E26-E20 -> 0 | F31: =F26-F20 -> 0 | G31: =G26-G20 -> 0 | H31: =H26-H20 -> 0 | I31: =I26-I20 -> 0 | K31: =K26-K20 -> 0 | L31: =L26-L20 -> 0 | M31: =M26-M20 -> 0 | N31: =N26-N20 -> 0 | P31: =SUM(E31:O31) -> 0
B32: проверочная сторока | D32: бюджет МО | E32: =E27-E21 -> 0 | F32: =F27-F21 -> 0 | G32: =G27-G21 -> 0 | H32: =H27-H21 -> 0 | I32: =I27-I21 -> 0 | K32: =K27-K21 -> 0 | L32: =L27-L21 -> 0 | M32: =M27-M21 -> 0 | N32: =N27-N21 -> 0 | P32: =SUM(E32:O32) -> 0
E35: I. | F35: ДЕМОГРАФИЯ
A36: =E35 -> I. | B36: Итого по национальному проекту | D36: Всего | E36: ='Приложение 1 (ОТЧЕТНЫЙ ПЕРИОД)'!E116 -> 15.429779 | F36: ='Приложение 1 (ОТЧЕТНЫЙ ПЕРИОД)'!F116 -> 15.429779 | G36: ='Приложение 1 (ОТЧЕТНЫЙ ПЕРИОД)'!G116 -> 15.429779 | H36: ='Приложение 1 (ОТЧЕТНЫЙ ПЕРИОД)'!H116 -> 250.8955 | I36: ='Приложение 1 (ОТЧЕТНЫЙ ПЕРИОД)'!I116 -> 94.516327 | K36: ='Приложение 1 (ОТЧЕТНЫЙ ПЕРИОД)'!K116 -> 0.4 | L36: ='Приложение 1 (ОТЧЕТНЫЙ ПЕРИОД)'!L116 -> 55.95 | M36: ='Приложение 1 (ОТЧЕТНЫЙ ПЕРИОД)'!M116 -> 0.4 | N36: ='Приложение 1 (ОТЧЕТНЫЙ ПЕРИОД)'!N116 -> 417.59161 | R36: =B37 -> ДЕМОГРАФИЯ | S36: =D36 -> Всего | T36: =E36 -> 15.429779 | U36: =F36 -> 15.429779 | V36: =G36 -> 15.429779 | W36: =F36/E36% -> 100 | X36: =G36/F36% -> 100
B37: =F35 -> ДЕМОГРАФИЯ | D37: федер. бюджет | E37: ='Приложение 1 (ОТЧЕТНЫЙ ПЕРИОД)'!E117 -> 0 | F37: ='Приложение 1 (ОТЧЕТНЫЙ ПЕРИОД)'!F117 -> 0 | G37: ='Приложение 1 (ОТЧЕТНЫЙ ПЕРИОД)'!G117 -> 0 | H37: ='Приложение 1 (ОТЧЕТНЫЙ ПЕРИОД)'!H117 -> 27.84 | I37: ='Приложение 1 (ОТЧЕТНЫЙ ПЕРИОД)'!I117 -> 80.18 | K37: ='Приложение 1 (ОТЧЕТНЫЙ ПЕРИОД)'!K117 -> 0 | L37: ='Приложение 1 (ОТЧЕТНЫЙ ПЕРИОД)'!L117 -> 0 | M37: ='Приложение 1 (ОТЧЕТНЫЙ ПЕРИОД)'!M117 -> 0 | N37: ='Приложение 1 (ОТЧЕТНЫЙ ПЕРИОД)'!N117 -> 108.02
D38: краевой бюджет | E38: ='Приложение 1 (ОТЧЕТНЫЙ ПЕРИОД)'!E118 -> 14.586059 | F38: ='Приложение 1 (ОТЧЕТНЫЙ ПЕРИОД)'!F118 -> 14.586059 | G38: ='Приложение 1 (ОТЧЕТНЫЙ ПЕРИОД)'!G118 -> 14.586059 | H38: ='Приложение 1 (ОТЧЕТНЫЙ ПЕРИОД)'!H118 -> 221.9955 | I38: ='Приложение 1 (ОТЧЕТНЫЙ ПЕРИОД)'!I118 -> 12.636327 | K38: ='Приложение 1 (ОТЧЕТНЫЙ ПЕРИОД)'!K118 -> 0 | L38: ='Приложение 1 (ОТЧЕТНЫЙ ПЕРИОД)'!L118 -> 55 | M38: ='Приложение 1 (ОТЧЕТНЫЙ ПЕРИОД)'!M118 -> 0 | N38: ='Приложение 1 (ОТЧЕТНЫЙ ПЕРИОД)'!N118 -> 304.21789
D39: бюджет МО | E39: ='Приложение 1 (ОТЧЕТНЫЙ ПЕРИОД)'!E119 -> 0.84371975 | F39: ='Приложение 1 (ОТЧЕТНЫЙ ПЕРИОД)'!F119 -> 0.84371975 | G39: ='Приложение 1 (ОТЧЕТНЫЙ ПЕРИОД)'!G119 -> 0.84371975 | H39: ='Приложение 1 (ОТЧЕТНЫЙ ПЕРИОД)'!H119 -> 1.06 | I39: ='Приложение 1 (ОТЧЕТНЫЙ ПЕРИОД)'!I119 -> 1.7 | K39: ='Приложение 1 (ОТЧЕТНЫЙ ПЕРИОД)'!K119 -> 0.4 | L39: ='Приложение 1 (ОТЧЕТНЫЙ ПЕРИОД)'!L119 -> 0.95 | M39: ='Приложение 1 (ОТЧЕТНЫЙ ПЕРИОД)'!M119 -> 0.4 | N39: ='Приложение 1 (ОТЧЕТНЫЙ ПЕРИОД)'!N119 -> 5.3537198
D40: проверочная сторока | E40: =E37+E38+E39 -> 15.429779 | F40: =F37+F38+F39 -> 15.429779 | G40: =G37+G38+G39 -> 15.429779 | H40: =H37+H38+H39 -> 250.8955 | I40: =I37+I38+I39 -> 94.516327 | K40: =K37+K38+K39 -> 0.4 | L40: =L37+L38+L39 -> 55.95 | M40: =M37+M38+M39 -> 0.4 | N40: =N37+N38+N39 -> 417.59161 | P40: =SUM(E40:O40) -> 866.04277
D41: проверочная сторока | E41: =E40-E36 -> 0 | F41: =F40-F36 -> 0 | G41: =G40-G36 -> 0 | H41: =H40-H36 -> 0 | I41: =I40-I36 -> 0 | K41: =K40-K36 -> 0 | L41: =L40-L36 -> 0 | M41: =M40-M36 -> 0 | N41: =N40-N36 -> 0 | P41: =SUM(E41:O41) -> 0
E42: II. | F42: ЗДРАВООХРАНЕНИЕ
A43: =E42 -> II. | B43: Итого по национальному проекту | D43: Всего | E43: ='Приложение 1 (ОТЧЕТНЫЙ ПЕРИОД)'!E154 -> 0 | F43: ='Приложение 1 (ОТЧЕТНЫЙ ПЕРИОД)'!F154 -> 0 | G43: ='Приложение 1 (ОТЧЕТНЫЙ ПЕРИОД)'!G154 -> 0 | H43: ='Приложение 1 (ОТЧЕТНЫЙ ПЕРИОД)'!H154 -> 0 | I43: ='Приложение 1 (ОТЧЕТНЫЙ ПЕРИОД)'!I154 -> 0 | K43: ='Приложение 1 (ОТЧЕТНЫЙ ПЕРИОД)'!K154 -> 0 | L43: ='Приложение 1 (ОТЧЕТНЫЙ ПЕРИОД)'!L154 -> 0 | M43: ='Приложение 1 (ОТЧЕТНЫЙ ПЕРИОД)'!M154 -> 0 | N43: ='Приложение 1 (ОТЧЕТНЫЙ ПЕРИОД)'!N154 -> 0 | R43: =B44 -> ЗДРАВООХРАНЕНИЕ | S43: =D43 -> Всего | T43: =E43 -> 0 | U43: =F43 -> 0 | V43: =G43 -> 0 | W43: =F43/E43% -> #DIV/0! | X43: =G43/F43% -> #DIV/0!
B44: =F42 -> ЗДРАВООХРАНЕНИЕ | D44: федер. бюджет | E44: ='Приложение 1 (ОТЧЕТНЫЙ ПЕРИОД)'!E155 -> 0 | F44: ='Приложение 1 (ОТЧЕТНЫЙ ПЕРИОД)'!F155 -> 0 | G44: ='Приложение 1 (ОТЧЕТНЫЙ ПЕРИОД)'!G155 -> 0 | H44: ='Приложение 1 (ОТЧЕТНЫЙ ПЕРИОД)'!H155 -> 0 | I44: ='Приложение 1 (ОТЧЕТНЫЙ ПЕРИОД)'!I155 -> 0 | K44: ='Приложение 1 (ОТЧЕТНЫЙ ПЕРИОД)'!K155 -> 0 | L44: ='Приложение 1 (ОТЧЕТНЫЙ ПЕРИОД)'!L155 -> 0 | M44: ='Приложение 1 (ОТЧЕТНЫЙ ПЕРИОД)'!M155 -> 0 | N44: ='Приложение 1 (ОТЧЕТНЫЙ ПЕРИОД)'!N155 -> 0
D45: краевой бюджет | E45: ='Приложение 1 (ОТЧЕТНЫЙ ПЕРИОД)'!E156 -> 0 | F45: ='Приложение 1 (ОТЧЕТНЫЙ ПЕРИОД)'!F156 -> 0 | G45: ='Приложение 1 (ОТЧЕТНЫЙ ПЕРИОД)'!G156 -> 0 | H45: ='Приложение 1 (ОТЧЕТНЫЙ ПЕРИОД)'!H156 -> 0 | I45: ='Приложение 1 (ОТЧЕТНЫЙ ПЕРИОД)'!I156 -> 0 | K45: ='Приложение 1 (ОТЧЕТНЫЙ ПЕРИОД)'!K156 -> 0 | L45: ='Приложение 1 (ОТЧЕТНЫЙ ПЕРИОД)'!L156 -> 0 | M45: ='Приложение 1 (ОТЧЕТНЫЙ ПЕРИОД)'!M156 -> 0 | N45: ='Приложение 1 (ОТЧЕТНЫЙ ПЕРИОД)'!N156 -> 0
D46: бюджет МО | E46: ='Приложение 1 (ОТЧЕТНЫЙ ПЕРИОД)'!E157 -> 0 | F46: ='Приложение 1 (ОТЧЕТНЫЙ ПЕРИОД)'!F157 -> 0 | G46: ='Приложение 1 (ОТЧЕТНЫЙ ПЕРИОД)'!G157 -> 0 | H46: ='Приложение 1 (ОТЧЕТНЫЙ ПЕРИОД)'!H157 -> 0 | I46: ='Приложение 1 (ОТЧЕТНЫЙ ПЕРИОД)'!I157 -> 0 | K46: ='Приложение 1 (ОТЧЕТНЫЙ ПЕРИОД)'!K157 -> 0 | L46: ='Приложение 1 (ОТЧЕТНЫЙ ПЕРИОД)'!L157 -> 0 | M46: ='Приложение 1 (ОТЧЕТНЫЙ ПЕРИОД)'!M157 -> 0 | N46: ='Приложение 1 (ОТЧЕТНЫЙ ПЕРИОД)'!N157 -> 0
D47: проверочная сторока | E47: =E44+E45+E46 -> 0 | F47: =F44+F45+F46 -> 0 | G47: =G44+G45+G46 -> 0 | H47: =H44+H45+H46 -> 0 | I47: =I44+I45+I46 -> 0 | K47: =K44+K45+K46 -> 0 | L47: =L44+L45+L46 -> 0 | M47: =M44+M45+M46 -> 0 | N47: =N44+N45+N46 -> 0 | P47: =SUM(E47:O47) -> 0
D48: проверочная сторока | E48: =E47-E43 -> 0 | F48: =F47-F43 -> 0 | G48: =G47-G43 -> 0 | H48: =H47-H43 -> 0 | I48: =I47-I43 -> 0 | K48: =K47-K43 -> 0 | L48: =L47-L43 -> 0 | M48: =M47-M43 -> 0 | N48: =N47-N43 -> 0 | P48: =SUM(E48:O48) -> 0
...
