Workbook

Sheet Приложение 1 (ОТЧЕТНЫЙ ПЕРИОД) 
B1: ФОРМАТ И ШРИФТЫ НЕ ИЗМЕНЯТЬ | N1: Приложение 1
A2: ИНФОРМАЦИЯ по показателям и мероприятиям дорожных карт по достижению показателей Указа Президента Российской Федерации от 07.05.2018 № 204 ПОЖАРСКИЙ МУНИЦИПАЛЬНЫЙ РАЙОН | K2: ИТОГОВЫЙ ОТЧЕТ форма предоставления информации на 01.01.2021
A3: № п.п. | B3: Наименование показателя | C3: Базовое значение | E3: Значение показателя/ потребность в финансировании, млн рублей | J3: Примечание. Сумма контракта, дата заключения контракта, поставщик, дата завершения работ по контракту. Дата внесения изменений в план-график, планируемая дата начала конкурсных процедур, планируемая дата заключения контракта. Для контрактов на подписании - дата завершения конкурсных процедур, сумма контракта, поставщик, планируемая дата заключения контракта, дата завершения работ по контракту. Адрес расположения заверщенного объекта. | K3: ИТОГ ПРОФИНАНСИРОВАННО, млн рублей | L3: Значение показателя/ потребность в финансировании, млн рублей | N3: ВСЕГО 2019-2024
B4: городской округ (муниципальный р-н) | C4: Значение/ года | D4: Дата / вид бюджета | E4: 2020 г. (план в соответствии с бюджетом) | F4: сумма подписанного контракта по мероприятию | G4: профинанси-ровано (кассовый расход) /исполнение на 01.01.2021 | H4: 2021 г. (план в соответствии с бюджетом) | I4: 2022 г. (план в соответствии с бюджетом) | K4: 2019 г. | L4: 2023 г. | M4: 2024 г.
B5: ВСЕГО | D5: Всего | E5: =E6+E7+E8 -> 131.03542 | F5: =F6+F7+F8 -> 131.03542 | G5: =G6+G7+G8 -> 131.03588 | H5: =H6+H7+H8 -> 496.09819 | I5: =I6+I7+I8 -> 455.72322 | K5: =K6+K7+K8 -> 114.57 | L5: =L6+L7+L8 -> 98.05 | M5: =M6+M7+M8 -> 23.39 | N5: =N6+N7+N8 -> 1318.8668
D6: федер. бюджет | E6: =E11+E618 -> 14.7395 | F6: =F11+F618 -> 14.7395 | G6: =G11+G618 -> 14.7395 | H6: =H11+H618 -> 68.02 | I6: =I11+I618 -> 40 | K6: =K11+K618 -> 17.52 | L6: =L11+L618 -> 0 | M6: =M11+M618 -> 0 | N6: =N11+N618 -> 140.2795
D7: краевой бюджет | E7: =E12+E619 -> 99.774877 | F7: =F12+F619 -> 99.774877 | G7: =G12+G619 -> 99.774877 | H7: =H12+H619 -> 415.60014 | I7: =I12+I619 -> 382.40189 | K7: =K12+K619 -> 87.7 | L7: =L12+L619 -> 66.23 | M7: =M12+M619 -> 12.06 | N7: =N12+N619 -> 1063.7669
D8: бюджет МО | E8: =E13+E620 -> 16.521042 | F8: =F13+F620 -> 16.521042 | G8: =G13+G620 -> 16.521504 | H8: =H13+H620 -> 12.478055 | I8: =I13+I620 -> 33.321325 | K8: =K13+K620 -> 9.35 | L8: =L13+L620 -> 31.82 | M8: =M13+M620 -> 11.33 | N8: =N13+N620 -> 114.82042
B10: Всего по мероприятиям национальных проектов | D10: Всего | E10: =SUM(E11:E13) -> 122.99552 | F10: =SUM(F11:F13) -> 122.99552 | G10: =SUM(G11:G13) -> 122.99598 | H10: =SUM(H11:H13) -> 496.09819 | I10: =SUM(I11:I13) -> 455.72322 | K10: =SUM(K11:K13) -> 114.57 | L10: =SUM(L11:L13) -> 98.05 | M10: =SUM(M11:M13) -> 23.39 | N10: =SUM(N11:N13) -> 1310.8269
D11: федер. бюджет | E11: =E101+E139+E304+E349+E390+E431+E460+E489+E512+E563+E579+E608 -> 14.3145 | F11: =F101+F139+F304+F349+F390+F431+F460+F489+F512+F563+F579+F608 -> 14.3145 | G11: =G101+G139+G304+G349+G390+G431+G460+G489+G512+G563+G579+G608 -> 14.3145 | H11: =H101+H139+H304+H349+H390+H431+H460+H489+H512+H563+H579+H608 -> 68.02 | I11: =I101+I139+I304+I349+I390+I431+I460+I489+I512+I563+I579+I608 -> 40 | K11: =K101+K139+K304+K349+K390+K431+K460+K489+K512+K563+K579+K608 -> 17.52 | L11: =L101+L139+L304+L349+L390+L431+L460+L489+L512+L563+L579+L608 -> 0 | M11: =M101+M139+M304+M349+M390+M431+M460+M489+M512+M563+M579+M608 -> 0 | N11: =E11+H11+I11+K11+L11+M11 -> 139.8545
D12: краевой бюджет | E12: =E102+E140+E305+E350+E391+E432+E461+E490+E513+E564+E580+E609 -> 92.239877 | F12: =F102+F140+F305+F350+F391+F432+F461+F490+F513+F564+F580+F609 -> 92.239877 | G12: =G102+G140+G305+G350+G391+G432+G461+G490+G513+G564+G580+G609 -> 92.239877 | H12: =H102+H140+H305+H350+H391+H432+H461+H490+H513+H564+H580+H609 -> 415.60014 | I12: =I102+I140+I305+I350+I391+I432+I461+I490+I513+I564+I580+I609 -> 382.40189 | K12: =K102+K140+K305+K350+K391+K432+K461+K490+K513+K564+K580+K609 -> 87.7 | L12: =L102+L140+L305+L350+L391+L432+L461+L490+L513+L564+L580+L609 -> 66.23 | M12: =M102+M140+M305+M350+M391+M432+M461+M490+M513+M564+M580+M609 -> 12.06 | N12: =E12+H12+I12+K12+L12+M12 -> 1056.2319
D13: бюджет МО | E13: =E103+E141+E306+E351+E392+E433+E462+E491+E514+E565+E581+E610 -> 16.441142 | F13: =F103+F141+F306+F351+F392+F433+F462+F491+F514+F565+F581+F610 -> 16.441142 | G13: =G103+G141+G306+G351+G392+G433+G462+G491+G514+G565+G581+G610 -> 16.441604 | H13: =H103+H141+H306+H351+H392+H433+H462+H491+H514+H565+H581+H610 -> 12.478055 | I13: =I103+I141+I306+I351+I392+I433+I462+I491+I514+I565+I581+I610 -> 33.321325 | K13: =K103+K141+K306+K351+K392+K433+K462+K491+K514+K565+K581+K610 -> 9.35 | L13: =L103+L141+L306+L351+L392+L433+L462+L491+L514+L565+L581+L610 -> 31.82 | M13: =M103+M141+M306+M351+M392+M433+M462+M491+M514+M565+M581+M610 -> 11.33 | N13: =E13+H13+I13+K13+L13+M13 -> 114.74052
E15: I | F15: ДЕМОГРАФИЯ
A16: Проект 2. Содействие занятости женщин - создание условий дошкольного образования для детей в возрасте до трех лет
A17: 1 | B17: Численность воспитанников в возрасте до трех лет, посещающих государственные и муниципальные организации, осуществляющие образовательную деятельность по образовательным программам дошкольного образования, присмотр и уход, человек | D17: 43831 | E17: 10673 | H17: 11395 | I17: 11445 | L17: 11450 | M17: 11450
B18: Пожарский муниципальный район | C18: 260 | D18: 43831 | E18: 230 | H18: 235 | I18: 235 | J18: В 15 образовательных учреждениях воспитываются 260 детей в возрасте до 3-х лет | L18: 240 | M18: 240
A19: 2 | B19: Доступность дошкольного образования для детей в возрасте от полутора до трех лет, % | D19: 43831 | E19: 95 | H19: 97 | I19: 100 | L19: 100 | M19: 100
B20: Пожарский муниципальный район | C20: 100 | D20: 43831 | H20: 100 | I20: 100 | J20: В Пожарском муниципальном районе отсутствует очередь для детей в возрасте от 1,5 до 3-х лет. | L20: 100 | M20: 100
B21: Меропиятия | C21: Потребность в финансировании, млн. рублей
A22: 1 | B22: Сохранение сети действующих бюджетных организации, осуществляющих образовательную деятельность по образовательным программам дошкольного образования, присмотра и ухода за детьми | D22: всего | E22: =SUM(E23:E25) -> 0 | F22: =SUM(F23:F25) -> 0 | G22: =SUM(G23:G25) -> 0 | H22: =SUM(H23:H25) -> 0 | I22: =SUM(I23:I25) -> 0 | J22: На территории Пожарского муниципального района сохранена сеть дошкольных учреждений. Действуют 10 детских дошкольных учреждений и 5 дошкольных групп при школах, которые посещает 1,4 тыс. детей. | K22: =SUM(K23:K25) -> 0 | L22: =SUM(L23:L25) -> 0 | M22: =SUM(M23:M25) -> 0 | N22: =E22+H22+I22+K22+L22+M22 -> 0
D23: федер. бюджет | N23: =E23+H23+I23+K23+L23+M23 -> 0
D24: краевой бюджет | N24: =E24+H24+I24+K24+L24+M24 -> 0
D25: бюджет МО | N25: =E25+H25+I25+K25+L25+M25 -> 0
A26: Проект 5. Создание для всех категорий и групп населения условий для занятости физической культурой и спортом, массовым спортом, в том числе повышение уровня обеспеченности населения объектами спорта, а также подготовка спортивного резерва
A27: 1 | B27: Доля детей и молодёжи (возраст 3-29 лет), систематически занимающихся физической культурой и спортом, % | D27: 43831 | E27: 78.8 | H27: 80.5 | I27: 81 | L27: 83.9 | M27: 86
B28: Пожарский муниципальный район | C28: 67.1 | D28: 43831 | E28: 40 | H28: 46 | I28: 55 | L28: 60 | M28: 86
A29: 2 | B29: Доля граджан среднего возраста (женщины 30-54 года, мужчины 30-59 лет), систематически занимающихся физической культурой и спортом, % | D29: 43831 | E29: 31.7 | H29: 34.4 | I29: 42 | L29: 48 | M29: 56
B30: Пожарский муниципальный район | C30: 30.1 | D30: 43831 | E30: 35 | H30: 40 | I30: 45 | L30: 50 | M30: 56
A31: 3 | B31: Доля граджан старшего возраста (женщины 55-79 лет, мужчины 60-79 лет), систематически занимающихся физической культурой и спортом, % | D31: 43831 | E31: 6.6 | H31: 8.8 | I31: 11.8 | L31: 14.3 | M31: 18
B32: Пожарский муниципальный район | C32: 6.1 | D32: 43831 | E32: 4.4 | H32: 8.8 | I32: 11.8 | L32: 14.3 | M32: 18
A33: 4 | B33: Уровень обеспеченности граждан спортивными сооружениями исходя из единовременной пропускной способности объектов спорта,% | D33: 43831
B34: Пожарский муниципальный район | C34: 60.6 | D34: 43831 | E34: 55.7 | H34: 55.7 | I34: 55.8 | L34: 55.9 | M34: 6
B35: Меропиятия | C35: Потребность в финансировании, млн. рублей
A36: 1 | B36: Строительство физкультурно-оздоровительного комплекса в Пожарском муниципальном районе | D36: всего | E36: =SUM(E37:E39) -> 6.5 | F36: =SUM(F37:F39) -> 0 | G36: =SUM(G37:G39) -> 0 | H36: =SUM(H37:H39) -> 800 | I36: =SUM(I37:I39) -> 0 | J36: Лимиты средств краевого бюджета на 2020 год согласованы с курирующим органом ППК. Объект является краевым. ПСД находится на госэкспертизе. | K36: =SUM(K37:K39) -> 0 | L36: =SUM(L37:L39) -> 0 | M36: =SUM(M37:M39) -> 0 | N36: =E36+H36+I36+K36+L36+M36 -> 806.5
D37: федер. бюджет | N37: =E37+H37+I37+K37+L37+M37 -> 0
D38: краевой бюджет | E38: 6.5 | H38: 800 | N38: =E38+H38+I38+K38+L38+M38 -> 806.5
D39: бюджет МО | N39: =E39+H39+I39+K39+L39+M39 -> 0
A40: 1 | B40: Субсидии на приобретение спортивного инвентаря для развития лыжного спорта | D40: всего | E40: =SUM(E41:E43) -> 1.20979 | F40: =SUM(F41:F43) -> 1.20979 | G40: =SUM(G41:G43) -> 1.20979 | H40: =SUM(H41:H43) -> 0 | I40: =SUM(I41:I43) -> 0 | J40: Установлен блок-модуль для размещения раздевальных помещений на лыжне. Приобретено спортивное оборудование и спортивный инвентарь. Контакты оплачены полностью. Дополнительно израсходовано 0,23 млн. руб. за счет средств местного бюджета на работы по внутренней отделке блок-модуля и подключению его к электричеству. | K40: =SUM(K41:K43) -> 0 | L40: =SUM(L41:L43) -> 0 | M40: =SUM(M41:M43) -> 0 | N40: =E40+H40+I40+K40+L40+M40 -> 1.20979
D41: федер. бюджет | N41: =E41+H41+I41+K41+L41+M41 -> 0
D42: краевой бюджет | E42: 0.97 | F42: 0.97 | G42: 0.97 | N42: =E42+H42+I42+K42+L42+M42 -> 0.97
...

Sheet Приложение 2 (СВОД)
B1: ФОРМАТ И ШРИФТЫ НЕ ИЗМЕНЯТЬ | N1: Приложение 2
A2: ='Приложение 1 (ОТЧЕТНЫЙ ПЕРИОД) '!A2:J2 -> ИНФОРМАЦИЯ по показателям и мероприятиям дорожных карт по достижению показателей Указа Президента Российской Федерации от 07.05.2018 № 204 ПОЖАРСКИЙ МУНИЦИПАЛЬНЫЙ РАЙОН | K2: ЕЖЕМЕСЯЧНАЯ форма предоставления информации | Y2: Приложение 3
A3: № п.п. | B3: Наименование показателя | C3: Базовое значение | E3: Значение показателя/ потребность в финансировании, млн рублей | J3: Примечание. Сумма контракта, дата заключения контракта, поставщик, дата завершения работ по контракту. Дата внесения изменений в план-график, планируемая дата начала конкурсных процедур, планируемая дата заключения контракта. Для контрактов на подписании - дата завершения конкурсных процедур, сумма контракта, поставщик, планируемая дата заключения контракта, дата завершения работ по контракту. Адрес расположения заверщенного объекта. | K3: ='Приложение 1 (ОТЧЕТНЫЙ ПЕРИОД) '!K3 -> ИТОГ ПРОФИНАНСИРОВАННО, млн рублей | L3: ='Приложение 1 (ОТЧЕТНЫЙ ПЕРИОД) '!L3 -> Значение показателя/ потребность в финансировании, млн рублей | N3: ВСЕГО 2019-2024 | R3: Текущее исполнение показателей, %, 2020 год
B4: ='Приложение 1 (ОТЧЕТНЫЙ ПЕРИОД) '!B4 -> городской округ (муниципальный р-н) | C4: Значение/ года | D4: Дата / вид бюджета | E4: ='Приложение 1 (ОТЧЕТНЫЙ ПЕРИОД) '!E4 -> 2020 г. (план в соответствии с бюджетом) | F4: ='Приложение 1 (ОТЧЕТНЫЙ ПЕРИОД) '!F4 -> сумма подписанного контракта по мероприятию | G4: ='Приложение 1 (ОТЧЕТНЫЙ ПЕРИОД) '!G4 -> профинанси-ровано (кассовый расход) /исполнение на 01.01.2021 | H4: ='Приложение 1 (ОТЧЕТНЫЙ ПЕРИОД) '!H4 -> 2021 г. (план в соответствии с бюджетом) | I4: ='Приложение 1 (ОТЧЕТНЫЙ ПЕРИОД) '!I4 -> 2022 г. (план в соответствии с бюджетом) | K4: ='Приложение 1 (ОТЧЕТНЫЙ ПЕРИОД) '!K4 -> 2019 г. | L4: ='Приложение 1 (ОТЧЕТНЫЙ ПЕРИОД) '!L4 -> 2023 г. | M4: ='Приложение 1 (ОТЧЕТНЫЙ ПЕРИОД) '!M4 -> 2024 г. | P4: проверочная сторока | R4: =B4 -> городской округ (муниципальный р-н) | S4: Вид бюджета | T4: =E4 -> 2020 г. (план в соответствии с бюджетом) | U4: =F4 -> сумма подписанного контракта по мероприятию | V4: =G4 -> профинанси-ровано (кассовый расход) /исполнение на 01.01.2021 | W4: %, подписанного контракта по мероприятию от запланированного, (законтрактовано) | X4: %, профинансировано (кассовый расход) /исполнение (от закантрактованного) | Y4: %, профинансировано (кассовый расход)/исполнение от ПЛАНА
B5: ВСЕГО | D5: Всего | E5: =E6+E7+E8 -> 131.03542 | F5: =F6+F7+F8 -> 131.03542 | G5: =G6+G7+G8 -> 131.03588 | H5: =H6+H7+H8 -> 496.09819 | I5: =I6+I7+I8 -> 455.72322 | K5: =K6+K7+K8 -> 114.57 | L5: =L6+L7+L8 -> 98.05 | M5: =M6+M7+M8 -> 23.39 | N5: =N6+N7+N8 -> 1318.8668 | R5: =B5 -> ВСЕГО | S5: =D5 -> Всего | T5: =E5 -> 131.03542 | U5: =F5 -> 131.03542 | V5: =G5 -> 131.03588 | W5: =F5/E5% -> 100 | X5: =G5/F5% -> 100.00035 | Y5: =V5/T5% -> 100.00035
D6: федер. бюджет | E6: =E19+E135 -> 14.7395 | F6: =F19+F135 -> 14.7395 | G6: =G19+G135 -> 14.7395 | H6: =H19+H135 -> 68.02 | I6: =I19+I135 -> 40 | K6: =K19+K135 -> 17.52 | L6: =L19+L135 -> 0 | M6: =M19+M135 -> 0 | N6: =N19+N135 -> 140.2795
D7: краевой бюджет | E7: =E20+E136 -> 99.774877 | F7: =F20+F136 -> 99.774877 | G7: =G20+G136 -> 99.774877 | H7: =H20+H136 -> 415.60014 | I7: =I20+I136 -> 382.40189 | K7: =K20+K136 -> 87.7 | L7: =L20+L136 -> 66.23 | M7: =M20+M136 -> 12.06 | N7: =N20+N136 -> 1063.7669
D8: бюджет МО | E8: =E21+E137 -> 16.521042 | F8: =F21+F137 -> 16.521042 | G8: =G21+G137 -> 16.521504 | H8: =H21+H137 -> 12.478055 | I8: =I21+I137 -> 33.321325 | K8: =K21+K137 -> 9.35 | L8: =L21+L137 -> 31.82 | M8: =M21+M137 -> 11.33 | N8: =N21+N137 -> 114.82042
B11: проверочная сторока | D11: Всего | E11: =E5-'Приложение 1 (ОТЧЕТНЫЙ ПЕРИОД) '!E5 -> 0 | F11: =F5-'Приложение 1 (ОТЧЕТНЫЙ ПЕРИОД) '!F5 -> 0 | G11: =G5-'Приложение 1 (ОТЧЕТНЫЙ ПЕРИОД) '!G5 -> 0 | H11: =H5-'Приложение 1 (ОТЧЕТНЫЙ ПЕРИОД) '!H5 -> 0 | I11: =I5-'Приложение 1 (ОТЧЕТНЫЙ ПЕРИОД) '!I5 -> 0 | K11: =K5-'Приложение 1 (ОТЧЕТНЫЙ ПЕРИОД) '!K5 -> 0 | L11: =L5-'Приложение 1 (ОТЧЕТНЫЙ ПЕРИОД) '!L5 -> 0 | M11: =M5-'Приложение 1 (ОТЧЕТНЫЙ ПЕРИОД) '!M5 -> 0 | N11: =N5-'Приложение 1 (ОТЧЕТНЫЙ ПЕРИОД) '!N5 -> 0 | P11: =SUM(E11:O11) -> 0
B12: проверочная сторока | D12: федер. бюджет | E12: =E6-'Приложение 1 (ОТЧЕТНЫЙ ПЕРИОД) '!E6 -> 0 | F12: =F6-'Приложение 1 (ОТЧЕТНЫЙ ПЕРИОД) '!F6 -> 0 | G12: =G6-'Приложение 1 (ОТЧЕТНЫЙ ПЕРИОД) '!G6 -> 0 | H12: =H6-'Приложение 1 (ОТЧЕТНЫЙ ПЕРИОД) '!H6 -> 0 | I12: =I6-'Приложение 1 (ОТЧЕТНЫЙ ПЕРИОД) '!I6 -> 0 | K12: =K6-'Приложение 1 (ОТЧЕТНЫЙ ПЕРИОД) '!K6 -> 0 | L12: =L6-'Приложение 1 (ОТЧЕТНЫЙ ПЕРИОД) '!L6 -> 0 | M12: =M6-'Приложение 1 (ОТЧЕТНЫЙ ПЕРИОД) '!M6 -> 0 | N12: =N6-'Приложение 1 (ОТЧЕТНЫЙ ПЕРИОД) '!N6 -> 0 | P12: =SUM(E12:O12) -> 0
B13: проверочная сторока | D13: краевой бюджет | E13: =E7-'Приложение 1 (ОТЧЕТНЫЙ ПЕРИОД) '!E7 -> 0 | F13: =F7-'Приложение 1 (ОТЧЕТНЫЙ ПЕРИОД) '!F7 -> 0 | G13: =G7-'Приложение 1 (ОТЧЕТНЫЙ ПЕРИОД) '!G7 -> 0 | H13: =H7-'Приложение 1 (ОТЧЕТНЫЙ ПЕРИОД) '!H7 -> 0 | I13: =I7-'Приложение 1 (ОТЧЕТНЫЙ ПЕРИОД) '!I7 -> 0 | K13: =K7-'Приложение 1 (ОТЧЕТНЫЙ ПЕРИОД) '!K7 -> 0 | L13: =L7-'Приложение 1 (ОТЧЕТНЫЙ ПЕРИОД) '!L7 -> 0 | M13: =M7-'Приложение 1 (ОТЧЕТНЫЙ ПЕРИОД) '!M7 -> 0 | N13: =N7-'Приложение 1 (ОТЧЕТНЫЙ ПЕРИОД) '!N7 -> 0 | P13: =SUM(E13:O13) -> 0
B14: проверочная сторока | D14: бюджет МО | E14: =E8-'Приложение 1 (ОТЧЕТНЫЙ ПЕРИОД) '!E8 -> 0 | F14: =F8-'Приложение 1 (ОТЧЕТНЫЙ ПЕРИОД) '!F8 -> 0 | G14: =G8-'Приложение 1 (ОТЧЕТНЫЙ ПЕРИОД) '!G8 -> 0 | H14: =H8-'Приложение 1 (ОТЧЕТНЫЙ ПЕРИОД) '!H8 -> 0 | I14: =I8-'Приложение 1 (ОТЧЕТНЫЙ ПЕРИОД) '!I8 -> 0 | K14: =K8-'Приложение 1 (ОТЧЕТНЫЙ ПЕРИОД) '!K8 -> 0 | L14: =L8-'Приложение 1 (ОТЧЕТНЫЙ ПЕРИОД) '!L8 -> 0 | M14: =M8-'Приложение 1 (ОТЧЕТНЫЙ ПЕРИОД) '!M8 -> 0 | N14: =N8-'Приложение 1 (ОТЧЕТНЫЙ ПЕРИОД) '!N8 -> 0 | P14: =SUM(E14:O14) -> 0
Y17: для формирования ПОЯСНИТЕЛЬНОЙ ЗАПИСКИ мониторинга
B18: Всего по мероприятиям национальных проектов | D18: Всего | E18: ='Приложение 1 (ОТЧЕТНЫЙ ПЕРИОД) '!E10 -> 122.99552 | F18: ='Приложение 1 (ОТЧЕТНЫЙ ПЕРИОД) '!F10 -> 122.99552 | G18: ='Приложение 1 (ОТЧЕТНЫЙ ПЕРИОД) '!G10 -> 122.99598 | H18: ='Приложение 1 (ОТЧЕТНЫЙ ПЕРИОД) '!H10 -> 496.09819 | I18: ='Приложение 1 (ОТЧЕТНЫЙ ПЕРИОД) '!I10 -> 455.72322 | K18: ='Приложение 1 (ОТЧЕТНЫЙ ПЕРИОД) '!K10 -> 114.57 | L18: ='Приложение 1 (ОТЧЕТНЫЙ ПЕРИОД) '!L10 -> 98.05 | M18: ='Приложение 1 (ОТЧЕТНЫЙ ПЕРИОД) '!M10 -> 23.39 | N18: ='Приложение 1 (ОТЧЕТНЫЙ ПЕРИОД) '!N10 -> 1310.8269 | R18: =B18 -> Всего по мероприятиям национальных проектов | S18: =D18 -> Всего | T18: =E18 -> 122.99552 | U18: =F18 -> 122.99552 | V18: =G18 -> 122.99598 | W18: =F18/E18% -> 100 | X18: =G18/F18% -> 100.00038 | Y18: =V18/T18% -> 100.00038
D19: федер. бюджет | E19: ='Приложение 1 (ОТЧЕТНЫЙ ПЕРИОД) '!E11 -> 14.3145 | F19: ='Приложение 1 (ОТЧЕТНЫЙ ПЕРИОД) '!F11 -> 14.3145 | G19: ='Приложение 1 (ОТЧЕТНЫЙ ПЕРИОД) '!G11 -> 14.3145 | H19: ='Приложение 1 (ОТЧЕТНЫЙ ПЕРИОД) '!H11 -> 68.02 | I19: ='Приложение 1 (ОТЧЕТНЫЙ ПЕРИОД) '!I11 -> 40 | K19: ='Приложение 1 (ОТЧЕТНЫЙ ПЕРИОД) '!K11 -> 17.52 | L19: ='Приложение 1 (ОТЧЕТНЫЙ ПЕРИОД) '!L11 -> 0 | M19: ='Приложение 1 (ОТЧЕТНЫЙ ПЕРИОД) '!M11 -> 0 | N19: ='Приложение 1 (ОТЧЕТНЫЙ ПЕРИОД) '!N11 -> 139.8545
D20: краевой бюджет | E20: ='Приложение 1 (ОТЧЕТНЫЙ ПЕРИОД) '!E12 -> 92.239877 | F20: ='Приложение 1 (ОТЧЕТНЫЙ ПЕРИОД) '!F12 -> 92.239877 | G20: ='Приложение 1 (ОТЧЕТНЫЙ ПЕРИОД) '!G12 -> 92.239877 | H20: ='Приложение 1 (ОТЧЕТНЫЙ ПЕРИОД) '!H12 -> 415.60014 | I20: ='Приложение 1 (ОТЧЕТНЫЙ ПЕРИОД) '!I12 -> 382.40189 | K20: ='Приложение 1 (ОТЧЕТНЫЙ ПЕРИОД) '!K12 -> 87.7 | L20: ='Приложение 1 (ОТЧЕТНЫЙ ПЕРИОД) '!L12 -> 66.23 | M20: ='Приложение 1 (ОТЧЕТНЫЙ ПЕРИОД) '!M12 -> 12.06 | N20: ='Приложение 1 (ОТЧЕТНЫЙ ПЕРИОД) '!N12 -> 1056.2319
D21: бюджет МО | E21: ='Приложение 1 (ОТЧЕТНЫЙ ПЕРИОД) '!E13 -> 16.441142 | F21: ='Приложение 1 (ОТЧЕТНЫЙ ПЕРИОД) '!F13 -> 16.441142 | G21: ='Приложение 1 (ОТЧЕТНЫЙ ПЕРИОД) '!G13 -> 16.441604 | H21: ='Приложение 1 (ОТЧЕТНЫЙ ПЕРИОД) '!H13 -> 12.478055 | I21: ='Приложение 1 (ОТЧЕТНЫЙ ПЕРИОД) '!I13 -> 33.321325 | K21: ='Приложение 1 (ОТЧЕТНЫЙ ПЕРИОД) '!K13 -> 9.35 | L21: ='Приложение 1 (ОТЧЕТНЫЙ ПЕРИОД) '!L13 -> 31.82 | M21: ='Приложение 1 (ОТЧЕТНЫЙ ПЕРИОД) '!M13 -> 11.33 | N21: ='Приложение 1 (ОТЧЕТНЫЙ ПЕРИОД) '!N13 -> 114.74052
D22: проверочная сторока | E22: =E19+E20+E21 -> 122.99552 | F22: =F19+F20+F21 -> 122.99552 | G22: =G19+G20+G21 -> 122.99598 | H22: =H19+H20+H21 -> 496.09819 | I22: =I19+I20+I21 -> 455.72322 | K22: =K19+K20+K21 -> 114.57 | L22: =L19+L20+L21 -> 98.05 | M22: =M19+M20+M21 -> 23.39 | N22: =N19+N20+N21 -> 1310.8269 | P22: =SUM(E22:O22) -> 2867.6454
D23: проверочная сторока | E23: =E22-E18 -> 0 | F23: =F22-F18 -> 0 | G23: =G22-G18 -> 0 | H23: =H22-H18 -> 0 | I23: =I22-I18 -> 0 | K23: =K22-K18 -> 0 | L23: =L22-L18 -> 0 | M23: =M22-M18 -> 0 | N23: =N22-N18 -> 0 | P23: =SUM(E23:O23) -> 0
B24: проверочная сторока | D24: Всего | E24: =E25+E26+E27 -> 122.99552 | F24: =F25+F26+F27 -> 122.99552 | G24: =G25+G26+G27 -> 122.99598 | H24: =H25+H26+H27 -> 496.09819 | I24: =I25+I26+I27 -> 455.72322 | K24: =K25+K26+K27 -> 114.57 | L24: =L25+L26+L27 -> 98.05 | M24: =M25+M26+M27 -> 23.39 | N24: =N25+N26+N27 -> 1310.8269 | P24: =SUM(E24:O24) -> 2867.6454
B25: проверочная сторока | D25: федер. бюджет | E25: =E37+E44+E62+E69+E76+E83+E90+E97+E104+E111+E118+E125 -> 14.3145 | F25: =F37+F44+F62+F69+F76+F83+F90+F97+F104+F111+F118+F125 -> 14.3145 | G25: =G37+G44+G62+G69+G76+G83+G90+G97+G104+G111+G118+G125 -> 14.3145 | H25: =H37+H44+H62+H69+H76+H83+H90+H97+H104+H111+H118+H125 -> 68.02 | I25: =I37+I44+I62+I69+I76+I83+I90+I97+I104+I111+I118+I125 -> 40 | K25: =K37+K44+K62+K69+K76+K83+K90+K97+K104+K111+K118+K125 -> 17.52 | L25: =L37+L44+L62+L69+L76+L83+L90+L97+L104+L111+L118+L125 -> 0 | M25: =M37+M44+M62+M69+M76+M83+M90+M97+M104+M111+M118+M125 -> 0 | N25: =N37+N44+N62+N69+N76+N83+N90+N97+N104+N111+N118+N125 -> 139.8545 | P25: =SUM(E25:O25) -> 308.338
B26: проверочная сторока | D26: краевой бюджет | E26: =E38+E45+E63+E70+E77+E84+E91+E98+E105+E112+E119+E126 -> 92.239877 | F26: =F38+F45+F63+F70+F77+F84+F91+F98+F105+F112+F119+F126 -> 92.239877 | G26: =G38+G45+G63+G70+G77+G84+G91+G98+G105+G112+G119+G126 -> 92.239877 | H26: =H38+H45+H63+H70+H77+H84+H91+H98+H105+H112+H119+H126 -> 415.60014 | I26: =I38+I45+I63+I70+I77+I84+I91+I98+I105+I112+I119+I126 -> 382.40189 | K26: =K38+K45+K63+K70+K77+K84+K91+K98+K105+K112+K119+K126 -> 87.7 | L26: =L38+L45+L63+L70+L77+L84+L91+L98+L105+L112+L119+L126 -> 66.23 | M26: =M38+M45+M63+M70+M77+M84+M91+M98+M105+M112+M119+M126 -> 12.06 | N26: =N38+N45+N63+N70+N77+N84+N91+N98+N105+N112+N119+N126 -> 1056.2319 | P26: =SUM(E26:O26) -> 2296.9436
B27: проверочная сторока | D27: бюджет МО | E27: =E39+E46+E64+E71+E78+E85+E92+E99+E106+E113+E120+E127 -> 16.441142 | F27: =F39+F46+F64+F71+F78+F85+F92+F99+F106+F113+F120+F127 -> 16.441142 | G27: =G39+G46+G64+G71+G78+G85+G92+G99+G106+G113+G120+G127 -> 16.441604 | H27: =H39+H46+H64+H71+H78+H85+H92+H99+H106+H113+H120+H127 -> 12.478055 | I27: =I39+I46+I64+I71+I78+I85+I92+I99+I106+I113+I120+I127 -> 33.321325 | K27: =K39+K46+K64+K71+K78+K85+K92+K99+K106+K113+K120+K127 -> 9.35 | L27: =L39+L46+L64+L71+L78+L85+L92+L99+L106+L113+L120+L127 -> 31.82 | M27: =M39+M46+M64+M71+M78+M85+M92+M99+M106+M113+M120+M127 -> 11.33 | N27: =N39+N46+N64+N71+N78+N85+N92+N99+N106+N113+N120+N127 -> 114.74052 | P27: =SUM(E27:O27) -> 262.36379
B29: проверочная сторока | D29: Всего | E29: =E24-E18 -> 0 | F29: =F24-F18 -> 0 | G29: =G24-G18 -> 0 | H29: =H24-H18 -> 0 | I29: =I24-I18 -> 0 | K29: =K24-K18 -> 0 | L29: =L24-L18 -> 0 | M29: =M24-M18 -> 0 | N29: =N24-N18 -> 0 | P29: =SUM(E29:O29) -> 0
B30: проверочная сторока | D30: федер. бюджет | E30: =E25-E19 -> 0 | F30: =F25-F19 -> 0 | G30: =G25-G19 -> 0 | H30: =H25-H19 -> 0 | I30: =I25-I19 -> 0 | K30: =K25-K19 -> 0 | L30: =L25-L19 -> 0 | M30: =M25-M19 -> 0 | N30: =N25-N19 -> 0 | P30: =SUM(E30:O30) -> 0
B31: проверочная сторока | D31: краевой бюджет | E31: =E26-E20 -> 0 | F31: =F26-F20 -> 0 | G31: =G26-G20 -> 0 | H31: =H26-H20 -> 0 | I31: =I26-I20 -> 0 | K31: =K26-K20 -> 0 | L31: =L26-L20 -> 0 | M31: =M26-M20 -> 0 | N31: =N26-N20 -> 0 | P31: =SUM(E31:O31) -> 0
B32: проверочная сторока | D32: бюджет МО | E32: =E27-E21 -> 0 | F32: =F27-F21 -> 0 | G32: =G27-G21 -> 0 | H32: =H27-H21 -> 0 | I32: =I27-I21 -> 0 | K32: =K27-K21 -> 0 | L32: =L27-L21 -> 0 | M32: =M27-M21 -> 0 | N32: =N27-N21 -> 0 | P32: =SUM(E32:O32) -> 0
E35: I | F35: ДЕМОГРАФИЯ
A36: =E35 -> I | B36: Итого по национальному проекту | D36: Всего | E36: ='Приложение 1 (ОТЧЕТНЫЙ ПЕРИОД) '!E100 -> 1.504068 | F36: ='Приложение 1 (ОТЧЕТНЫЙ ПЕРИОД) '!F100 -> 1.504068 | G36: ='Приложение 1 (ОТЧЕТНЫЙ ПЕРИОД) '!G100 -> 1.504068 | H36: ='Приложение 1 (ОТЧЕТНЫЙ ПЕРИОД) '!H100 -> 83 | I36: ='Приложение 1 (ОТЧЕТНЫЙ ПЕРИОД) '!I100 -> 41.216327 | K36: ='Приложение 1 (ОТЧЕТНЫЙ ПЕРИОД) '!K100 -> 0 | L36: ='Приложение 1 (ОТЧЕТНЫЙ ПЕРИОД) '!L100 -> 55.95 | M36: ='Приложение 1 (ОТЧЕТНЫЙ ПЕРИОД) '!M100 -> 0.4 | N36: ='Приложение 1 (ОТЧЕТНЫЙ ПЕРИОД) '!N100 -> 182.0704 | R36: =B37 -> ДЕМОГРАФИЯ | S36: =D36 -> Всего | T36: =E36 -> 1.504068 | U36: =F36 -> 1.504068 | V36: =G36 -> 1.504068 | W36: =F36/E36% -> 100 | X36: =G36/F36% -> 100 | Y36: =V36/T36% -> 100
B37: =F35 -> ДЕМОГРАФИЯ | D37: федер. бюджет | E37: ='Приложение 1 (ОТЧЕТНЫЙ ПЕРИОД) '!E101 -> 0 | F37: ='Приложение 1 (ОТЧЕТНЫЙ ПЕРИОД) '!F101 -> 0 | G37: ='Приложение 1 (ОТЧЕТНЫЙ ПЕРИОД) '!G101 -> 0 | H37: ='Приложение 1 (ОТЧЕТНЫЙ ПЕРИОД) '!H101 -> 68.02 | I37: ='Приложение 1 (ОТЧЕТНЫЙ ПЕРИОД) '!I101 -> 40 | K37: ='Приложение 1 (ОТЧЕТНЫЙ ПЕРИОД) '!K101 -> 0 | L37: ='Приложение 1 (ОТЧЕТНЫЙ ПЕРИОД) '!L101 -> 0 | M37: ='Приложение 1 (ОТЧЕТНЫЙ ПЕРИОД) '!M101 -> 0 | N37: ='Приложение 1 (ОТЧЕТНЫЙ ПЕРИОД) '!N101 -> 108.02
D38: краевой бюджет | E38: ='Приложение 1 (ОТЧЕТНЫЙ ПЕРИОД) '!E102 -> 0.97 | F38: ='Приложение 1 (ОТЧЕТНЫЙ ПЕРИОД) '!F102 -> 0.97 | G38: ='Приложение 1 (ОТЧЕТНЫЙ ПЕРИОД) '!G102 -> 0.97 | H38: ='Приложение 1 (ОТЧЕТНЫЙ ПЕРИОД) '!H102 -> 12.72 | I38: ='Приложение 1 (ОТЧЕТНЫЙ ПЕРИОД) '!I102 -> 0.816327 | K38: ='Приложение 1 (ОТЧЕТНЫЙ ПЕРИОД) '!K102 -> 0 | L38: ='Приложение 1 (ОТЧЕТНЫЙ ПЕРИОД) '!L102 -> 55 | M38: ='Приложение 1 (ОТЧЕТНЫЙ ПЕРИОД) '!M102 -> 0 | N38: ='Приложение 1 (ОТЧЕТНЫЙ ПЕРИОД) '!N102 -> 69.506327
D39: бюджет МО | E39: ='Приложение 1 (ОТЧЕТНЫЙ ПЕРИОД) '!E103 -> 0.534068 | F39: ='Приложение 1 (ОТЧЕТНЫЙ ПЕРИОД) '!F103 -> 0.534068 | G39: ='Приложение 1 (ОТЧЕТНЫЙ ПЕРИОД) '!G103 -> 0.534068 | H39: ='Приложение 1 (ОТЧЕТНЫЙ ПЕРИОД) '!H103 -> 2.26 | I39: ='Приложение 1 (ОТЧЕТНЫЙ ПЕРИОД) '!I103 -> 0.4 | K39: ='Приложение 1 (ОТЧЕТНЫЙ ПЕРИОД) '!K103 -> 0 | L39: ='Приложение 1 (ОТЧЕТНЫЙ ПЕРИОД) '!L103 -> 0.95 | M39: ='Приложение 1 (ОТЧЕТНЫЙ ПЕРИОД) '!M103 -> 0.4 | N39: ='Приложение 1 (ОТЧЕТНЫЙ ПЕРИОД) '!N103 -> 4.544068
D40: проверочная сторока | E40: =E37+E38+E39 -> 1.504068 | F40: =F37+F38+F39 -> 1.504068 | G40: =G37+G38+G39 -> 1.504068 | H40: =H37+H38+H39 -> 83 | I40: =I37+I38+I39 -> 41.216327 | K40: =K37+K38+K39 -> 0 | L40: =L37+L38+L39 -> 55.95 | M40: =M37+M38+M39 -> 0.4 | N40: =N37+N38+N39 -> 182.0704 | P40: =SUM(E40:O40) -> 367.14893
D41: проверочная сторока | E41: =E40-E36 -> 0 | F41: =F40-F36 -> 0 | G41: =G40-G36 -> 0 | H41: =H40-H36 -> 0 | I41: =I40-I36 -> 0 | K41: =K40-K36 -> 0 | L41: =L40-L36 -> 0 | M41: =M40-M36 -> 0 | N41: =N40-N36 -> 0 | P41: =SUM(E41:O41) -> 0
E42: II | F42: ЗДРАВООХРАНЕНИЕ
A43: =E42 -> II | B43: Итого по национальному проекту | D43: Всего | E43: ='Приложение 1 (ОТЧЕТНЫЙ ПЕРИОД) '!E138 -> 0 | F43: ='Приложение 1 (ОТЧЕТНЫЙ ПЕРИОД) '!F138 -> 0 | G43: ='Приложение 1 (ОТЧЕТНЫЙ ПЕРИОД) '!G138 -> 0 | H43: ='Приложение 1 (ОТЧЕТНЫЙ ПЕРИОД) '!H138 -> 0 | I43: ='Приложение 1 (ОТЧЕТНЫЙ ПЕРИОД) '!I138 -> 0 | K43: ='Приложение 1 (ОТЧЕТНЫЙ ПЕРИОД) '!K138 -> 0 | L43: ='Приложение 1 (ОТЧЕТНЫЙ ПЕРИОД) '!L138 -> 0 | M43: ='Приложение 1 (ОТЧЕТНЫЙ ПЕРИОД) '!M138 -> 0 | N43: ='Приложение 1 (ОТЧЕТНЫЙ ПЕРИОД) '!N138 -> 0 | R43: =B44 -> ЗДРАВООХРАНЕНИЕ | S43: =D43 -> Всего | T43: =E43 -> 0 | U43: =F43 -> 0 | V43: =G43 -> 0 | W43: =F43/E43% -> #DIV/0! | X43: =G43/F43% -> #DIV/0! | Y43: =V43/T43% -> #DIV/0!
B44: =F42 -> ЗДРАВООХРАНЕНИЕ | D44: федер. бюджет | E44: ='Приложение 1 (ОТЧЕТНЫЙ ПЕРИОД) '!E139 -> 0 | F44: ='Приложение 1 (ОТЧЕТНЫЙ ПЕРИОД) '!F139 -> 0 | G44: ='Приложение 1 (ОТЧЕТНЫЙ ПЕРИОД) '!G139 -> 0 | H44: ='Приложение 1 (ОТЧЕТНЫЙ ПЕРИОД) '!H139 -> 0 | I44: ='Приложение 1 (ОТЧЕТНЫЙ ПЕРИОД) '!I139 -> 0 | K44: ='Приложение 1 (ОТЧЕТНЫЙ ПЕРИОД) '!K139 -> 0 | L44: ='Приложение 1 (ОТЧЕТНЫЙ ПЕРИОД) '!L139 -> 0 | M44: ='Приложение 1 (ОТЧЕТНЫЙ ПЕРИОД) '!M139 -> 0 | N44: ='Приложение 1 (ОТЧЕТНЫЙ ПЕРИОД) '!N139 -> 0
D45: краевой бюджет | E45: ='Приложение 1 (ОТЧЕТНЫЙ ПЕРИОД) '!E140 -> 0 | F45: ='Приложение 1 (ОТЧЕТНЫЙ ПЕРИОД) '!F140 -> 0 | G45: ='Приложение 1 (ОТЧЕТНЫЙ ПЕРИОД) '!G140 -> 0 | H45: ='Приложение 1 (ОТЧЕТНЫЙ ПЕРИОД) '!H140 -> 0 | I45: ='Приложение 1 (ОТЧЕТНЫЙ ПЕРИОД) '!I140 -> 0 | K45: ='Приложение 1 (ОТЧЕТНЫЙ ПЕРИОД) '!K140 -> 0 | L45: ='Приложение 1 (ОТЧЕТНЫЙ ПЕРИОД) '!L140 -> 0 | M45: ='Приложение 1 (ОТЧЕТНЫЙ ПЕРИОД) '!M140 -> 0 | N45: ='Приложение 1 (ОТЧЕТНЫЙ ПЕРИОД) '!N140 -> 0
D46: бюджет МО | E46: ='Приложение 1 (ОТЧЕТНЫЙ ПЕРИОД) '!E141 -> 0 | F46: ='Приложение 1 (ОТЧЕТНЫЙ ПЕРИОД) '!F141 -> 0 | G46: ='Приложение 1 (ОТЧЕТНЫЙ ПЕРИОД) '!G141 -> 0 | H46: ='Приложение 1 (ОТЧЕТНЫЙ ПЕРИОД) '!H141 -> 0 | I46: ='Приложение 1 (ОТЧЕТНЫЙ ПЕРИОД) '!I141 -> 0 | K46: ='Приложение 1 (ОТЧЕТНЫЙ ПЕРИОД) '!K141 -> 0 | L46: ='Приложение 1 (ОТЧЕТНЫЙ ПЕРИОД) '!L141 -> 0 | M46: ='Приложение 1 (ОТЧЕТНЫЙ ПЕРИОД) '!M141 -> 0 | N46: ='Приложение 1 (ОТЧЕТНЫЙ ПЕРИОД) '!N141 -> 0
D47: проверочная сторока | E47: =E44+E45+E46 -> 0 | F47: =F44+F45+F46 -> 0 | G47: =G44+G45+G46 -> 0 | H47: =H44+H45+H46 -> 0 | I47: =I44+I45+I46 -> 0 | K47: =K44+K45+K46 -> 0 | L47: =L44+L45+L46 -> 0 | M47: =M44+M45+M46 -> 0 | N47: =N44+N45+N46 -> 0 | P47: =SUM(E47:O47) -> 0
...

Sheet ЗАВЕРШЕННЫЕ МЕРОПРИЯТИЯ
B1: ФОРМАТ И ШРИФТЫ НЕ ИЗМЕНЯТЬ | J1: Приложение 4 | N1: Приложение 1
A2: ='Приложение 1 (ОТЧЕТНЫЙ ПЕРИОД) '!A2:J2 -> ИНФОРМАЦИЯ по показателям и мероприятиям дорожных карт по достижению показателей Указа Президента Российской Федерации от 07.05.2018 № 204 ПОЖАРСКИЙ МУНИЦИПАЛЬНЫЙ РАЙОН | K2: ЕЖЕМЕСЯЧНАЯ форма предоставления информации
A3: № п.п. | B3: Наименование показателя | E3: Значение показателя, млн рублей | J3: ЗАВЕРШЕННЫЕ МЕРОПРИЯТИЯ в рамках НП 2019-2024 гг. Примечание. НАИМЕНОВАНИЕ МЕРОПРИЯТИЯ. Номер контракта, cумма контракта (млн рублей), поставщик, дата завершения работ по контракту. Адрес расположения заверщенного объекта.
B4: ='Приложение 2 (СВОД)'!B4 -> городской округ (муниципальный р-н) | C4: Дата завершения мероприятия | G4: сумма завершенного контракта, млн рублей
B5: ВСЕГО | D5: Всего | G5: =G6+G7+G8 -> 0 | K5: =K6+K7+K8 -> 0 | L5: =L6+L7+L8 -> 0 | M5: =M6+M7+M8 -> 0 | N5: =N6+N7+N8 -> 0
D6: федер. бюджет | G6: =G11+G379 -> 0 | K6: =K11+K379 -> 0 | L6: =L11+L379 -> 0 | M6: =M11+M379 -> 0 | N6: =N11+N379 -> 0
D7: краевой бюджет | G7: =G12+G380 -> 0 | K7: =K12+K380 -> 0 | L7: =L12+L380 -> 0 | M7: =M12+M380 -> 0 | N7: =N12+N380 -> 0
D8: бюджет МО | G8: =G13+G381 -> 0 | K8: =K13+K381 -> 0 | L8: =L13+L381 -> 0 | M8: =M13+M381 -> 0 | N8: =N13+N381 -> 0
B10: Всего по ЗАВЕРШЕННЫМ МЕРОПРИЯТИЯМ национальных проектов | D10: Всего | G10: =SUM(G11:G13) -> 0 | K10: =SUM(K11:K13) -> 0 | L10: =SUM(L11:L13) -> 0 | M10: =SUM(M11:M13) -> 0 | N10: =SUM(N11:N13) -> 0
D11: федер. бюджет | G11: =G41+G79+G108+G137+G166+G195+G224+G253+G282+G311+G340+G369 -> 0 | K11: =K41+K79+K108+K137+K166+K195+K224+K253+K282+K311+K340+K369 -> 0 | L11: =L41+L79+L108+L137+L166+L195+L224+L253+L282+L311+L340+L369 -> 0 | M11: =M41+M79+M108+M137+M166+M195+M224+M253+M282+M311+M340+M369 -> 0 | N11: =E11+H11+I11+K11+L11+M11 -> 0
D12: краевой бюджет | G12: =G42+G80+G109+G138+G167+G196+G225+G254+G283+G312+G341+G370 -> 0 | K12: =K42+K80+K109+K138+K167+K196+K225+K254+K283+K312+K341+K370 -> 0 | L12: =L42+L80+L109+L138+L167+L196+L225+L254+L283+L312+L341+L370 -> 0 | M12: =M42+M80+M109+M138+M167+M196+M225+M254+M283+M312+M341+M370 -> 0 | N12: =E12+H12+I12+K12+L12+M12 -> 0
D13: бюджет МО | G13: =G43+G81+G110+G139+G168+G197+G226+G255+G284+G313+G342+G371 -> 0 | K13: =K43+K81+K110+K139+K168+K197+K226+K255+K284+K313+K342+K371 -> 0 | L13: =L43+L81+L110+L139+L168+L197+L226+L255+L284+L313+L342+L371 -> 0 | M13: =M43+M81+M110+M139+M168+M197+M226+M255+M284+M313+M342+M371 -> 0 | N13: =E13+H13+I13+K13+L13+M13 -> 0
E15: I | F15: ДЕМОГРАФИЯ
A16: Региональный проект 1. ….
A17: 1 | B17: Наименование показателя регионального проекта
B18: городской округ (муниципальный р-н)
B19: Меропиятия
A20: 1.1 | B20: Мероприятие, обеспечивающее достижение данного поуказателя | D20: всего | G20: =SUM(G21:G23) -> 0 | K20: =SUM(K21:K23) -> 0 | L20: =SUM(L21:L23) -> 0 | M20: =SUM(M21:M23) -> 0 | N20: =E20+H20+I20+K20+L20+M20 -> 0
D21: федер. бюджет | N21: =E21+H21+I21+K21+L21+M21 -> 0
D22: краевой бюджет | N22: =E22+H22+I22+K22+L22+M22 -> 0
D23: бюджет МО | N23: =E23+H23+I23+K23+L23+M23 -> 0
A24: 2 | B24: Наименование показателя регионального проекта
B25: городской округ (муниципальный р-н)
B26: Меропиятия
A27: 2.1 | B27: Мероприятие, обеспечивающее достижение данного поуказателя | D27: всего | G27: =SUM(G28:G30) -> 0 | K27: =SUM(K28:K30) -> 0 | L27: =SUM(L28:L30) -> 0 | M27: =SUM(M28:M30) -> 0 | N27: =E27+H27+I27+K27+L27+M27 -> 0
D28: федер. бюджет | N28: =E28+H28+I28+K28+L28+M28 -> 0
D29: краевой бюджет | N29: =E29+H29+I29+K29+L29+M29 -> 0
D30: бюджет МО | N30: =E30+H30+I30+K30+L30+M30 -> 0
A31: … | B31: и т.д. по показателям и мероприятиям данного регионального проекта
A32: Региональный проект 2 …..
A33: 1 | B33: Наименование показателя регионального проекта
B34: городской округ (муниципальный р-н)
B35: Меропиятия | C35: Потребность в финансировании, млн. рублей
A36: 1.1 | B36: Мероприятие, обеспечивающее достижение данного поуказателя | D36: всего | G36: =SUM(G37:G39) -> 0 | K36: =SUM(K37:K39) -> 0 | L36: =SUM(L37:L39) -> 0 | M36: =SUM(M37:M39) -> 0 | N36: =E36+H36+I36+K36+L36+M36 -> 0
D37: федер. бюджет | N37: =E37+H37+I37+K37+L37+M37 -> 0
D38: краевой бюджет | N38: =E38+H38+I38+K38+L38+M38 -> 0
D39: бюджет МО | N39: =E39+H39+I39+K39+L39+M39 -> 0
A40: =E15 -> I | B40: Итого по национальному проекту | D40: Всего | G40: =G41+G42+G43 -> 0 | K40: =K41+K42+K43 -> 0 | L40: =L41+L42+L43 -> 0 | M40: =M41+M42+M43 -> 0 | N40: =N41+N42+N43 -> 0
B41: =F15 -> ДЕМОГРАФИЯ | D41: федер. бюджет | N41: =E41+H41+I41+K41+L41+M41 -> 0
D42: краевой бюджет | N42: =E42+H42+I42+K42+L42+M42 -> 0
...
