Workbook

Sheet Приложение 1 (ОТЧЕТНЫЙ ПЕРИОД) 
B1: ФОРМАТ И ШРИФТЫ НЕ ИЗМЕНЯТЬ | N1: Приложение 1
A2: ИНФОРМАЦИЯ по показателям и мероприятиям дорожных карт по достижению показателей Указа Президента Российской Федерации от 07.05.2018 № 204 ПОЖАРСКИЙ МУНИЦИПАЛЬНЫЙ РАЙОН | K2: ЕЖЕНЕДЕЛЬНАЯ ПО СОСТОЯНИЮ НА 27.12.2021 форма предоставления информации
A3: № п.п. | B3: Наименование показателя | C3: Базовое значение | E3: Значение показателя/ потребность в финансировании, млн рублей | J3: Примечание. Сумма контракта, дата заключения контракта, поставщик, дата завершения работ по контракту. Дата внесения изменений в план-график, планируемая дата начала конкурсных процедур, планируемая дата заключения контракта. Для контрактов на подписании - дата завершения конкурсных процедур, сумма контракта, поставщик, планируемая дата заключения контракта, дата завершения работ по контракту. Адрес расположения заверщенного объекта. | K3: ИТОГ ПРОФИНАНСИРОВАННО, млн рублей | M3: Значениепотребность в финансировании, млн рублей | N3: ВСЕГО 2019-2024
B4: городской округ (муниципальный р-н) | C4: Значение/ года | D4: Дата / вид бюджета | E4: 2021 г. (план в соответствии с бюджетом) | F4: сумма подписанного контракта по мероприятию | G4: профинанси-ровано (кассовый расход) /исполнение на 27.12.2021 | H4: 2022 г. (план в соответствии с бюджетом) | I4: 2023 г. (план в соответствии с бюджетом) | K4: 2019 г. | L4: 2020 г. | M4: 2024 г.
B5: ВСЕГО | D5: Всего | E5: =E6+E7+E8 -> 253.4272 | F5: =F6+F7+F8 -> 253.4272 | G5: =G6+G7+G8 -> 253.4272 | H5: =H6+H7+H8 -> 80.671316 | I5: =I6+I7+I8 -> 37.321521 | K5: =K6+K7+K8 -> 130.618 | L5: =L6+L7+L8 -> 124.03937 | M5: =M6+M7+M8 -> 0.6 | N5: =N6+N7+N8 -> 626.67741
D6: федер. бюджет | E6: =E11+E292 -> 132.742 | F6: =F11+F292 -> 132.742 | G6: =G11+G292 -> 132.742 | H6: =H11+H292 -> 55.352 | I6: =I11+I292 -> 13.212 | K6: =K11+K292 -> 17.935 | L6: =L11+L292 -> 14.7395 | M6: =M11+M292 -> 0 | N6: =N11+N292 -> 233.9805
D7: краевой бюджет | E7: =E12+E293 -> 103.73144 | F7: =F12+F293 -> 103.73144 | G7: =G12+G293 -> 103.73144 | H7: =H12+H293 -> 24.45666 | I7: =I12+I293 -> 23.5949 | K7: =K12+K293 -> 102.346 | L7: =L12+L293 -> 92.8478 | M7: =M12+M293 -> 0 | N7: =N12+N293 -> 346.9768
D8: бюджет МО | E8: =E13+E294 -> 16.953757 | F8: =F13+F294 -> 16.953757 | G8: =G13+G294 -> 16.953757 | H8: =H13+H294 -> 0.862656 | I8: =I13+I294 -> 0.514621 | K8: =K13+K294 -> 10.337 | L8: =L13+L294 -> 16.45207 | M8: =M13+M294 -> 0.6 | N8: =N13+N294 -> 45.720104
B10: Всего по мероприятиям национальных проектов | D10: Всего | E10: =SUM(E11:E13) -> 246.88254 | F10: =SUM(F11:F13) -> 246.88254 | G10: =SUM(G11:G13) -> 246.88254 | H10: =SUM(H11:H13) -> 80.20666 | I10: =SUM(I11:I13) -> 36.86 | K10: =SUM(K11:K13) -> 130.04 | L10: =SUM(L11:L13) -> 123.55147 | M10: =SUM(M11:M13) -> 0.6 | N10: =SUM(N11:N13) -> 618.14067
D11: федер. бюджет | E11: =E31+E57+E84+E118+E129+E168+E191+E213+E224+E249+E259+E282 -> 132.317 | F11: =F31+F57+F84+F118+F129+F168+F191+F213+F224+F249+F259+F282 -> 132.317 | G11: =G31+G57+G84+G118+G129+G168+G191+G213+G224+G249+G259+G282 -> 132.317 | H11: =H31+H57+H84+H118+H129+H168+H191+H213+H224+H249+H259+H282 -> 54.947 | I11: =I31+I57+I84+I118+I129+I168+I191+I213+I224+I249+I259+I282 -> 12.81 | K11: =K31+K57+K84+K118+K129+K168+K191+K213+K224+K249+K259+K282 -> 17.52 | L11: =L31+L57+L84+L118+L129+L168+L191+L213+L224+L249+L259+L282 -> 14.3145 | M11: =M31+M57+M84+M118+M129+M168+M191+M213+M224+M249+M259+M282 -> 0 | N11: =E11+H11+I11+K11+L11+M11 -> 231.9085
D12: краевой бюджет | E12: =E32+E58+E85+E119+E130+E169+E192+E214+E225+E250+E260+E283 -> 97.676442 | F12: =F32+F58+F85+F119+F130+F169+F192+F214+F225+F250+F260+F283 -> 97.676442 | G12: =G32+G58+G85+G119+G130+G169+G192+G214+G225+G250+G260+G283 -> 97.676442 | H12: =H32+H58+H85+H119+H130+H169+H192+H214+H225+H250+H260+H283 -> 24.40166 | I12: =I32+I58+I85+I119+I130+I169+I192+I214+I225+I250+I260+I283 -> 23.54 | K12: =K32+K58+K85+K119+K130+K169+K192+K214+K225+K250+K260+K283 -> 102.29 | L12: =L32+L58+L85+L119+L130+L169+L192+L214+L225+L250+L260+L283 -> 92.7898 | M12: =M32+M58+M85+M119+M130+M169+M192+M214+M225+M250+M260+M283 -> 0 | N12: =E12+H12+I12+K12+L12+M12 -> 340.6979
D13: бюджет МО | E13: =E33+E59+E86+E120+E131+E170+E193+E215+E226+E251+E261+E284 -> 16.889101 | F13: =F33+F59+F86+F120+F131+F170+F193+F215+F226+F251+F261+F284 -> 16.889101 | G13: =G33+G59+G86+G120+G131+G170+G193+G215+G226+G251+G261+G284 -> 16.889101 | H13: =H33+H59+H86+H120+H131+H170+H193+H215+H226+H251+H261+H284 -> 0.858 | I13: =I33+I59+I86+I120+I131+I170+I193+I215+I226+I251+I261+I284 -> 0.51 | K13: =K33+K59+K86+K120+K131+K170+K193+K215+K226+K251+K261+K284 -> 10.23 | L13: =L33+L59+L86+L120+L131+L170+L193+L215+L226+L251+L261+L284 -> 16.44717 | M13: =M33+M59+M86+M120+M131+M170+M193+M215+M226+M251+M261+M284 -> 0.6 | N13: =E13+H13+I13+K13+L13+M13 -> 45.534271
E15: I | F15: ДЕМОГРАФИЯ
A16: Региональный проект 1. ….
B17: Меропиятия | C17: Потребность в финансировании, млн. рублей
A18: 1.1 | D18: всего | E18: =SUM(E19:E21) -> 0 | F18: =SUM(F19:F21) -> 0 | G18: =SUM(G19:G21) -> 0 | H18: =SUM(H19:H21) -> 0 | I18: =SUM(I19:I21) -> 0 | K18: =SUM(K19:K21) -> 0.75 | L18: =SUM(L19:L21) -> 0.29 | M18: =SUM(M19:M21) -> 0.6 | N18: =E18+H18+I18+K18+L18+M18 -> 1.64
D19: федер. бюджет | N19: =E19+H19+I19+K19+L19+M19 -> 0
D20: краевой бюджет | N20: =E20+H20+I20+K20+L20+M20 -> 0
D21: бюджет МО | K21: 0.75 | L21: 0.29 | M21: 0.6 | N21: =E21+H21+I21+K21+L21+M21 -> 1.64
A22: 1.2 | D22: всего | E22: =SUM(E23:E25) -> 0 | F22: =SUM(F23:F25) -> 0 | G22: =SUM(G23:G25) -> 0 | H22: =SUM(H23:H25) -> 0 | I22: =SUM(I23:I25) -> 0 | K22: =SUM(K23:K25) -> 0 | L22: =SUM(L23:L25) -> 0 | M22: =SUM(M23:M25) -> 0 | N22: =E22+H22+I22+K22+L22+M22 -> 0
D23: федер. бюджет | N23: =E23+H23+I23+K23+L23+M23 -> 0
D24: краевой бюджет | N24: =E24+H24+I24+K24+L24+M24 -> 0
D25: бюджет МО | N25: =E25+H25+I25+K25+L25+M25 -> 0
A26: 1.3 | D26: всего | E26: =SUM(E27:E29) -> 0 | F26: =SUM(F27:F29) -> 0 | G26: =SUM(G27:G29) -> 0 | H26: =SUM(H27:H29) -> 0 | I26: =SUM(I27:I29) -> 0 | K26: =SUM(K27:K29) -> 0 | L26: =SUM(L27:L29) -> 0 | M26: =SUM(M27:M29) -> 0 | N26: =E26+H26+I26+K26+L26+M26 -> 0
D27: федер. бюджет | N27: =E27+H27+I27+K27+L27+M27 -> 0
D28: краевой бюджет | N28: =E28+H28+I28+K28+L28+M28 -> 0
D29: бюджет МО | N29: =E29+H29+I29+K29+L29+M29 -> 0
A30: =E15 -> I | B30: Итого по национальному проекту | D30: Всего | E30: =E31+E32+E33 -> 0 | F30: =F31+F32+F33 -> 0 | G30: =G31+G32+G33 -> 0 | H30: =H31+H32+H33 -> 0 | I30: =I31+I32+I33 -> 0 | K30: =K31+K32+K33 -> 15.43 | L30: =L31+L32+L33 -> 1.5041 | M30: =M31+M32+M33 -> 0.6 | N30: =N31+N32+N33 -> 17.5341
B31: =F15 -> ДЕМОГРАФИЯ | D31: федер. бюджет | E31: =E19+E23+E27 -> 0 | F31: =F19+F23+F27 -> 0 | G31: =G19+G23+G27 -> 0 | H31: =H19+H23+H27 -> 0 | I31: =I19+I23+I27 -> 0 | M31: =M19+M23+M27 -> 0 | N31: =E31+H31+I31+K31+L31+M31 -> 0
D32: краевой бюджет | E32: =E20+E24+E28 -> 0 | F32: =F20+F24+F28 -> 0 | G32: =G20+G24+G28 -> 0 | H32: =H20+H24+H28 -> 0 | I32: =I20+I24+I28 -> 0 | K32: 14.59 | L32: 0.97 | M32: =M20+M24+M28 -> 0 | N32: =E32+H32+I32+K32+L32+M32 -> 15.56
D33: бюджет МО | E33: =E21+E25+E29 -> 0 | F33: =F21+F25+F29 -> 0 | G33: =G21+G25+G29 -> 0 | H33: =H21+H25+H29 -> 0 | I33: =I21+I25+I29 -> 0 | K33: 0.84 | L33: 0.5341 | M33: =M21+M25+M29 -> 0.6 | N33: =E33+H33+I33+K33+L33+M33 -> 1.9741
E34: II | F34: ЗДРАВООХРАНЕНИЕ
A35: Показатели для оценки деятельности глав муниципальных образований Приморского края по достижению задач регионального проекта «Здравоохранение» на 2021 год
A36: 1
A38: 2
A40: 3
A42: 4
A44: Региональный проект 1. ….
B45: Меропиятия | C45: Потребность в финансировании, млн. рублей
A46: 1.1 | D46: всего | E46: =SUM(E47:E49) -> 0 | F46: =SUM(F47:F49) -> 0 | G46: =SUM(G47:G49) -> 0 | H46: =SUM(H47:H49) -> 0 | I46: =SUM(I47:I49) -> 0 | K46: =SUM(K47:K49) -> 0 | L46: =SUM(L47:L49) -> 0 | M46: =SUM(M47:M49) -> 0 | N46: =E46+H46+I46+K46+L46+M46 -> 0
D47: федер. бюджет | N47: =E47+H47+I47+K47+L47+M47 -> 0
D48: краевой бюджет | N48: =E48+H48+I48+K48+L48+M48 -> 0
D49: бюджет МО | N49: =E49+H49+I49+K49+L49+M49 -> 0
B50: Меропиятия | C50: Потребность в финансировании, млн. рублей
A51: 2.1 | D51: всего | E51: =SUM(E52:E54) -> 0 | F51: =SUM(F52:F54) -> 0 | G51: =SUM(G52:G54) -> 0 | H51: =SUM(H52:H54) -> 0 | I51: =SUM(I52:I54) -> 0 | K51: =SUM(K52:K54) -> 0 | L51: =SUM(L52:L54) -> 0 | M51: =SUM(M52:M54) -> 0 | N51: =E51+H51+I51+K51+L51+M51 -> 0
D52: федер. бюджет | N52: =E52+H52+I52+K52+L52+M52 -> 0
D53: краевой бюджет | N53: =E53+H53+I53+K53+L53+M53 -> 0
D54: бюджет МО | N54: =E54+H54+I54+K54+L54+M54 -> 0
A55: … | B55: и т.д. по показателям и мероприятиям данного регионального проекта
A56: =E34 -> II | B56: Итого по национальному проекту | D56: Всего | E56: =E57+E58+E59 -> 0 | F56: =F57+F58+F59 -> 0 | G56: =G57+G58+G59 -> 0 | H56: =H57+H58+H59 -> 0 | I56: =I57+I58+I59 -> 0 | K56: =K57+K58+K59 -> 0 | L56: =L57+L58+L59 -> 0 | M56: =M57+M58+M59 -> 0 | N56: =N57+N58+N59 -> 0
B57: =F34 -> ЗДРАВООХРАНЕНИЕ | D57: федер. бюджет | N57: =E57+H57+I57+K57+L57+M57 -> 0
D58: краевой бюджет | N58: =E58+H58+I58+K58+L58+M58 -> 0
D59: бюджет МО | N59: =E59+H59+I59+K59+L59+M59 -> 0
E60: III | F60: ОБРАЗОВАНИЕ
A61: Региональный проект 1. Современная школа
B62: Меропиятия | C62: Потребность в финансировании, млн. рублей
A63: 1.1 | B63: Капитальный ремонт оконных блоков в здании МОБУ СОШ № 4 пгт Лучегорск | D63: всего | E63: =SUM(E64:E66) -> 5.31003 | F63: =SUM(F64:F66) -> 5.31003 | G63: =SUM(G64:G66) -> 5.31003 | H63: =SUM(H64:H66) -> 0 | I63: =SUM(I64:I66) -> 0 | J63: Муниципальный контракт заключен 10.03.2021. Сроки выполнения работ с 10.03.2021 по 31.05.2021. Работы завершены в срок. Контракт оплачен. | K63: =SUM(K64:K66) -> 0 | L63: =SUM(L64:L66) -> 0 | M63: =SUM(M64:M66) -> 0 | N63: =E63+H63+I63+K63+L63+M63 -> 5.31003
D64: федер. бюджет | N64: =E64+H64+I64+K64+L64+M64 -> 0
D65: краевой бюджет | E65: 5.25693 | F65: 5.25693 | G65: 5.25693 | N65: =E65+H65+I65+K65+L65+M65 -> 5.25693
D66: бюджет МО | E66: 0.0531 | F66: 0.0531 | G66: 0.0531 | N66: =E66+H66+I66+K66+L66+M66 -> 0.0531
A67: 1.2 | B67: Обследование фундаментов, несущих стен и определение объема работ по капитальному ремонту здания МОБУ СОШ № 7 с. Пожарское Пожарского муниципального района с целью принятия решения о строительстве новой школы или принятия решения о капитальном ремонте существующих зданий школы для безопасного продолжения учебного процесса в существующих зданиях | D67: всего | E67: =SUM(E68:E70) -> 0 | F67: =SUM(F68:F70) -> 0 | G67: =SUM(G68:G70) -> 0 | H67: =SUM(H68:H70) -> 0 | I67: =SUM(I68:I70) -> 0 | J67: В рамках реализации мероприятия национального проекта «Современная школа» получено положительное заключение государственной экспертизы на проведение определения несущей способности оснований фундамента и обследования части здания. Основное здание (литер "А", год постройки 1962) признано непригодным для функционирования. Выполнены мероприятия по техническому ремонту и подготовке к началу учебного года здания (литер "Б", год постройки 1968) и спортивного зала (пристройка, год постройки 1992). В настоящее время сметная документация на проектно-изыскательские работы на строительство в 2023-2024 гг. нового здания школы на 120 мест и 30 мест дошкольной группы направлена на госэкспертизу. | K67: =SUM(K68:K70) -> 0 | L67: =SUM(L68:L70) -> 0 | M67: =SUM(M68:M70) -> 0 | N67: =E67+H67+I67+K67+L67+M67 -> 0
D68: федер. бюджет | N68: =E68+H68+I68+K68+L68+M68 -> 0
D69: краевой бюджет | N69: =E69+H69+I69+K69+L69+M69 -> 0
D70: бюджет МО | N70: =E70+H70+I70+K70+L70+M70 -> 0
A71: 1.3 | B71: Капитальный ремонт кровли МОБУ СОШ № 4 пгт Лучегорск | D71: всего | E71: =SUM(E72:E74) -> 0 | F71: =SUM(F72:F74) -> 0 | G71: =SUM(G72:G74) -> 0 | H71: =SUM(H72:H74) -> 14.59 | I71: =SUM(I72:I74) -> 0 | K71: =SUM(K72:K74) -> 0 | L71: =SUM(L72:L74) -> 0.01755 | M71: =SUM(M72:M74) -> 0 | N71: =E71+H71+I71+K71+L71+M71 -> 14.60755
D72: федер. бюджет | H72: 14.157 | N72: =E72+H72+I72+K72+L72+M72 -> 14.157
D73: краевой бюджет | H73: 0.288 | N73: =E73+H73+I73+K73+L73+M73 -> 0.288
D74: бюджет МО | H74: 0.145 | L74: 0.01755 | N74: =E74+H74+I74+K74+L74+M74 -> 0.16255
A75: 1.4 | B75: Капитальный ремонт кровли и оконных блоков в здании МОБУ СОШ № 16 с. Верхний Перевал | D75: всего | E75: =SUM(E76:E78) -> 0 | F75: =SUM(F76:F78) -> 0 | G75: =SUM(G76:G78) -> 0 | H75: =SUM(H76:H78) -> 11.101 | I75: =SUM(I76:I78) -> 0 | K75: =SUM(K76:K78) -> 0 | L75: =SUM(L76:L78) -> 0.024164 | M75: =SUM(M76:M78) -> 0 | N75: =E75+H75+I75+K75+L75+M75 -> 11.125164
D76: федер. бюджет | H76: 10.772 | N76: =E76+H76+I76+K76+L76+M76 -> 10.772
D77: краевой бюджет | H77: 0.219 | N77: =E77+H77+I77+K77+L77+M77 -> 0.219
D78: бюджет МО | H78: 0.11 | L78: 0.024164 | N78: =E78+H78+I78+K78+L78+M78 -> 0.134164
A79: 1.5 | B79: Капитальный ремонт бетонного покрытия территории МБДОУ детский сад № 7 пгт Лучегорск | D79: всего | E79: =SUM(E80:E82) -> 0 | F79: =SUM(F80:F82) -> 0 | G79: =SUM(G80:G82) -> 0 | H79: =SUM(H80:H82) -> 9.32566 | I79: =SUM(I80:I82) -> 0 | K79: =SUM(K80:K82) -> 0 | L79: =SUM(L80:L82) -> 0.007514 | M79: =SUM(M80:M82) -> 0 | N79: =E79+H79+I79+K79+L79+M79 -> 9.333174
D80: федер. бюджет | H80: 9.048 | N80: =E80+H80+I80+K80+L80+M80 -> 9.048
D81: краевой бюджет | H81: 0.18466 | N81: =E81+H81+I81+K81+L81+M81 -> 0.18466
D82: бюджет МО | H82: 0.093 | L82: 0.007514 | N82: =E82+H82+I82+K82+L82+M82 -> 0.100514
A83: =E60 -> III | B83: Итого по национальному проекту | D83: Всего | E83: =E84+E85+E86 -> 5.31003 | F83: =F84+F85+F86 -> 5.31003 | G83: =G84+G85+G86 -> 5.31003 | H83: =H84+H85+H86 -> 35.01666 | I83: =I84+I85+I86 -> 0 | K83: =K84+K85+K86 -> 33.88 | L83: =L84+L85+L86 -> 8.6912 | M83: =M84+M85+M86 -> 0 | N83: =N84+N85+N86 -> 82.89789
B84: =F60 -> ОБРАЗОВАНИЕ | D84: федер. бюджет | E84: =E64+E68+E72+E76+E80 -> 0 | F84: =F64+F68+F72+F76+F80 -> 0 | G84: =G64+G68+G72+G76+G80 -> 0 | H84: =H64+H68+H72+H76+H80 -> 33.977 | I84: =I64+I68+I72+I76+I80 -> 0 | M84: =M64+M68+M72+M76+M80 -> 0 | N84: =E84+H84+I84+K84+L84+M84 -> 33.977
D85: краевой бюджет | E85: =E65+E69+E73+E77+E81 -> 5.25693 | F85: =F65+F69+F73+F77+F81 -> 5.25693 | G85: =G65+G69+G73+G77+G81 -> 5.25693 | H85: =H65+H69+H73+H77+H81 -> 0.69166 | I85: =I65+I69+I73+I77+I81 -> 0 | K85: 30.3 | L85: 3.35 | M85: =M65+M69+M73+M77+M81 -> 0 | N85: =E85+H85+I85+K85+L85+M85 -> 39.59859
D86: бюджет МО | E86: =E66+E70+E74+E78+E82 -> 0.0531 | F86: =F66+F70+F74+F78+F82 -> 0.0531 | G86: =G66+G70+G74+G78+G82 -> 0.0531 | H86: =H66+H70+H74+H78+H82 -> 0.348 | I86: =I66+I70+I74+I78+I82 -> 0 | K86: 3.58 | L86: 5.3412 | M86: =M66+M70+M74+M78+M82 -> 0 | N86: =E86+H86+I86+K86+L86+M86 -> 9.3223
E87: IV | F87: ЖИЛЬЕ И ГОРОДСКАЯ СРЕДА
A88: Региональный проект 1. Формирование комфортной городской среды в Приморском крае
B89: Меропиятия | C89: Потребность в финансировании, млн. рублей
A90: 1.1 | B90: Благоустройство территорий поселений, входящих в состав Пожарского муниципального района в рамках проекта «Формирование комфортной городской среды» | D90: всего | E90: =SUM(E91:E93) -> 25.107445 | F90: =SUM(F91:F93) -> 25.107445 | G90: =SUM(G91:G93) -> 25.107445 | H90: =SUM(H91:H93) -> 12.88 | I90: =SUM(I91:I93) -> 12.88 | J90: В национальный проект «Формирование комфортной городской среды» вошли 2 поселения: Лучегорское городского поселение и Светлогорское сельское поселение. По Лучегорскому городскому поселению выполнены работы по благоустройству центральной площади пгт Лучегорск.Контракты оплачены. По Светлогорскому сельскому поселению муниципальный контракт заключен на благоустройство общественной территории (детская площадка с. Светлогорье, 1- микрорайон, МКД 8). Работы завершены. Контракт оплачен. Проведена претензионная работа по нарушению сроков исполнения контракта, начислены пени. Подрядчик выплатил неустойку. | K90: =SUM(K91:K93) -> 33.87 | L90: =SUM(L91:L93) -> 13.809091 | M90: =SUM(M91:M93) -> 0 | N90: =E90+H90+I90+K90+L90+M90 -> 98.546536
D91: федер. бюджет | E91: 12.73 | F91: 12.73 | G91: 12.73 | H91: 12.81 | I91: 12.81 | K91: 10.13 | L91: 13.433 | N91: =E91+H91+I91+K91+L91+M91 -> 61.913
D92: краевой бюджет | E92: 0.259775 | F92: 0.259775 | G92: 0.259775 | K92: 23 | L92: 0.274147 | N92: =E92+H92+I92+K92+L92+M92 -> 23.533922
D93: бюджет МО | E93: 12.11767 | F93: 12.11767 | G93: 12.11767 | H93: 0.07 | I93: 0.07 | K93: 0.74 | L93: 0.10194365 | N93: =E93+H93+I93+K93+L93+M93 -> 13.099614
B94: Меропиятия | C94: Потребность в финансировании, млн. рублей
A95: 2.1 | B95: Благоустройство дворовых территорий поселений, входящих в состав Пожарского муниципального района в рамках проекта «Формирование современной городской среды муниципальных образований Приморского края», «Благоустройство дворовых территорий» | D95: всего | E95: =SUM(E96:E98) -> 17.375 | F95: =SUM(F96:F98) -> 17.375 | G95: =SUM(G96:G98) -> 17.375 | H95: =SUM(H96:H98) -> 23.78 | I95: =SUM(I96:I98) -> 23.78 | J95: В Государственной программе Приморского края «Формирование современной городской среды муниципальных образований Приморского края», «Благоустройство дворовых территорий» принимает участие Лучегорское городское поселение (4 дворовых территории) и четыре сельских поселения (Светлогорское, Верхнеперевальское, Губеровское и Пожарское). По Лучегорскому городскому поселению заключены контракты по благоустройству 4-х дворовых территорий. Работы закончены в срок. Контракты оплачены. По Светлогорскому сельскому поселению муниципальный контракт заключен на выполнение работ по благоустройству придомовой территории МКД № 10, 1-й микрорайон. Работы завершены. Контракт оплачен. Проведена претензионная работа по нарушению сроков исполнения контракта, начислены пени. Подрядчик выплатил неустойку. По Губеровскому сельскому поселению муниципальный контракт заключен по благоустройству спортивной игровой площадки на общественной территории в с. Губерово. Работы завершены в срок. Контракт оплачен. По Пожарскому сельскому поселению муниципальный контракт заключен по благоустройству площади перед ДК с. Пожарское. Работы выполнены в срок. Контракт оплачен. На сумму экономии заключен дополнительный контракт на установку лавочек, урн, качелей и освещения. Работы выполнены в срок. Контракт оплачен. По Верхнеперевальскому сельскому поселению муниципальный контракт заключен по устройству универсальной площадки для игровых видов спорта в с. Верхний Перевал. Работы завершены в срок. Контракт оплачен. | K95: =SUM(K96:K98) -> 0 | L95: =SUM(L96:L98) -> 27.549889 | M95: =SUM(M96:M98) -> 0 | N95: =E95+H95+I95+K95+L95+M95 -> 92.484889
D96: федер. бюджет | N96: =E96+H96+I96+K96+L96+M96 -> 0
D97: краевой бюджет | E97: 17.07 | F97: 17.07 | G97: 17.07 | H97: 23.54 | I97: 23.54 | L97: 26.65 | N97: =E97+H97+I97+K97+L97+M97 -> 90.8
D98: бюджет МО | E98: 0.305 | F98: 0.305 | G98: 0.305 | H98: 0.24 | I98: 0.24 | L98: 0.899889 | N98: =E98+H98+I98+K98+L98+M98 -> 1.684889
A99: Региональный проект 2. Обеспечение устойчивого сокрашения непригодного для проживания жилищного фонда
B100: Меропиятия | C100: Потребность в финансировании, млн. рублей
A101: 1.1 | B101: Переселение граждан из аварийного жилищного фонда | D101: всего | E101: =SUM(E102:E104) -> 13.39 | F101: =SUM(F102:F104) -> 13.39 | G101: =SUM(G102:G104) -> 13.39 | H101: =SUM(H102:H104) -> 0 | I101: =SUM(I102:I104) -> 0 | J101: Приобретено 6 квартир в с. Новостройка и 4 квартиры в пгт Лучегорск. Общая площадь приобретенного жилья составила 416,7 кв.м. Переселено 18 человек. | K101: =SUM(K102:K104) -> 0 | L101: =SUM(L102:L104) -> 0 | M101: =SUM(M102:M104) -> 0 | N101: =E101+H101+I101+K101+L101+M101 -> 13.39
D102: федер. бюджет | E102: 11.389 | F102: 11.389 | G102: 11.389 | N102: =E102+H102+I102+K102+L102+M102 -> 11.389
D103: краевой бюджет | E103: 1.99 | F103: 1.99 | G103: 1.99 | N103: =E103+H103+I103+K103+L103+M103 -> 1.99
D104: бюджет МО | E104: 0.011 | F104: 0.011 | G104: 0.011 | N104: =E104+H104+I104+K104+L104+M104 -> 0.011
A105: Региональный проект 3. Обеспечение доступным жильем и качественными услугами жилищно-коммунального хозяйства населения Приморского края
B106: Меропиятия | C106: Потребность в финансировании, млн. рублей
...

Sheet Приложение 2 (СВОД)
B1: ФОРМАТ И ШРИФТЫ НЕ ИЗМЕНЯТЬ | N1: Приложение 2
A2: ='Приложение 1 (ОТЧЕТНЫЙ ПЕРИОД) '!A2:J2 -> ИНФОРМАЦИЯ по показателям и мероприятиям дорожных карт по достижению показателей Указа Президента Российской Федерации от 07.05.2018 № 204 ПОЖАРСКИЙ МУНИЦИПАЛЬНЫЙ РАЙОН | K2: ЕЖЕМЕСЯЧНАЯ форма предоставления информации | Y2: Приложение 3
A3: № п.п. | B3: Наименование показателя | C3: Базовое значение | E3: Значение показателя/ потребность в финансировании, млн рублей | J3: Примечание. Сумма контракта, дата заключения контракта, поставщик, дата завершения работ по контракту. Дата внесения изменений в план-график, планируемая дата начала конкурсных процедур, планируемая дата заключения контракта. Для контрактов на подписании - дата завершения конкурсных процедур, сумма контракта, поставщик, планируемая дата заключения контракта, дата завершения работ по контракту. Адрес расположения заверщенного объекта. | K3: ='Приложение 1 (ОТЧЕТНЫЙ ПЕРИОД) '!K3 -> ИТОГ ПРОФИНАНСИРОВАННО, млн рублей | M3: ='Приложение 1 (ОТЧЕТНЫЙ ПЕРИОД) '!M3 -> Значениепотребность в финансировании, млн рублей | N3: ВСЕГО 2019-2024 | R3: Текущее исполнение показателей, %, 2021 год
B4: ='Приложение 1 (ОТЧЕТНЫЙ ПЕРИОД) '!B4 -> городской округ (муниципальный р-н) | C4: Значение/ года | D4: Дата / вид бюджета | E4: ='Приложение 1 (ОТЧЕТНЫЙ ПЕРИОД) '!E4 -> 2021 г. (план в соответствии с бюджетом) | F4: ='Приложение 1 (ОТЧЕТНЫЙ ПЕРИОД) '!F4 -> сумма подписанного контракта по мероприятию | G4: ='Приложение 1 (ОТЧЕТНЫЙ ПЕРИОД) '!G4 -> профинанси-ровано (кассовый расход) /исполнение на 27.12.2021 | H4: ='Приложение 1 (ОТЧЕТНЫЙ ПЕРИОД) '!H4 -> 2022 г. (план в соответствии с бюджетом) | I4: ='Приложение 1 (ОТЧЕТНЫЙ ПЕРИОД) '!I4 -> 2023 г. (план в соответствии с бюджетом) | K4: ='Приложение 1 (ОТЧЕТНЫЙ ПЕРИОД) '!K4 -> 2019 г. | L4: ='Приложение 1 (ОТЧЕТНЫЙ ПЕРИОД) '!L4 -> 2020 г. | M4: ='Приложение 1 (ОТЧЕТНЫЙ ПЕРИОД) '!M4 -> 2024 г. | P4: проверочная сторока | R4: =B4 -> городской округ (муниципальный р-н) | S4: Вид бюджета | T4: =E4 -> 2021 г. (план в соответствии с бюджетом) | U4: =F4 -> сумма подписанного контракта по мероприятию | V4: =G4 -> профинанси-ровано (кассовый расход) /исполнение на 27.12.2021 | W4: %, подписанного контракта по мероприятию от запланированного, (законтрактовано) | X4: %, профинансировано (кассовый расход) /исполнение (от закантрактованного) | Y4: %, профинансировано (кассовый расход)/исполнение от ПЛАНА
B5: ВСЕГО | D5: Всего | E5: =E6+E7+E8 -> 253.4272 | F5: =F6+F7+F8 -> 253.4272 | G5: =G6+G7+G8 -> 253.4272 | H5: =H6+H7+H8 -> 80.671316 | I5: =I6+I7+I8 -> 37.321521 | K5: =K6+K7+K8 -> 130.618 | L5: =L6+L7+L8 -> 124.03937 | M5: =M6+M7+M8 -> 0.6 | N5: =N6+N7+N8 -> 626.67741 | R5: =B5 -> ВСЕГО | S5: =D5 -> Всего | T5: =E5 -> 253.4272 | U5: =F5 -> 253.4272 | V5: =G5 -> 253.4272 | W5: =F5/E5% -> 100 | X5: =G5/F5% -> 100 | Y5: =V5/T5% -> 100
D6: федер. бюджет | E6: =E19+E135 -> 132.742 | F6: =F19+F135 -> 132.742 | G6: =G19+G135 -> 132.742 | H6: =H19+H135 -> 55.352 | I6: =I19+I135 -> 13.212 | K6: =K19+K135 -> 17.935 | L6: =L19+L135 -> 14.7395 | M6: =M19+M135 -> 0 | N6: =N19+N135 -> 233.9805
D7: краевой бюджет | E7: =E20+E136 -> 103.73144 | F7: =F20+F136 -> 103.73144 | G7: =G20+G136 -> 103.73144 | H7: =H20+H136 -> 24.45666 | I7: =I20+I136 -> 23.5949 | K7: =K20+K136 -> 102.346 | L7: =L20+L136 -> 92.8478 | M7: =M20+M136 -> 0 | N7: =N20+N136 -> 346.9768
D8: бюджет МО | E8: =E21+E137 -> 16.953757 | F8: =F21+F137 -> 16.953757 | G8: =G21+G137 -> 16.953757 | H8: =H21+H137 -> 0.862656 | I8: =I21+I137 -> 0.514621 | K8: =K21+K137 -> 10.337 | L8: =L21+L137 -> 16.45207 | M8: =M21+M137 -> 0.6 | N8: =N21+N137 -> 45.720104
B11: проверочная сторока | D11: Всего | E11: =E5-'Приложение 1 (ОТЧЕТНЫЙ ПЕРИОД) '!E5 -> 0 | F11: =F5-'Приложение 1 (ОТЧЕТНЫЙ ПЕРИОД) '!F5 -> 0 | G11: =G5-'Приложение 1 (ОТЧЕТНЫЙ ПЕРИОД) '!G5 -> 0 | H11: =H5-'Приложение 1 (ОТЧЕТНЫЙ ПЕРИОД) '!H5 -> 0 | I11: =I5-'Приложение 1 (ОТЧЕТНЫЙ ПЕРИОД) '!I5 -> 0 | K11: =K5-'Приложение 1 (ОТЧЕТНЫЙ ПЕРИОД) '!K5 -> 0 | L11: =L5-'Приложение 1 (ОТЧЕТНЫЙ ПЕРИОД) '!L5 -> 0 | M11: =M5-'Приложение 1 (ОТЧЕТНЫЙ ПЕРИОД) '!M5 -> 0 | N11: =N5-'Приложение 1 (ОТЧЕТНЫЙ ПЕРИОД) '!N5 -> 0 | P11: =SUM(E11:O11) -> 0
B12: проверочная сторока | D12: федер. бюджет | E12: =E6-'Приложение 1 (ОТЧЕТНЫЙ ПЕРИОД) '!E6 -> 0 | F12: =F6-'Приложение 1 (ОТЧЕТНЫЙ ПЕРИОД) '!F6 -> 0 | G12: =G6-'Приложение 1 (ОТЧЕТНЫЙ ПЕРИОД) '!G6 -> 0 | H12: =H6-'Приложение 1 (ОТЧЕТНЫЙ ПЕРИОД) '!H6 -> 0 | I12: =I6-'Приложение 1 (ОТЧЕТНЫЙ ПЕРИОД) '!I6 -> 0 | K12: =K6-'Приложение 1 (ОТЧЕТНЫЙ ПЕРИОД) '!K6 -> 0 | L12: =L6-'Приложение 1 (ОТЧЕТНЫЙ ПЕРИОД) '!L6 -> 0 | M12: =M6-'Приложение 1 (ОТЧЕТНЫЙ ПЕРИОД) '!M6 -> 0 | N12: =N6-'Приложение 1 (ОТЧЕТНЫЙ ПЕРИОД) '!N6 -> 0 | P12: =SUM(E12:O12) -> 0
B13: проверочная сторока | D13: краевой бюджет | E13: =E7-'Приложение 1 (ОТЧЕТНЫЙ ПЕРИОД) '!E7 -> 0 | F13: =F7-'Приложение 1 (ОТЧЕТНЫЙ ПЕРИОД) '!F7 -> 0 | G13: =G7-'Приложение 1 (ОТЧЕТНЫЙ ПЕРИОД) '!G7 -> 0 | H13: =H7-'Приложение 1 (ОТЧЕТНЫЙ ПЕРИОД) '!H7 -> 0 | I13: =I7-'Приложение 1 (ОТЧЕТНЫЙ ПЕРИОД) '!I7 -> 0 | K13: =K7-'Приложение 1 (ОТЧЕТНЫЙ ПЕРИОД) '!K7 -> 0 | L13: =L7-'Приложение 1 (ОТЧЕТНЫЙ ПЕРИОД) '!L7 -> 0 | M13: =M7-'Приложение 1 (ОТЧЕТНЫЙ ПЕРИОД) '!M7 -> 0 | N13: =N7-'Приложение 1 (ОТЧЕТНЫЙ ПЕРИОД) '!N7 -> 0 | P13: =SUM(E13:O13) -> 0
B14: проверочная сторока | D14: бюджет МО | E14: =E8-'Приложение 1 (ОТЧЕТНЫЙ ПЕРИОД) '!E8 -> 0 | F14: =F8-'Приложение 1 (ОТЧЕТНЫЙ ПЕРИОД) '!F8 -> 0 | G14: =G8-'Приложение 1 (ОТЧЕТНЫЙ ПЕРИОД) '!G8 -> 0 | H14: =H8-'Приложение 1 (ОТЧЕТНЫЙ ПЕРИОД) '!H8 -> 0 | I14: =I8-'Приложение 1 (ОТЧЕТНЫЙ ПЕРИОД) '!I8 -> 0 | K14: =K8-'Приложение 1 (ОТЧЕТНЫЙ ПЕРИОД) '!K8 -> 0 | L14: =L8-'Приложение 1 (ОТЧЕТНЫЙ ПЕРИОД) '!L8 -> 0 | M14: =M8-'Приложение 1 (ОТЧЕТНЫЙ ПЕРИОД) '!M8 -> 0 | N14: =N8-'Приложение 1 (ОТЧЕТНЫЙ ПЕРИОД) '!N8 -> 0 | P14: =SUM(E14:O14) -> 0
Y17: для формирования ПОЯСНИТЕЛЬНОЙ ЗАПИСКИ мониторинга
B18: Всего по мероприятиям национальных проектов | D18: Всего | E18: ='Приложение 1 (ОТЧЕТНЫЙ ПЕРИОД) '!E10 -> 246.88254 | F18: ='Приложение 1 (ОТЧЕТНЫЙ ПЕРИОД) '!F10 -> 246.88254 | G18: ='Приложение 1 (ОТЧЕТНЫЙ ПЕРИОД) '!G10 -> 246.88254 | H18: ='Приложение 1 (ОТЧЕТНЫЙ ПЕРИОД) '!H10 -> 80.20666 | I18: ='Приложение 1 (ОТЧЕТНЫЙ ПЕРИОД) '!I10 -> 36.86 | K18: ='Приложение 1 (ОТЧЕТНЫЙ ПЕРИОД) '!K10 -> 130.04 | L18: ='Приложение 1 (ОТЧЕТНЫЙ ПЕРИОД) '!L10 -> 123.55147 | M18: ='Приложение 1 (ОТЧЕТНЫЙ ПЕРИОД) '!M10 -> 0.6 | N18: ='Приложение 1 (ОТЧЕТНЫЙ ПЕРИОД) '!N10 -> 618.14067 | R18: =B18 -> Всего по мероприятиям национальных проектов | S18: =D18 -> Всего | T18: =E18 -> 246.88254 | U18: =F18 -> 246.88254 | V18: =G18 -> 246.88254 | W18: =F18/E18% -> 100 | X18: =G18/F18% -> 100 | Y18: =V18/T18% -> 100
D19: федер. бюджет | E19: ='Приложение 1 (ОТЧЕТНЫЙ ПЕРИОД) '!E11 -> 132.317 | F19: ='Приложение 1 (ОТЧЕТНЫЙ ПЕРИОД) '!F11 -> 132.317 | G19: ='Приложение 1 (ОТЧЕТНЫЙ ПЕРИОД) '!G11 -> 132.317 | H19: ='Приложение 1 (ОТЧЕТНЫЙ ПЕРИОД) '!H11 -> 54.947 | I19: ='Приложение 1 (ОТЧЕТНЫЙ ПЕРИОД) '!I11 -> 12.81 | K19: ='Приложение 1 (ОТЧЕТНЫЙ ПЕРИОД) '!K11 -> 17.52 | L19: ='Приложение 1 (ОТЧЕТНЫЙ ПЕРИОД) '!L11 -> 14.3145 | M19: ='Приложение 1 (ОТЧЕТНЫЙ ПЕРИОД) '!M11 -> 0 | N19: ='Приложение 1 (ОТЧЕТНЫЙ ПЕРИОД) '!N11 -> 231.9085
D20: краевой бюджет | E20: ='Приложение 1 (ОТЧЕТНЫЙ ПЕРИОД) '!E12 -> 97.676442 | F20: ='Приложение 1 (ОТЧЕТНЫЙ ПЕРИОД) '!F12 -> 97.676442 | G20: ='Приложение 1 (ОТЧЕТНЫЙ ПЕРИОД) '!G12 -> 97.676442 | H20: ='Приложение 1 (ОТЧЕТНЫЙ ПЕРИОД) '!H12 -> 24.40166 | I20: ='Приложение 1 (ОТЧЕТНЫЙ ПЕРИОД) '!I12 -> 23.54 | K20: ='Приложение 1 (ОТЧЕТНЫЙ ПЕРИОД) '!K12 -> 102.29 | L20: ='Приложение 1 (ОТЧЕТНЫЙ ПЕРИОД) '!L12 -> 92.7898 | M20: ='Приложение 1 (ОТЧЕТНЫЙ ПЕРИОД) '!M12 -> 0 | N20: ='Приложение 1 (ОТЧЕТНЫЙ ПЕРИОД) '!N12 -> 340.6979
D21: бюджет МО | E21: ='Приложение 1 (ОТЧЕТНЫЙ ПЕРИОД) '!E13 -> 16.889101 | F21: ='Приложение 1 (ОТЧЕТНЫЙ ПЕРИОД) '!F13 -> 16.889101 | G21: ='Приложение 1 (ОТЧЕТНЫЙ ПЕРИОД) '!G13 -> 16.889101 | H21: ='Приложение 1 (ОТЧЕТНЫЙ ПЕРИОД) '!H13 -> 0.858 | I21: ='Приложение 1 (ОТЧЕТНЫЙ ПЕРИОД) '!I13 -> 0.51 | K21: ='Приложение 1 (ОТЧЕТНЫЙ ПЕРИОД) '!K13 -> 10.23 | L21: ='Приложение 1 (ОТЧЕТНЫЙ ПЕРИОД) '!L13 -> 16.44717 | M21: ='Приложение 1 (ОТЧЕТНЫЙ ПЕРИОД) '!M13 -> 0.6 | N21: ='Приложение 1 (ОТЧЕТНЫЙ ПЕРИОД) '!N13 -> 45.534271
D22: проверочная сторока | E22: =E19+E20+E21 -> 246.88254 | F22: =F19+F20+F21 -> 246.88254 | G22: =G19+G20+G21 -> 246.88254 | H22: =H19+H20+H21 -> 80.20666 | I22: =I19+I20+I21 -> 36.86 | K22: =K19+K20+K21 -> 130.04 | L22: =L19+L20+L21 -> 123.55147 | M22: =M19+M20+M21 -> 0.6 | N22: =N19+N20+N21 -> 618.14067 | P22: =SUM(E22:O22) -> 1730.0464
D23: проверочная сторока | E23: =E22-E18 -> 0 | F23: =F22-F18 -> 0 | G23: =G22-G18 -> 0 | H23: =H22-H18 -> 0 | I23: =I22-I18 -> 0 | K23: =K22-K18 -> 0 | L23: =L22-L18 -> 0 | M23: =M22-M18 -> 0 | N23: =N22-N18 -> 0 | P23: =SUM(E23:O23) -> 0
B24: проверочная сторока | D24: Всего | E24: =E25+E26+E27 -> 246.88254 | F24: =F25+F26+F27 -> 246.88254 | G24: =G25+G26+G27 -> 246.88254 | H24: =H25+H26+H27 -> 80.20666 | I24: =I25+I26+I27 -> 36.86 | K24: =K25+K26+K27 -> 130.04 | L24: =L25+L26+L27 -> 123.55147 | M24: =M25+M26+M27 -> 0.6 | N24: =N25+N26+N27 -> 618.14067 | P24: =SUM(E24:O24) -> 1730.0464
B25: проверочная сторока | D25: федер. бюджет | E25: =E37+E44+E62+E69+E76+E83+E90+E97+E104+E111+E118+E125 -> 132.317 | F25: =F37+F44+F62+F69+F76+F83+F90+F97+F104+F111+F118+F125 -> 132.317 | G25: =G37+G44+G62+G69+G76+G83+G90+G97+G104+G111+G118+G125 -> 132.317 | H25: =H37+H44+H62+H69+H76+H83+H90+H97+H104+H111+H118+H125 -> 54.947 | I25: =I37+I44+I62+I69+I76+I83+I90+I97+I104+I111+I118+I125 -> 12.81 | K25: =K37+K44+K62+K69+K76+K83+K90+K97+K104+K111+K118+K125 -> 17.52 | L25: =L37+L44+L62+L69+L76+L83+L90+L97+L104+L111+L118+L125 -> 14.3145 | M25: =M37+M44+M62+M69+M76+M83+M90+M97+M104+M111+M118+M125 -> 0 | N25: =N37+N44+N62+N69+N76+N83+N90+N97+N104+N111+N118+N125 -> 231.9085 | P25: =SUM(E25:O25) -> 728.451
B26: проверочная сторока | D26: краевой бюджет | E26: =E38+E45+E63+E70+E77+E84+E91+E98+E105+E112+E119+E126 -> 97.676442 | F26: =F38+F45+F63+F70+F77+F84+F91+F98+F105+F112+F119+F126 -> 97.676442 | G26: =G38+G45+G63+G70+G77+G84+G91+G98+G105+G112+G119+G126 -> 97.676442 | H26: =H38+H45+H63+H70+H77+H84+H91+H98+H105+H112+H119+H126 -> 24.40166 | I26: =I38+I45+I63+I70+I77+I84+I91+I98+I105+I112+I119+I126 -> 23.54 | K26: =K38+K45+K63+K70+K77+K84+K91+K98+K105+K112+K119+K126 -> 102.29 | L26: =L38+L45+L63+L70+L77+L84+L91+L98+L105+L112+L119+L126 -> 92.7898 | M26: =M38+M45+M63+M70+M77+M84+M91+M98+M105+M112+M119+M126 -> 0 | N26: =N38+N45+N63+N70+N77+N84+N91+N98+N105+N112+N119+N126 -> 340.6979 | P26: =SUM(E26:O26) -> 876.74869
B27: проверочная сторока | D27: бюджет МО | E27: =E39+E46+E64+E71+E78+E85+E92+E99+E106+E113+E120+E127 -> 16.889101 | F27: =F39+F46+F64+F71+F78+F85+F92+F99+F106+F113+F120+F127 -> 16.889101 | G27: =G39+G46+G64+G71+G78+G85+G92+G99+G106+G113+G120+G127 -> 16.889101 | H27: =H39+H46+H64+H71+H78+H85+H92+H99+H106+H113+H120+H127 -> 0.858 | I27: =I39+I46+I64+I71+I78+I85+I92+I99+I106+I113+I120+I127 -> 0.51 | K27: =K39+K46+K64+K71+K78+K85+K92+K99+K106+K113+K120+K127 -> 10.23 | L27: =L39+L46+L64+L71+L78+L85+L92+L99+L106+L113+L120+L127 -> 16.44717 | M27: =M39+M46+M64+M71+M78+M85+M92+M99+M106+M113+M120+M127 -> 0.6 | N27: =N39+N46+N64+N71+N78+N85+N92+N99+N106+N113+N120+N127 -> 45.534271 | P27: =SUM(E27:O27) -> 124.84674
B29: проверочная сторока | D29: Всего | E29: =E24-E18 -> 0 | F29: =F24-F18 -> 0 | G29: =G24-G18 -> 0 | H29: =H24-H18 -> 0 | I29: =I24-I18 -> 0 | K29: =K24-K18 -> 0 | L29: =L24-L18 -> 0 | M29: =M24-M18 -> 0 | N29: =N24-N18 -> 0 | P29: =SUM(E29:O29) -> 0
B30: проверочная сторока | D30: федер. бюджет | E30: =E25-E19 -> 0 | F30: =F25-F19 -> 0 | G30: =G25-G19 -> 0 | H30: =H25-H19 -> 0 | I30: =I25-I19 -> 0 | K30: =K25-K19 -> 0 | L30: =L25-L19 -> 0 | M30: =M25-M19 -> 0 | N30: =N25-N19 -> 0 | P30: =SUM(E30:O30) -> 0
B31: проверочная сторока | D31: краевой бюджет | E31: =E26-E20 -> 0 | F31: =F26-F20 -> 0 | G31: =G26-G20 -> 0 | H31: =H26-H20 -> 0 | I31: =I26-I20 -> 0 | K31: =K26-K20 -> 0 | L31: =L26-L20 -> 0 | M31: =M26-M20 -> 0 | N31: =N26-N20 -> 0 | P31: =SUM(E31:O31) -> 0
B32: проверочная сторока | D32: бюджет МО | E32: =E27-E21 -> 0 | F32: =F27-F21 -> 0 | G32: =G27-G21 -> 0 | H32: =H27-H21 -> 0 | I32: =I27-I21 -> 0 | K32: =K27-K21 -> 0 | L32: =L27-L21 -> 0 | M32: =M27-M21 -> 0 | N32: =N27-N21 -> 0 | P32: =SUM(E32:O32) -> 0
E35: I | F35: ДЕМОГРАФИЯ
A36: =E35 -> I | B36: Итого по национальному проекту | D36: Всего | E36: ='Приложение 1 (ОТЧЕТНЫЙ ПЕРИОД) '!E30 -> 0 | F36: ='Приложение 1 (ОТЧЕТНЫЙ ПЕРИОД) '!F30 -> 0 | G36: ='Приложение 1 (ОТЧЕТНЫЙ ПЕРИОД) '!G30 -> 0 | H36: ='Приложение 1 (ОТЧЕТНЫЙ ПЕРИОД) '!H30 -> 0 | I36: ='Приложение 1 (ОТЧЕТНЫЙ ПЕРИОД) '!I30 -> 0 | K36: ='Приложение 1 (ОТЧЕТНЫЙ ПЕРИОД) '!K30 -> 15.43 | L36: ='Приложение 1 (ОТЧЕТНЫЙ ПЕРИОД) '!L30 -> 1.5041 | M36: ='Приложение 1 (ОТЧЕТНЫЙ ПЕРИОД) '!M30 -> 0.6 | N36: ='Приложение 1 (ОТЧЕТНЫЙ ПЕРИОД) '!N30 -> 17.5341 | R36: =B37 -> ДЕМОГРАФИЯ | S36: =D36 -> Всего | T36: =E36 -> 0 | U36: =F36 -> 0 | V36: =G36 -> 0 | W36: =F36/E36% -> #DIV/0! | X36: =G36/F36% -> #DIV/0! | Y36: =V36/T36% -> #DIV/0!
B37: =F35 -> ДЕМОГРАФИЯ | D37: федер. бюджет | E37: ='Приложение 1 (ОТЧЕТНЫЙ ПЕРИОД) '!E31 -> 0 | F37: ='Приложение 1 (ОТЧЕТНЫЙ ПЕРИОД) '!F31 -> 0 | G37: ='Приложение 1 (ОТЧЕТНЫЙ ПЕРИОД) '!G31 -> 0 | H37: ='Приложение 1 (ОТЧЕТНЫЙ ПЕРИОД) '!H31 -> 0 | I37: ='Приложение 1 (ОТЧЕТНЫЙ ПЕРИОД) '!I31 -> 0 | K37: ='Приложение 1 (ОТЧЕТНЫЙ ПЕРИОД) '!K31 -> 0 | L37: ='Приложение 1 (ОТЧЕТНЫЙ ПЕРИОД) '!L31 -> 0 | M37: ='Приложение 1 (ОТЧЕТНЫЙ ПЕРИОД) '!M31 -> 0 | N37: ='Приложение 1 (ОТЧЕТНЫЙ ПЕРИОД) '!N31 -> 0
D38: краевой бюджет | E38: ='Приложение 1 (ОТЧЕТНЫЙ ПЕРИОД) '!E32 -> 0 | F38: ='Приложение 1 (ОТЧЕТНЫЙ ПЕРИОД) '!F32 -> 0 | G38: ='Приложение 1 (ОТЧЕТНЫЙ ПЕРИОД) '!G32 -> 0 | H38: ='Приложение 1 (ОТЧЕТНЫЙ ПЕРИОД) '!H32 -> 0 | I38: ='Приложение 1 (ОТЧЕТНЫЙ ПЕРИОД) '!I32 -> 0 | K38: ='Приложение 1 (ОТЧЕТНЫЙ ПЕРИОД) '!K32 -> 14.59 | L38: ='Приложение 1 (ОТЧЕТНЫЙ ПЕРИОД) '!L32 -> 0.97 | M38: ='Приложение 1 (ОТЧЕТНЫЙ ПЕРИОД) '!M32 -> 0 | N38: ='Приложение 1 (ОТЧЕТНЫЙ ПЕРИОД) '!N32 -> 15.56
D39: бюджет МО | E39: ='Приложение 1 (ОТЧЕТНЫЙ ПЕРИОД) '!E33 -> 0 | F39: ='Приложение 1 (ОТЧЕТНЫЙ ПЕРИОД) '!F33 -> 0 | G39: ='Приложение 1 (ОТЧЕТНЫЙ ПЕРИОД) '!G33 -> 0 | H39: ='Приложение 1 (ОТЧЕТНЫЙ ПЕРИОД) '!H33 -> 0 | I39: ='Приложение 1 (ОТЧЕТНЫЙ ПЕРИОД) '!I33 -> 0 | K39: ='Приложение 1 (ОТЧЕТНЫЙ ПЕРИОД) '!K33 -> 0.84 | L39: ='Приложение 1 (ОТЧЕТНЫЙ ПЕРИОД) '!L33 -> 0.5341 | M39: ='Приложение 1 (ОТЧЕТНЫЙ ПЕРИОД) '!M33 -> 0.6 | N39: ='Приложение 1 (ОТЧЕТНЫЙ ПЕРИОД) '!N33 -> 1.9741
D40: проверочная сторока | E40: =E37+E38+E39 -> 0 | F40: =F37+F38+F39 -> 0 | G40: =G37+G38+G39 -> 0 | H40: =H37+H38+H39 -> 0 | I40: =I37+I38+I39 -> 0 | K40: =K37+K38+K39 -> 15.43 | L40: =L37+L38+L39 -> 1.5041 | M40: =M37+M38+M39 -> 0.6 | N40: =N37+N38+N39 -> 17.5341 | P40: =SUM(E40:O40) -> 35.0682
D41: проверочная сторока | E41: =E40-E36 -> 0 | F41: =F40-F36 -> 0 | G41: =G40-G36 -> 0 | H41: =H40-H36 -> 0 | I41: =I40-I36 -> 0 | K41: =K40-K36 -> 0 | L41: =L40-L36 -> 0 | M41: =M40-M36 -> 0 | N41: =N40-N36 -> 0 | P41: =SUM(E41:O41) -> 0
E42: II | F42: ЗДРАВООХРАНЕНИЕ
A43: =E42 -> II | B43: Итого по национальному проекту | D43: Всего | E43: ='Приложение 1 (ОТЧЕТНЫЙ ПЕРИОД) '!E56 -> 0 | F43: ='Приложение 1 (ОТЧЕТНЫЙ ПЕРИОД) '!F56 -> 0 | G43: ='Приложение 1 (ОТЧЕТНЫЙ ПЕРИОД) '!G56 -> 0 | H43: ='Приложение 1 (ОТЧЕТНЫЙ ПЕРИОД) '!H56 -> 0 | I43: ='Приложение 1 (ОТЧЕТНЫЙ ПЕРИОД) '!I56 -> 0 | K43: ='Приложение 1 (ОТЧЕТНЫЙ ПЕРИОД) '!K56 -> 0 | L43: ='Приложение 1 (ОТЧЕТНЫЙ ПЕРИОД) '!L56 -> 0 | M43: ='Приложение 1 (ОТЧЕТНЫЙ ПЕРИОД) '!M56 -> 0 | N43: ='Приложение 1 (ОТЧЕТНЫЙ ПЕРИОД) '!N56 -> 0 | R43: =B44 -> ЗДРАВООХРАНЕНИЕ | S43: =D43 -> Всего | T43: =E43 -> 0 | U43: =F43 -> 0 | V43: =G43 -> 0 | W43: =F43/E43% -> #DIV/0! | X43: =G43/F43% -> #DIV/0! | Y43: =V43/T43% -> #DIV/0!
B44: =F42 -> ЗДРАВООХРАНЕНИЕ | D44: федер. бюджет | E44: ='Приложение 1 (ОТЧЕТНЫЙ ПЕРИОД) '!E57 -> 0 | F44: ='Приложение 1 (ОТЧЕТНЫЙ ПЕРИОД) '!F57 -> 0 | G44: ='Приложение 1 (ОТЧЕТНЫЙ ПЕРИОД) '!G57 -> 0 | H44: ='Приложение 1 (ОТЧЕТНЫЙ ПЕРИОД) '!H57 -> 0 | I44: ='Приложение 1 (ОТЧЕТНЫЙ ПЕРИОД) '!I57 -> 0 | K44: ='Приложение 1 (ОТЧЕТНЫЙ ПЕРИОД) '!K57 -> 0 | L44: ='Приложение 1 (ОТЧЕТНЫЙ ПЕРИОД) '!L57 -> 0 | M44: ='Приложение 1 (ОТЧЕТНЫЙ ПЕРИОД) '!M57 -> 0 | N44: ='Приложение 1 (ОТЧЕТНЫЙ ПЕРИОД) '!N57 -> 0
D45: краевой бюджет | E45: ='Приложение 1 (ОТЧЕТНЫЙ ПЕРИОД) '!E58 -> 0 | F45: ='Приложение 1 (ОТЧЕТНЫЙ ПЕРИОД) '!F58 -> 0 | G45: ='Приложение 1 (ОТЧЕТНЫЙ ПЕРИОД) '!G58 -> 0 | H45: ='Приложение 1 (ОТЧЕТНЫЙ ПЕРИОД) '!H58 -> 0 | I45: ='Приложение 1 (ОТЧЕТНЫЙ ПЕРИОД) '!I58 -> 0 | K45: ='Приложение 1 (ОТЧЕТНЫЙ ПЕРИОД) '!K58 -> 0 | L45: ='Приложение 1 (ОТЧЕТНЫЙ ПЕРИОД) '!L58 -> 0 | M45: ='Приложение 1 (ОТЧЕТНЫЙ ПЕРИОД) '!M58 -> 0 | N45: ='Приложение 1 (ОТЧЕТНЫЙ ПЕРИОД) '!N58 -> 0
D46: бюджет МО | E46: ='Приложение 1 (ОТЧЕТНЫЙ ПЕРИОД) '!E59 -> 0 | F46: ='Приложение 1 (ОТЧЕТНЫЙ ПЕРИОД) '!F59 -> 0 | G46: ='Приложение 1 (ОТЧЕТНЫЙ ПЕРИОД) '!G59 -> 0 | H46: ='Приложение 1 (ОТЧЕТНЫЙ ПЕРИОД) '!H59 -> 0 | I46: ='Приложение 1 (ОТЧЕТНЫЙ ПЕРИОД) '!I59 -> 0 | K46: ='Приложение 1 (ОТЧЕТНЫЙ ПЕРИОД) '!K59 -> 0 | L46: ='Приложение 1 (ОТЧЕТНЫЙ ПЕРИОД) '!L59 -> 0 | M46: ='Приложение 1 (ОТЧЕТНЫЙ ПЕРИОД) '!M59 -> 0 | N46: ='Приложение 1 (ОТЧЕТНЫЙ ПЕРИОД) '!N59 -> 0
D47: проверочная сторока | E47: =E44+E45+E46 -> 0 | F47: =F44+F45+F46 -> 0 | G47: =G44+G45+G46 -> 0 | H47: =H44+H45+H46 -> 0 | I47: =I44+I45+I46 -> 0 | K47: =K44+K45+K46 -> 0 | L47: =L44+L45+L46 -> 0 | M47: =M44+M45+M46 -> 0 | N47: =N44+N45+N46 -> 0 | P47: =SUM(E47:O47) -> 0
D48: проверочная сторока | E48: =E47-E43 -> 0 | F48: =F47-F43 -> 0 | G48: =G47-G43 -> 0 | H48: =H47-H43 -> 0 | I48: =I47-I43 -> 0 | K48: =K47-K43 -> 0 | L48: =L47-L43 -> 0 | M48: =M47-M43 -> 0 | N48: =N47-N43 -> 0 | P48: =SUM(E48:O48) -> 0
A49: Показатели для оценки деятельности глав муниципальных образований Приморского края по достижению задач регионального проекта «Здравоохранение» на 2020 год
A50: 1 | E50: ='Приложение 1 (ОТЧЕТНЫЙ ПЕРИОД) '!E36 -> 0 | F50: ='Приложение 1 (ОТЧЕТНЫЙ ПЕРИОД) '!F36 -> 0 | G50: ='Приложение 1 (ОТЧЕТНЫЙ ПЕРИОД) '!G36 -> 0 | H50: ='Приложение 1 (ОТЧЕТНЫЙ ПЕРИОД) '!H36 -> 0 | I50: ='Приложение 1 (ОТЧЕТНЫЙ ПЕРИОД) '!I36 -> 0 | K50: ='Приложение 1 (ОТЧЕТНЫЙ ПЕРИОД) '!K36 -> 0 | L50: ='Приложение 1 (ОТЧЕТНЫЙ ПЕРИОД) '!L36 -> 0 | M50: ='Приложение 1 (ОТЧЕТНЫЙ ПЕРИОД) '!M36 -> 0 | N50: ='Приложение 1 (ОТЧЕТНЫЙ ПЕРИОД) '!N36 -> 0
E51: ='Приложение 1 (ОТЧЕТНЫЙ ПЕРИОД) '!E37 -> 0 | F51: ='Приложение 1 (ОТЧЕТНЫЙ ПЕРИОД) '!F37 -> 0 | G51: ='Приложение 1 (ОТЧЕТНЫЙ ПЕРИОД) '!G37 -> 0 | H51: ='Приложение 1 (ОТЧЕТНЫЙ ПЕРИОД) '!H37 -> 0 | I51: ='Приложение 1 (ОТЧЕТНЫЙ ПЕРИОД) '!I37 -> 0 | K51: ='Приложение 1 (ОТЧЕТНЫЙ ПЕРИОД) '!K37 -> 0 | L51: ='Приложение 1 (ОТЧЕТНЫЙ ПЕРИОД) '!L37 -> 0 | M51: ='Приложение 1 (ОТЧЕТНЫЙ ПЕРИОД) '!M37 -> 0 | N51: ='Приложение 1 (ОТЧЕТНЫЙ ПЕРИОД) '!N37 -> 0
A52: 2 | E52: ='Приложение 1 (ОТЧЕТНЫЙ ПЕРИОД) '!E38 -> 0 | F52: ='Приложение 1 (ОТЧЕТНЫЙ ПЕРИОД) '!F38 -> 0 | G52: ='Приложение 1 (ОТЧЕТНЫЙ ПЕРИОД) '!G38 -> 0 | H52: ='Приложение 1 (ОТЧЕТНЫЙ ПЕРИОД) '!H38 -> 0 | I52: ='Приложение 1 (ОТЧЕТНЫЙ ПЕРИОД) '!I38 -> 0 | K52: ='Приложение 1 (ОТЧЕТНЫЙ ПЕРИОД) '!K38 -> 0 | L52: ='Приложение 1 (ОТЧЕТНЫЙ ПЕРИОД) '!L38 -> 0 | M52: ='Приложение 1 (ОТЧЕТНЫЙ ПЕРИОД) '!M38 -> 0 | N52: ='Приложение 1 (ОТЧЕТНЫЙ ПЕРИОД) '!N38 -> 0
E53: ='Приложение 1 (ОТЧЕТНЫЙ ПЕРИОД) '!E39 -> 0 | F53: ='Приложение 1 (ОТЧЕТНЫЙ ПЕРИОД) '!F39 -> 0 | G53: ='Приложение 1 (ОТЧЕТНЫЙ ПЕРИОД) '!G39 -> 0 | H53: ='Приложение 1 (ОТЧЕТНЫЙ ПЕРИОД) '!H39 -> 0 | I53: ='Приложение 1 (ОТЧЕТНЫЙ ПЕРИОД) '!I39 -> 0 | K53: ='Приложение 1 (ОТЧЕТНЫЙ ПЕРИОД) '!K39 -> 0 | L53: ='Приложение 1 (ОТЧЕТНЫЙ ПЕРИОД) '!L39 -> 0 | M53: ='Приложение 1 (ОТЧЕТНЫЙ ПЕРИОД) '!M39 -> 0 | N53: ='Приложение 1 (ОТЧЕТНЫЙ ПЕРИОД) '!N39 -> 0
A54: 3 | E54: ='Приложение 1 (ОТЧЕТНЫЙ ПЕРИОД) '!E40 -> 0 | F54: ='Приложение 1 (ОТЧЕТНЫЙ ПЕРИОД) '!F40 -> 0 | G54: ='Приложение 1 (ОТЧЕТНЫЙ ПЕРИОД) '!G40 -> 0 | H54: ='Приложение 1 (ОТЧЕТНЫЙ ПЕРИОД) '!H40 -> 0 | I54: ='Приложение 1 (ОТЧЕТНЫЙ ПЕРИОД) '!I40 -> 0 | K54: ='Приложение 1 (ОТЧЕТНЫЙ ПЕРИОД) '!K40 -> 0 | L54: ='Приложение 1 (ОТЧЕТНЫЙ ПЕРИОД) '!L40 -> 0 | M54: ='Приложение 1 (ОТЧЕТНЫЙ ПЕРИОД) '!M40 -> 0 | N54: ='Приложение 1 (ОТЧЕТНЫЙ ПЕРИОД) '!N40 -> 0
E55: ='Приложение 1 (ОТЧЕТНЫЙ ПЕРИОД) '!E41 -> 0 | F55: ='Приложение 1 (ОТЧЕТНЫЙ ПЕРИОД) '!F41 -> 0 | G55: ='Приложение 1 (ОТЧЕТНЫЙ ПЕРИОД) '!G41 -> 0 | H55: ='Приложение 1 (ОТЧЕТНЫЙ ПЕРИОД) '!H41 -> 0 | I55: ='Приложение 1 (ОТЧЕТНЫЙ ПЕРИОД) '!I41 -> 0 | K55: ='Приложение 1 (ОТЧЕТНЫЙ ПЕРИОД) '!K41 -> 0 | L55: ='Приложение 1 (ОТЧЕТНЫЙ ПЕРИОД) '!L41 -> 0 | M55: ='Приложение 1 (ОТЧЕТНЫЙ ПЕРИОД) '!M41 -> 0 | N55: ='Приложение 1 (ОТЧЕТНЫЙ ПЕРИОД) '!N41 -> 0
A56: 4 | E56: ='Приложение 1 (ОТЧЕТНЫЙ ПЕРИОД) '!E42 -> 0 | F56: ='Приложение 1 (ОТЧЕТНЫЙ ПЕРИОД) '!F42 -> 0 | G56: ='Приложение 1 (ОТЧЕТНЫЙ ПЕРИОД) '!G42 -> 0 | H56: ='Приложение 1 (ОТЧЕТНЫЙ ПЕРИОД) '!H42 -> 0 | I56: ='Приложение 1 (ОТЧЕТНЫЙ ПЕРИОД) '!I42 -> 0 | K56: ='Приложение 1 (ОТЧЕТНЫЙ ПЕРИОД) '!K42 -> 0 | L56: ='Приложение 1 (ОТЧЕТНЫЙ ПЕРИОД) '!L42 -> 0 | M56: ='Приложение 1 (ОТЧЕТНЫЙ ПЕРИОД) '!M42 -> 0 | N56: ='Приложение 1 (ОТЧЕТНЫЙ ПЕРИОД) '!N42 -> 0
E57: ='Приложение 1 (ОТЧЕТНЫЙ ПЕРИОД) '!E43 -> 0 | F57: ='Приложение 1 (ОТЧЕТНЫЙ ПЕРИОД) '!F43 -> 0 | G57: ='Приложение 1 (ОТЧЕТНЫЙ ПЕРИОД) '!G43 -> 0 | H57: ='Приложение 1 (ОТЧЕТНЫЙ ПЕРИОД) '!H43 -> 0 | I57: ='Приложение 1 (ОТЧЕТНЫЙ ПЕРИОД) '!I43 -> 0 | K57: ='Приложение 1 (ОТЧЕТНЫЙ ПЕРИОД) '!K43 -> 0 | L57: ='Приложение 1 (ОТЧЕТНЫЙ ПЕРИОД) '!L43 -> 0 | M57: ='Приложение 1 (ОТЧЕТНЫЙ ПЕРИОД) '!M43 -> 0 | N57: ='Приложение 1 (ОТЧЕТНЫЙ ПЕРИОД) '!N43 -> 0
E60: III | F60: ОБРАЗОВАНИЕ
A61: =E60 -> III | B61: Итого по национальному проекту | D61: Всего | E61: ='Приложение 1 (ОТЧЕТНЫЙ ПЕРИОД) '!E83 -> 5.31003 | F61: ='Приложение 1 (ОТЧЕТНЫЙ ПЕРИОД) '!F83 -> 5.31003 | G61: ='Приложение 1 (ОТЧЕТНЫЙ ПЕРИОД) '!G83 -> 5.31003 | H61: ='Приложение 1 (ОТЧЕТНЫЙ ПЕРИОД) '!H83 -> 35.01666 | I61: ='Приложение 1 (ОТЧЕТНЫЙ ПЕРИОД) '!I83 -> 0 | K61: ='Приложение 1 (ОТЧЕТНЫЙ ПЕРИОД) '!K83 -> 33.88 | L61: ='Приложение 1 (ОТЧЕТНЫЙ ПЕРИОД) '!L83 -> 8.6912 | M61: ='Приложение 1 (ОТЧЕТНЫЙ ПЕРИОД) '!M83 -> 0 | N61: ='Приложение 1 (ОТЧЕТНЫЙ ПЕРИОД) '!N83 -> 82.89789 | R61: =B62 -> ОБРАЗОВАНИЕ | S61: =D61 -> Всего | T61: =E61 -> 5.31003 | U61: =F61 -> 5.31003 | V61: =G61 -> 5.31003 | W61: =F61/E61% -> 100 | X61: =G61/F61% -> 100 | Y61: =V61/T61% -> 100
B62: =F60 -> ОБРАЗОВАНИЕ | D62: федер. бюджет | E62: ='Приложение 1 (ОТЧЕТНЫЙ ПЕРИОД) '!E84 -> 0 | F62: ='Приложение 1 (ОТЧЕТНЫЙ ПЕРИОД) '!F84 -> 0 | G62: ='Приложение 1 (ОТЧЕТНЫЙ ПЕРИОД) '!G84 -> 0 | H62: ='Приложение 1 (ОТЧЕТНЫЙ ПЕРИОД) '!H84 -> 33.977 | I62: ='Приложение 1 (ОТЧЕТНЫЙ ПЕРИОД) '!I84 -> 0 | K62: ='Приложение 1 (ОТЧЕТНЫЙ ПЕРИОД) '!K84 -> 0 | L62: ='Приложение 1 (ОТЧЕТНЫЙ ПЕРИОД) '!L84 -> 0 | M62: ='Приложение 1 (ОТЧЕТНЫЙ ПЕРИОД) '!M84 -> 0 | N62: ='Приложение 1 (ОТЧЕТНЫЙ ПЕРИОД) '!N84 -> 33.977
D63: краевой бюджет | E63: ='Приложение 1 (ОТЧЕТНЫЙ ПЕРИОД) '!E85 -> 5.25693 | F63: ='Приложение 1 (ОТЧЕТНЫЙ ПЕРИОД) '!F85 -> 5.25693 | G63: ='Приложение 1 (ОТЧЕТНЫЙ ПЕРИОД) '!G85 -> 5.25693 | H63: ='Приложение 1 (ОТЧЕТНЫЙ ПЕРИОД) '!H85 -> 0.69166 | I63: ='Приложение 1 (ОТЧЕТНЫЙ ПЕРИОД) '!I85 -> 0 | K63: ='Приложение 1 (ОТЧЕТНЫЙ ПЕРИОД) '!K85 -> 30.3 | L63: ='Приложение 1 (ОТЧЕТНЫЙ ПЕРИОД) '!L85 -> 3.35 | M63: ='Приложение 1 (ОТЧЕТНЫЙ ПЕРИОД) '!M85 -> 0 | N63: ='Приложение 1 (ОТЧЕТНЫЙ ПЕРИОД) '!N85 -> 39.59859
D64: бюджет МО | E64: ='Приложение 1 (ОТЧЕТНЫЙ ПЕРИОД) '!E86 -> 0.0531 | F64: ='Приложение 1 (ОТЧЕТНЫЙ ПЕРИОД) '!F86 -> 0.0531 | G64: ='Приложение 1 (ОТЧЕТНЫЙ ПЕРИОД) '!G86 -> 0.0531 | H64: ='Приложение 1 (ОТЧЕТНЫЙ ПЕРИОД) '!H86 -> 0.348 | I64: ='Приложение 1 (ОТЧЕТНЫЙ ПЕРИОД) '!I86 -> 0 | K64: ='Приложение 1 (ОТЧЕТНЫЙ ПЕРИОД) '!K86 -> 3.58 | L64: ='Приложение 1 (ОТЧЕТНЫЙ ПЕРИОД) '!L86 -> 5.3412 | M64: ='Приложение 1 (ОТЧЕТНЫЙ ПЕРИОД) '!M86 -> 0 | N64: ='Приложение 1 (ОТЧЕТНЫЙ ПЕРИОД) '!N86 -> 9.3223
D65: проверочная сторока | E65: =E62+E63+E64 -> 5.31003 | F65: =F62+F63+F64 -> 5.31003 | G65: =G62+G63+G64 -> 5.31003 | H65: =H62+H63+H64 -> 35.01666 | I65: =I62+I63+I64 -> 0 | K65: =K62+K63+K64 -> 33.88 | L65: =L62+L63+L64 -> 8.6912 | M65: =M62+M63+M64 -> 0 | N65: =N62+N63+N64 -> 82.89789 | P65: =SUM(E65:O65) -> 176.41584
D66: проверочная сторока | E66: =E65-E61 -> 0 | F66: =F65-F61 -> 0 | G66: =G65-G61 -> 0 | H66: =H65-H61 -> 0 | I66: =I65-I61 -> 0 | K66: =K65-K61 -> 0 | L66: =L65-L61 -> 0 | M66: =M65-M61 -> 0 | N66: =N65-N61 -> 0 | P66: =SUM(E66:O66) -> 0
E67: IV | F67: ЖИЛЬЕ И ГОРОДСКАЯ СРЕДА
A68: =E67 -> IV | B68: Итого по национальному проекту | D68: Всего | E68: ='Приложение 1 (ОТЧЕТНЫЙ ПЕРИОД) '!E117 -> 167.63864 | F68: ='Приложение 1 (ОТЧЕТНЫЙ ПЕРИОД) '!F117 -> 167.63864 | G68: ='Приложение 1 (ОТЧЕТНЫЙ ПЕРИОД) '!G117 -> 167.63864 | H68: ='Приложение 1 (ОТЧЕТНЫЙ ПЕРИОД) '!H117 -> 44.99 | I68: ='Приложение 1 (ОТЧЕТНЫЙ ПЕРИОД) '!I117 -> 36.66 | K68: ='Приложение 1 (ОТЧЕТНЫЙ ПЕРИОД) '!K117 -> 41.77 | L68: ='Приложение 1 (ОТЧЕТНЫЙ ПЕРИОД) '!L117 -> 47.9521 | M68: ='Приложение 1 (ОТЧЕТНЫЙ ПЕРИОД) '!M117 -> 0 | N68: ='Приложение 1 (ОТЧЕТНЫЙ ПЕРИОД) '!N117 -> 339.01075 | R68: =B69 -> ЖИЛЬЕ И ГОРОДСКАЯ СРЕДА | S68: =D68 -> Всего | T68: =E68 -> 167.63864 | U68: =F68 -> 167.63864 | V68: =G68 -> 167.63864 | W68: =F68/E68% -> 100 | X68: =G68/F68% -> 100 | Y68: =V68/T68% -> 100
B69: =F67 -> ЖИЛЬЕ И ГОРОДСКАЯ СРЕДА | D69: федер. бюджет | E69: ='Приложение 1 (ОТЧЕТНЫЙ ПЕРИОД) '!E118 -> 132.317 | F69: ='Приложение 1 (ОТЧЕТНЫЙ ПЕРИОД) '!F118 -> 132.317 | G69: ='Приложение 1 (ОТЧЕТНЫЙ ПЕРИОД) '!G118 -> 132.317 | H69: ='Приложение 1 (ОТЧЕТНЫЙ ПЕРИОД) '!H118 -> 20.97 | I69: ='Приложение 1 (ОТЧЕТНЫЙ ПЕРИОД) '!I118 -> 12.81 | K69: ='Приложение 1 (ОТЧЕТНЫЙ ПЕРИОД) '!K118 -> 17.03 | L69: ='Приложение 1 (ОТЧЕТНЫЙ ПЕРИОД) '!L118 -> 14.227 | M69: ='Приложение 1 (ОТЧЕТНЫЙ ПЕРИОД) '!M118 -> 0 | N69: ='Приложение 1 (ОТЧЕТНЫЙ ПЕРИОД) '!N118 -> 197.354
D70: краевой бюджет | E70: ='Приложение 1 (ОТЧЕТНЫЙ ПЕРИОД) '!E119 -> 22.121475 | F70: ='Приложение 1 (ОТЧЕТНЫЙ ПЕРИОД) '!F119 -> 22.121475 | G70: ='Приложение 1 (ОТЧЕТНЫЙ ПЕРИОД) '!G119 -> 22.121475 | H70: ='Приложение 1 (ОТЧЕТНЫЙ ПЕРИОД) '!H119 -> 23.71 | I70: ='Приложение 1 (ОТЧЕТНЫЙ ПЕРИОД) '!I119 -> 23.54 | K70: ='Приложение 1 (ОТЧЕТНЫЙ ПЕРИОД) '!K119 -> 23 | L70: ='Приложение 1 (ОТЧЕТНЫЙ ПЕРИОД) '!L119 -> 32.0187 | M70: ='Приложение 1 (ОТЧЕТНЫЙ ПЕРИОД) '!M119 -> 0 | N70: ='Приложение 1 (ОТЧЕТНЫЙ ПЕРИОД) '!N119 -> 124.39017
D71: бюджет МО | E71: ='Приложение 1 (ОТЧЕТНЫЙ ПЕРИОД) '!E120 -> 13.20017 | F71: ='Приложение 1 (ОТЧЕТНЫЙ ПЕРИОД) '!F120 -> 13.20017 | G71: ='Приложение 1 (ОТЧЕТНЫЙ ПЕРИОД) '!G120 -> 13.20017 | H71: ='Приложение 1 (ОТЧЕТНЫЙ ПЕРИОД) '!H120 -> 0.31 | I71: ='Приложение 1 (ОТЧЕТНЫЙ ПЕРИОД) '!I120 -> 0.31 | K71: ='Приложение 1 (ОТЧЕТНЫЙ ПЕРИОД) '!K120 -> 1.74 | L71: ='Приложение 1 (ОТЧЕТНЫЙ ПЕРИОД) '!L120 -> 1.7064 | M71: ='Приложение 1 (ОТЧЕТНЫЙ ПЕРИОД) '!M120 -> 0 | N71: ='Приложение 1 (ОТЧЕТНЫЙ ПЕРИОД) '!N120 -> 17.26657
D72: проверочная сторока | E72: =E69+E70+E71 -> 167.63864 | F72: =F69+F70+F71 -> 167.63864 | G72: =G69+G70+G71 -> 167.63864 | H72: =H69+H70+H71 -> 44.99 | I72: =I69+I70+I71 -> 36.66 | K72: =K69+K70+K71 -> 41.77 | L72: =L69+L70+L71 -> 47.9521 | M72: =M69+M70+M71 -> 0 | N72: =N69+N70+N71 -> 339.01075 | P72: =SUM(E72:O72) -> 1013.2988
D73: проверочная сторока | E73: =E72-E68 -> 0 | F73: =F72-F68 -> 0 | G73: =G72-G68 -> 0 | H73: =H72-H68 -> 0 | I73: =I72-I68 -> 0 | K73: =K72-K68 -> 0 | L73: =L72-L68 -> 0 | M73: =M72-M68 -> 0 | N73: =N72-N68 -> 0 | P73: =SUM(E73:O73) -> 0
E74: V | F74: ЭКОЛОГИЯ
A75: =E74 -> V | B75: Итого по национальному проекту | D75: Всего | E75: ='Приложение 1 (ОТЧЕТНЫЙ ПЕРИОД) '!E128 -> 0 | F75: ='Приложение 1 (ОТЧЕТНЫЙ ПЕРИОД) '!F128 -> 0 | G75: ='Приложение 1 (ОТЧЕТНЫЙ ПЕРИОД) '!G128 -> 0 | H75: ='Приложение 1 (ОТЧЕТНЫЙ ПЕРИОД) '!H128 -> 0 | I75: ='Приложение 1 (ОТЧЕТНЫЙ ПЕРИОД) '!I128 -> 0 | K75: ='Приложение 1 (ОТЧЕТНЫЙ ПЕРИОД) '!K128 -> 33.71 | L75: ='Приложение 1 (ОТЧЕТНЫЙ ПЕРИОД) '!L128 -> 0 | M75: ='Приложение 1 (ОТЧЕТНЫЙ ПЕРИОД) '!M128 -> 0 | N75: ='Приложение 1 (ОТЧЕТНЫЙ ПЕРИОД) '!N128 -> 33.71 | R75: =B76 -> ЭКОЛОГИЯ | S75: =D75 -> Всего | T75: =E75 -> 0 | U75: =F75 -> 0 | V75: =G75 -> 0 | W75: =F75/E75% -> #DIV/0! | X75: =G75/F75% -> #DIV/0! | Y75: =V75/T75% -> #DIV/0!
B76: =F74 -> ЭКОЛОГИЯ | D76: федер. бюджет | E76: ='Приложение 1 (ОТЧЕТНЫЙ ПЕРИОД) '!E129 -> 0 | F76: ='Приложение 1 (ОТЧЕТНЫЙ ПЕРИОД) '!F129 -> 0 | G76: ='Приложение 1 (ОТЧЕТНЫЙ ПЕРИОД) '!G129 -> 0 | H76: ='Приложение 1 (ОТЧЕТНЫЙ ПЕРИОД) '!H129 -> 0 | I76: ='Приложение 1 (ОТЧЕТНЫЙ ПЕРИОД) '!I129 -> 0 | K76: ='Приложение 1 (ОТЧЕТНЫЙ ПЕРИОД) '!K129 -> 0 | L76: ='Приложение 1 (ОТЧЕТНЫЙ ПЕРИОД) '!L129 -> 0 | M76: ='Приложение 1 (ОТЧЕТНЫЙ ПЕРИОД) '!M129 -> 0 | N76: ='Приложение 1 (ОТЧЕТНЫЙ ПЕРИОД) '!N129 -> 0
D77: краевой бюджет | E77: ='Приложение 1 (ОТЧЕТНЫЙ ПЕРИОД) '!E130 -> 0 | F77: ='Приложение 1 (ОТЧЕТНЫЙ ПЕРИОД) '!F130 -> 0 | G77: ='Приложение 1 (ОТЧЕТНЫЙ ПЕРИОД) '!G130 -> 0 | H77: ='Приложение 1 (ОТЧЕТНЫЙ ПЕРИОД) '!H130 -> 0 | I77: ='Приложение 1 (ОТЧЕТНЫЙ ПЕРИОД) '!I130 -> 0 | K77: ='Приложение 1 (ОТЧЕТНЫЙ ПЕРИОД) '!K130 -> 31.95 | L77: ='Приложение 1 (ОТЧЕТНЫЙ ПЕРИОД) '!L130 -> 0 | M77: ='Приложение 1 (ОТЧЕТНЫЙ ПЕРИОД) '!M130 -> 0 | N77: ='Приложение 1 (ОТЧЕТНЫЙ ПЕРИОД) '!N130 -> 31.95
D78: бюджет МО | E78: ='Приложение 1 (ОТЧЕТНЫЙ ПЕРИОД) '!E131 -> 0 | F78: ='Приложение 1 (ОТЧЕТНЫЙ ПЕРИОД) '!F131 -> 0 | G78: ='Приложение 1 (ОТЧЕТНЫЙ ПЕРИОД) '!G131 -> 0 | H78: ='Приложение 1 (ОТЧЕТНЫЙ ПЕРИОД) '!H131 -> 0 | I78: ='Приложение 1 (ОТЧЕТНЫЙ ПЕРИОД) '!I131 -> 0 | K78: ='Приложение 1 (ОТЧЕТНЫЙ ПЕРИОД) '!K131 -> 1.76 | L78: ='Приложение 1 (ОТЧЕТНЫЙ ПЕРИОД) '!L131 -> 0 | M78: ='Приложение 1 (ОТЧЕТНЫЙ ПЕРИОД) '!M131 -> 0 | N78: ='Приложение 1 (ОТЧЕТНЫЙ ПЕРИОД) '!N131 -> 1.76
D79: проверочная сторока | E79: =E76+E77+E78 -> 0 | F79: =F76+F77+F78 -> 0 | G79: =G76+G77+G78 -> 0 | H79: =H76+H77+H78 -> 0 | I79: =I76+I77+I78 -> 0 | K79: =K76+K77+K78 -> 33.71 | L79: =L76+L77+L78 -> 0 | M79: =M76+M77+M78 -> 0 | N79: =N76+N77+N78 -> 33.71 | P79: =SUM(E79:O79) -> 67.42
D80: проверочная сторока | E80: =E79-E75 -> 0 | F80: =F79-F75 -> 0 | G80: =G79-G75 -> 0 | H80: =H79-H75 -> 0 | I80: =I79-I75 -> 0 | K80: =K79-K75 -> 0 | L80: =L79-L75 -> 0 | M80: =M79-M75 -> 0 | N80: =N79-N75 -> 0 | P80: =SUM(E80:O80) -> 0
E81: VI | F81: БЕЗОПАСНЫЕ И КАЧЕСТВЕННЫЕ АВТОМОБИЛЬНЫЕ ДОРОГИ
A82: =E81 -> VI | B82: Итого по национальному проекту | D82: Всего | E82: ='Приложение 1 (ОТЧЕТНЫЙ ПЕРИОД) '!E167 -> 61.786581 | F82: ='Приложение 1 (ОТЧЕТНЫЙ ПЕРИОД) '!F167 -> 61.786581 | G82: ='Приложение 1 (ОТЧЕТНЫЙ ПЕРИОД) '!G167 -> 61.786581 | H82: ='Приложение 1 (ОТЧЕТНЫЙ ПЕРИОД) '!H167 -> 0 | I82: ='Приложение 1 (ОТЧЕТНЫЙ ПЕРИОД) '!I167 -> 0 | K82: ='Приложение 1 (ОТЧЕТНЫЙ ПЕРИОД) '!K167 -> 0 | L82: ='Приложение 1 (ОТЧЕТНЫЙ ПЕРИОД) '!L167 -> 52.45037 | M82: ='Приложение 1 (ОТЧЕТНЫЙ ПЕРИОД) '!M167 -> 0 | N82: ='Приложение 1 (ОТЧЕТНЫЙ ПЕРИОД) '!N167 -> 114.23695 | R82: =B83 -> БЕЗОПАСНЫЕ И КАЧЕСТВЕННЫЕ АВТОМОБИЛЬНЫЕ ДОРОГИ | S82: =D82 -> Всего | T82: =E82 -> 61.786581 | U82: =F82 -> 61.786581 | V82: =G82 -> 61.786581 | W82: =F82/E82% -> 100 | X82: =G82/F82% -> 100 | Y82: =V82/T82% -> 100
B83: =F81 -> БЕЗОПАСНЫЕ И КАЧЕСТВЕННЫЕ АВТОМОБИЛЬНЫЕ ДОРОГИ | D83: федер. бюджет | E83: ='Приложение 1 (ОТЧЕТНЫЙ ПЕРИОД) '!E168 -> 0 | F83: ='Приложение 1 (ОТЧЕТНЫЙ ПЕРИОД) '!F168 -> 0 | G83: ='Приложение 1 (ОТЧЕТНЫЙ ПЕРИОД) '!G168 -> 0 | H83: ='Приложение 1 (ОТЧЕТНЫЙ ПЕРИОД) '!H168 -> 0 | I83: ='Приложение 1 (ОТЧЕТНЫЙ ПЕРИОД) '!I168 -> 0 | K83: ='Приложение 1 (ОТЧЕТНЫЙ ПЕРИОД) '!K168 -> 0 | L83: ='Приложение 1 (ОТЧЕТНЫЙ ПЕРИОД) '!L168 -> 0 | M83: ='Приложение 1 (ОТЧЕТНЫЙ ПЕРИОД) '!M168 -> 0 | N83: ='Приложение 1 (ОТЧЕТНЫЙ ПЕРИОД) '!N168 -> 0
D84: краевой бюджет | E84: ='Приложение 1 (ОТЧЕТНЫЙ ПЕРИОД) '!E169 -> 59.999037 | F84: ='Приложение 1 (ОТЧЕТНЫЙ ПЕРИОД) '!F169 -> 59.999037 | G84: ='Приложение 1 (ОТЧЕТНЫЙ ПЕРИОД) '!G169 -> 59.999037 | H84: ='Приложение 1 (ОТЧЕТНЫЙ ПЕРИОД) '!H169 -> 0 | I84: ='Приложение 1 (ОТЧЕТНЫЙ ПЕРИОД) '!I169 -> 0 | K84: ='Приложение 1 (ОТЧЕТНЫЙ ПЕРИОД) '!K169 -> 0 | L84: ='Приложение 1 (ОТЧЕТНЫЙ ПЕРИОД) '!L169 -> 46.7299 | M84: ='Приложение 1 (ОТЧЕТНЫЙ ПЕРИОД) '!M169 -> 0 | N84: ='Приложение 1 (ОТЧЕТНЫЙ ПЕРИОД) '!N169 -> 106.72894
D85: бюджет МО | E85: ='Приложение 1 (ОТЧЕТНЫЙ ПЕРИОД) '!E170 -> 1.787544 | F85: ='Приложение 1 (ОТЧЕТНЫЙ ПЕРИОД) '!F170 -> 1.787544 | G85: ='Приложение 1 (ОТЧЕТНЫЙ ПЕРИОД) '!G170 -> 1.787544 | H85: ='Приложение 1 (ОТЧЕТНЫЙ ПЕРИОД) '!H170 -> 0 | I85: ='Приложение 1 (ОТЧЕТНЫЙ ПЕРИОД) '!I170 -> 0 | K85: ='Приложение 1 (ОТЧЕТНЫЙ ПЕРИОД) '!K170 -> 0 | L85: ='Приложение 1 (ОТЧЕТНЫЙ ПЕРИОД) '!L170 -> 5.72047 | M85: ='Приложение 1 (ОТЧЕТНЫЙ ПЕРИОД) '!M170 -> 0 | N85: ='Приложение 1 (ОТЧЕТНЫЙ ПЕРИОД) '!N170 -> 7.508014
D86: проверочная сторока | E86: =E83+E84+E85 -> 61.786581 | F86: =F83+F84+F85 -> 61.786581 | G86: =G83+G84+G85 -> 61.786581 | H86: =H83+H84+H85 -> 0 | I86: =I83+I84+I85 -> 0 | K86: =K83+K84+K85 -> 0 | L86: =L83+L84+L85 -> 52.45037 | M86: =M83+M84+M85 -> 0 | N86: =N83+N84+N85 -> 114.23695 | P86: =SUM(E86:O86) -> 352.04706
D87: проверочная сторока | E87: =E86-E82 -> 0 | F87: =F86-F82 -> 0 | G87: =G86-G82 -> 0 | H87: =H86-H82 -> 0 | I87: =I86-I82 -> 0 | K87: =K86-K82 -> 0 | L87: =L86-L82 -> 0 | M87: =M86-M82 -> 0 | N87: =N86-N82 -> 0 | P87: =SUM(E87:O87) -> 0
E88: VII | F88: ПРОИЗВОДИТЕЛЬНОСТЬ ТРУДА
A89: =E88 -> VII | B89: Итого по национальному проекту | D89: Всего | E89: ='Приложение 1 (ОТЧЕТНЫЙ ПЕРИОД) '!E190 -> 0 | F89: ='Приложение 1 (ОТЧЕТНЫЙ ПЕРИОД) '!F190 -> 0 | G89: ='Приложение 1 (ОТЧЕТНЫЙ ПЕРИОД) '!G190 -> 0 | H89: ='Приложение 1 (ОТЧЕТНЫЙ ПЕРИОД) '!H190 -> 0 | I89: ='Приложение 1 (ОТЧЕТНЫЙ ПЕРИОД) '!I190 -> 0 | K89: ='Приложение 1 (ОТЧЕТНЫЙ ПЕРИОД) '!K190 -> 0 | L89: ='Приложение 1 (ОТЧЕТНЫЙ ПЕРИОД) '!L190 -> 0 | M89: ='Приложение 1 (ОТЧЕТНЫЙ ПЕРИОД) '!M190 -> 0 | N89: ='Приложение 1 (ОТЧЕТНЫЙ ПЕРИОД) '!N190 -> 0 | R89: =B90 -> ПРОИЗВОДИТЕЛЬНОСТЬ ТРУДА | S89: =D89 -> Всего | T89: =E89 -> 0 | U89: =F89 -> 0 | V89: =G89 -> 0 | W89: =F89/E89% -> #DIV/0! | X89: =G89/F89% -> #DIV/0! | Y89: =V89/T89% -> #DIV/0!
B90: =F88 -> ПРОИЗВОДИТЕЛЬНОСТЬ ТРУДА | D90: федер. бюджет | E90: ='Приложение 1 (ОТЧЕТНЫЙ ПЕРИОД) '!E191 -> 0 | F90: ='Приложение 1 (ОТЧЕТНЫЙ ПЕРИОД) '!F191 -> 0 | G90: ='Приложение 1 (ОТЧЕТНЫЙ ПЕРИОД) '!G191 -> 0 | H90: ='Приложение 1 (ОТЧЕТНЫЙ ПЕРИОД) '!H191 -> 0 | I90: ='Приложение 1 (ОТЧЕТНЫЙ ПЕРИОД) '!I191 -> 0 | K90: ='Приложение 1 (ОТЧЕТНЫЙ ПЕРИОД) '!K191 -> 0 | L90: ='Приложение 1 (ОТЧЕТНЫЙ ПЕРИОД) '!L191 -> 0 | M90: ='Приложение 1 (ОТЧЕТНЫЙ ПЕРИОД) '!M191 -> 0 | N90: ='Приложение 1 (ОТЧЕТНЫЙ ПЕРИОД) '!N191 -> 0
D91: краевой бюджет | E91: ='Приложение 1 (ОТЧЕТНЫЙ ПЕРИОД) '!E192 -> 0 | F91: ='Приложение 1 (ОТЧЕТНЫЙ ПЕРИОД) '!F192 -> 0 | G91: ='Приложение 1 (ОТЧЕТНЫЙ ПЕРИОД) '!G192 -> 0 | H91: ='Приложение 1 (ОТЧЕТНЫЙ ПЕРИОД) '!H192 -> 0 | I91: ='Приложение 1 (ОТЧЕТНЫЙ ПЕРИОД) '!I192 -> 0 | K91: ='Приложение 1 (ОТЧЕТНЫЙ ПЕРИОД) '!K192 -> 0 | L91: ='Приложение 1 (ОТЧЕТНЫЙ ПЕРИОД) '!L192 -> 0 | M91: ='Приложение 1 (ОТЧЕТНЫЙ ПЕРИОД) '!M192 -> 0 | N91: ='Приложение 1 (ОТЧЕТНЫЙ ПЕРИОД) '!N192 -> 0
D92: бюджет МО | E92: ='Приложение 1 (ОТЧЕТНЫЙ ПЕРИОД) '!E193 -> 0 | F92: ='Приложение 1 (ОТЧЕТНЫЙ ПЕРИОД) '!F193 -> 0 | G92: ='Приложение 1 (ОТЧЕТНЫЙ ПЕРИОД) '!G193 -> 0 | H92: ='Приложение 1 (ОТЧЕТНЫЙ ПЕРИОД) '!H193 -> 0 | I92: ='Приложение 1 (ОТЧЕТНЫЙ ПЕРИОД) '!I193 -> 0 | K92: ='Приложение 1 (ОТЧЕТНЫЙ ПЕРИОД) '!K193 -> 0 | L92: ='Приложение 1 (ОТЧЕТНЫЙ ПЕРИОД) '!L193 -> 0 | M92: ='Приложение 1 (ОТЧЕТНЫЙ ПЕРИОД) '!M193 -> 0 | N92: ='Приложение 1 (ОТЧЕТНЫЙ ПЕРИОД) '!N193 -> 0
D93: проверочная сторока | E93: =E90+E91+E92 -> 0 | F93: =F90+F91+F92 -> 0 | G93: =G90+G91+G92 -> 0 | H93: =H90+H91+H92 -> 0 | I93: =I90+I91+I92 -> 0 | K93: =K90+K91+K92 -> 0 | L93: =L90+L91+L92 -> 0 | M93: =M90+M91+M92 -> 0 | N93: =N90+N91+N92 -> 0 | P93: =SUM(E93:O93) -> 0
D94: проверочная сторока | E94: =E93-E89 -> 0 | F94: =F93-F89 -> 0 | G94: =G93-G89 -> 0 | H94: =H93-H89 -> 0 | I94: =I93-I89 -> 0 | K94: =K93-K89 -> 0 | L94: =L93-L89 -> 0 | M94: =M93-M89 -> 0 | N94: =N93-N89 -> 0 | P94: =SUM(E94:O94) -> 0
E95: VIII | F95: НАУКА
A96: =E95 -> VIII | B96: Итого по национальному проекту | D96: Всего | E96: ='Приложение 1 (ОТЧЕТНЫЙ ПЕРИОД) '!E212 -> 0 | F96: ='Приложение 1 (ОТЧЕТНЫЙ ПЕРИОД) '!F212 -> 0 | G96: ='Приложение 1 (ОТЧЕТНЫЙ ПЕРИОД) '!G212 -> 0 | H96: ='Приложение 1 (ОТЧЕТНЫЙ ПЕРИОД) '!H212 -> 0 | I96: ='Приложение 1 (ОТЧЕТНЫЙ ПЕРИОД) '!I212 -> 0 | K96: ='Приложение 1 (ОТЧЕТНЫЙ ПЕРИОД) '!K212 -> 0 | L96: ='Приложение 1 (ОТЧЕТНЫЙ ПЕРИОД) '!L212 -> 0 | M96: ='Приложение 1 (ОТЧЕТНЫЙ ПЕРИОД) '!M212 -> 0 | N96: ='Приложение 1 (ОТЧЕТНЫЙ ПЕРИОД) '!N212 -> 0 | R96: =B97 -> НАУКА | S96: =D96 -> Всего | T96: =E96 -> 0 | U96: =F96 -> 0 | V96: =G96 -> 0 | W96: =F96/E96% -> #DIV/0! | X96: =G96/F96% -> #DIV/0! | Y96: =V96/T96% -> #DIV/0!
B97: =F95 -> НАУКА | D97: федер. бюджет | E97: ='Приложение 1 (ОТЧЕТНЫЙ ПЕРИОД) '!E213 -> 0 | F97: ='Приложение 1 (ОТЧЕТНЫЙ ПЕРИОД) '!F213 -> 0 | G97: ='Приложение 1 (ОТЧЕТНЫЙ ПЕРИОД) '!G213 -> 0 | H97: ='Приложение 1 (ОТЧЕТНЫЙ ПЕРИОД) '!H213 -> 0 | I97: ='Приложение 1 (ОТЧЕТНЫЙ ПЕРИОД) '!I213 -> 0 | K97: ='Приложение 1 (ОТЧЕТНЫЙ ПЕРИОД) '!K213 -> 0 | L97: ='Приложение 1 (ОТЧЕТНЫЙ ПЕРИОД) '!L213 -> 0 | M97: ='Приложение 1 (ОТЧЕТНЫЙ ПЕРИОД) '!M213 -> 0 | N97: ='Приложение 1 (ОТЧЕТНЫЙ ПЕРИОД) '!N213 -> 0
D98: краевой бюджет | E98: ='Приложение 1 (ОТЧЕТНЫЙ ПЕРИОД) '!E214 -> 0 | F98: ='Приложение 1 (ОТЧЕТНЫЙ ПЕРИОД) '!F214 -> 0 | G98: ='Приложение 1 (ОТЧЕТНЫЙ ПЕРИОД) '!G214 -> 0 | H98: ='Приложение 1 (ОТЧЕТНЫЙ ПЕРИОД) '!H214 -> 0 | I98: ='Приложение 1 (ОТЧЕТНЫЙ ПЕРИОД) '!I214 -> 0 | K98: ='Приложение 1 (ОТЧЕТНЫЙ ПЕРИОД) '!K214 -> 0 | L98: ='Приложение 1 (ОТЧЕТНЫЙ ПЕРИОД) '!L214 -> 0 | M98: ='Приложение 1 (ОТЧЕТНЫЙ ПЕРИОД) '!M214 -> 0 | N98: ='Приложение 1 (ОТЧЕТНЫЙ ПЕРИОД) '!N214 -> 0
D99: бюджет МО | E99: ='Приложение 1 (ОТЧЕТНЫЙ ПЕРИОД) '!E215 -> 0 | F99: ='Приложение 1 (ОТЧЕТНЫЙ ПЕРИОД) '!F215 -> 0 | G99: ='Приложение 1 (ОТЧЕТНЫЙ ПЕРИОД) '!G215 -> 0 | H99: ='Приложение 1 (ОТЧЕТНЫЙ ПЕРИОД) '!H215 -> 0 | I99: ='Приложение 1 (ОТЧЕТНЫЙ ПЕРИОД) '!I215 -> 0 | K99: ='Приложение 1 (ОТЧЕТНЫЙ ПЕРИОД) '!K215 -> 0 | L99: ='Приложение 1 (ОТЧЕТНЫЙ ПЕРИОД) '!L215 -> 0 | M99: ='Приложение 1 (ОТЧЕТНЫЙ ПЕРИОД) '!M215 -> 0 | N99: ='Приложение 1 (ОТЧЕТНЫЙ ПЕРИОД) '!N215 -> 0
D100: проверочная сторока | E100: =E97+E98+E99 -> 0 | F100: =F97+F98+F99 -> 0 | G100: =G97+G98+G99 -> 0 | H100: =H97+H98+H99 -> 0 | I100: =I97+I98+I99 -> 0 | K100: =K97+K98+K99 -> 0 | L100: =L97+L98+L99 -> 0 | M100: =M97+M98+M99 -> 0 | N100: =N97+N98+N99 -> 0 | P100: =SUM(E100:O100) -> 0
D101: проверочная сторока | E101: =E100-E96 -> 0 | F101: =F100-F96 -> 0 | G101: =G100-G96 -> 0 | H101: =H100-H96 -> 0 | I101: =I100-I96 -> 0 | K101: =K100-K96 -> 0 | L101: =L100-L96 -> 0 | M101: =M100-M96 -> 0 | N101: =N100-N96 -> 0 | P101: =SUM(E101:O101) -> 0
E102: IX | F102: ЦИФРОВАЯ ЭКОНОМИКА
A103: =E102 -> IX | B103: Итого по национальному проекту | D103: Всего | E103: ='Приложение 1 (ОТЧЕТНЫЙ ПЕРИОД) '!E223 -> 0 | F103: ='Приложение 1 (ОТЧЕТНЫЙ ПЕРИОД) '!F223 -> 0 | G103: ='Приложение 1 (ОТЧЕТНЫЙ ПЕРИОД) '!G223 -> 0 | H103: ='Приложение 1 (ОТЧЕТНЫЙ ПЕРИОД) '!H223 -> 0 | I103: ='Приложение 1 (ОТЧЕТНЫЙ ПЕРИОД) '!I223 -> 0 | K103: ='Приложение 1 (ОТЧЕТНЫЙ ПЕРИОД) '!K223 -> 1.6 | L103: ='Приложение 1 (ОТЧЕТНЫЙ ПЕРИОД) '!L223 -> 1.85 | M103: ='Приложение 1 (ОТЧЕТНЫЙ ПЕРИОД) '!M223 -> 0 | N103: ='Приложение 1 (ОТЧЕТНЫЙ ПЕРИОД) '!N223 -> 3.45 | R103: =B104 -> ЦИФРОВАЯ ЭКОНОМИКА | S103: =D103 -> Всего | T103: =E103 -> 0 | U103: =F103 -> 0 | V103: =G103 -> 0 | W103: =F103/E103% -> #DIV/0! | X103: =G103/F103% -> #DIV/0! | Y103: =V103/T103% -> #DIV/0!
B104: =F102 -> ЦИФРОВАЯ ЭКОНОМИКА | D104: федер. бюджет | E104: ='Приложение 1 (ОТЧЕТНЫЙ ПЕРИОД) '!E224 -> 0 | F104: ='Приложение 1 (ОТЧЕТНЫЙ ПЕРИОД) '!F224 -> 0 | G104: ='Приложение 1 (ОТЧЕТНЫЙ ПЕРИОД) '!G224 -> 0 | H104: ='Приложение 1 (ОТЧЕТНЫЙ ПЕРИОД) '!H224 -> 0 | I104: ='Приложение 1 (ОТЧЕТНЫЙ ПЕРИОД) '!I224 -> 0 | K104: ='Приложение 1 (ОТЧЕТНЫЙ ПЕРИОД) '!K224 -> 0 | L104: ='Приложение 1 (ОТЧЕТНЫЙ ПЕРИОД) '!L224 -> 0 | M104: ='Приложение 1 (ОТЧЕТНЫЙ ПЕРИОД) '!M224 -> 0 | N104: ='Приложение 1 (ОТЧЕТНЫЙ ПЕРИОД) '!N224 -> 0
D105: краевой бюджет | E105: ='Приложение 1 (ОТЧЕТНЫЙ ПЕРИОД) '!E225 -> 0 | F105: ='Приложение 1 (ОТЧЕТНЫЙ ПЕРИОД) '!F225 -> 0 | G105: ='Приложение 1 (ОТЧЕТНЫЙ ПЕРИОД) '!G225 -> 0 | H105: ='Приложение 1 (ОТЧЕТНЫЙ ПЕРИОД) '!H225 -> 0 | I105: ='Приложение 1 (ОТЧЕТНЫЙ ПЕРИОД) '!I225 -> 0 | K105: ='Приложение 1 (ОТЧЕТНЫЙ ПЕРИОД) '!K225 -> 0 | L105: ='Приложение 1 (ОТЧЕТНЫЙ ПЕРИОД) '!L225 -> 0 | M105: ='Приложение 1 (ОТЧЕТНЫЙ ПЕРИОД) '!M225 -> 0 | N105: ='Приложение 1 (ОТЧЕТНЫЙ ПЕРИОД) '!N225 -> 0
D106: бюджет МО | E106: ='Приложение 1 (ОТЧЕТНЫЙ ПЕРИОД) '!E226 -> 0 | F106: ='Приложение 1 (ОТЧЕТНЫЙ ПЕРИОД) '!F226 -> 0 | G106: ='Приложение 1 (ОТЧЕТНЫЙ ПЕРИОД) '!G226 -> 0 | H106: ='Приложение 1 (ОТЧЕТНЫЙ ПЕРИОД) '!H226 -> 0 | I106: ='Приложение 1 (ОТЧЕТНЫЙ ПЕРИОД) '!I226 -> 0 | K106: ='Приложение 1 (ОТЧЕТНЫЙ ПЕРИОД) '!K226 -> 1.6 | L106: ='Приложение 1 (ОТЧЕТНЫЙ ПЕРИОД) '!L226 -> 1.85 | M106: ='Приложение 1 (ОТЧЕТНЫЙ ПЕРИОД) '!M226 -> 0 | N106: ='Приложение 1 (ОТЧЕТНЫЙ ПЕРИОД) '!N226 -> 3.45
D107: проверочная сторока | E107: =E104+E105+E106 -> 0 | F107: =F104+F105+F106 -> 0 | G107: =G104+G105+G106 -> 0 | H107: =H104+H105+H106 -> 0 | I107: =I104+I105+I106 -> 0 | K107: =K104+K105+K106 -> 1.6 | L107: =L104+L105+L106 -> 1.85 | M107: =M104+M105+M106 -> 0 | N107: =N104+N105+N106 -> 3.45 | P107: =SUM(E107:O107) -> 6.9
D108: проверочная сторока | E108: =E107-E103 -> 0 | F108: =F107-F103 -> 0 | G108: =G107-G103 -> 0 | H108: =H107-H103 -> 0 | I108: =I107-I103 -> 0 | K108: =K107-K103 -> 0 | L108: =L107-L103 -> 0 | M108: =M107-M103 -> 0 | N108: =N107-N103 -> 0 | P108: =SUM(E108:O108) -> 0
E109: X | F109: КУЛЬТУРА
...
