Workbook

Sheet Приложение 1 (ОТЧЕТНЫЙ ПЕРИОД) 
B1: ФОРМАТ И ШРИФТЫ НЕ ИЗМЕНЯТЬ | N1: Приложение 1
A2: ИНФОРМАЦИЯ по показателям и мероприятиям дорожных карт по достижению показателей Указа Президента Российской Федерации от 07.05.2018 № 204 ПОЖАРСКИЙ МУНИЦИПАЛЬНЫЙ РАЙОН | K2: ЕЖЕНЕДЕЛЬНАЯ ПО СОСТОЯНИЮ НА 27.12.2021 форма предоставления информации
A3: № п.п. | B3: Наименование показателя | C3: Базовое значение | E3: Значение показателя/ потребность в финансировании, млн рублей | J3: Примечание. Сумма контракта, дата заключения контракта, поставщик, дата завершения работ по контракту. Дата внесения изменений в план-график, планируемая дата начала конкурсных процедур, планируемая дата заключения контракта. Для контрактов на подписании - дата завершения конкурсных процедур, сумма контракта, поставщик, планируемая дата заключения контракта, дата завершения работ по контракту. Адрес расположения заверщенного объекта. | K3: ИТОГ ПРОФИНАНСИРОВАННО, млн рублей | M3: Значениепотребность в финансировании, млн рублей | N3: ВСЕГО 2019-2024
B4: городской округ (муниципальный р-н) | C4: Значение/ года | D4: Дата / вид бюджета | E4: 2021 г. (план в соответствии с бюджетом) | F4: сумма подписанного контракта по мероприятию | G4: профинанси-ровано (кассовый расход) /исполнение на 27.12.2021 | H4: 2022 г. (план в соответствии с бюджетом) | I4: 2023 г. (план в соответствии с бюджетом) | K4: 2019 г. | L4: 2020 г. | M4: 2024 г.
B5: ВСЕГО | D5: Всего | E5: =E6+E7+E8 -> 253.4272 | F5: =F6+F7+F8 -> 253.4272 | G5: =G6+G7+G8 -> 253.4272 | H5: =H6+H7+H8 -> 80.671316 | I5: =I6+I7+I8 -> 37.321521 | K5: =K6+K7+K8 -> 130.618 | L5: =L6+L7+L8 -> 124.03937 | M5: =M6+M7+M8 -> 0.6 | N5: =N6+N7+N8 -> 626.67741
D6: федер. бюджет | E6: =E11+E292 -> 132.742 | F6: =F11+F292 -> 132.742 | G6: =G11+G292 -> 132.742 | H6: =H11+H292 -> 55.352 | I6: =I11+I292 -> 13.212 | K6: =K11+K292 -> 17.935 | L6: =L11+L292 -> 14.7395 | M6: =M11+M292 -> 0 | N6: =N11+N292 -> 233.9805
D7: краевой бюджет | E7: =E12+E293 -> 103.73144 | F7: =F12+F293 -> 103.73144 | G7: =G12+G293 -> 103.73144 | H7: =H12+H293 -> 24.45666 | I7: =I12+I293 -> 23.5949 | K7: =K12+K293 -> 102.346 | L7: =L12+L293 -> 92.8478 | M7: =M12+M293 -> 0 | N7: =N12+N293 -> 346.9768
D8: бюджет МО | E8: =E13+E294 -> 16.953757 | F8: =F13+F294 -> 16.953757 | G8: =G13+G294 -> 16.953757 | H8: =H13+H294 -> 0.862656 | I8: =I13+I294 -> 0.514621 | K8: =K13+K294 -> 10.337 | L8: =L13+L294 -> 16.45207 | M8: =M13+M294 -> 0.6 | N8: =N13+N294 -> 45.720104
B10: Всего по мероприятиям национальных проектов | D10: Всего | E10: =SUM(E11:E13) -> 246.88254 | F10: =SUM(F11:F13) -> 246.88254 | G10: =SUM(G11:G13) -> 246.88254 | H10: =SUM(H11:H13) -> 80.20666 | I10: =SUM(I11:I13) -> 36.86 | K10: =SUM(K11:K13) -> 130.04 | L10: =SUM(L11:L13) -> 123.55147 | M10: =SUM(M11:M13) -> 0.6 | N10: =SUM(N11:N13) -> 618.14067
D11: федер. бюджет | E11: =E31+E57+E84+E118+E129+E168+E191+E213+E224+E249+E259+E282 -> 132.317 | F11: =F31+F57+F84+F118+F129+F168+F191+F213+F224+F249+F259+F282 -> 132.317 | G11: =G31+G57+G84+G118+G129+G168+G191+G213+G224+G249+G259+G282 -> 132.317 | H11: =H31+H57+H84+H118+H129+H168+H191+H213+H224+H249+H259+H282 -> 54.947 | I11: =I31+I57+I84+I118+I129+I168+I191+I213+I224+I249+I259+I282 -> 12.81 | K11: =K31+K57+K84+K118+K129+K168+K191+K213+K224+K249+K259+K282 -> 17.52 | L11: =L31+L57+L84+L118+L129+L168+L191+L213+L224+L249+L259+L282 -> 14.3145 | M11: =M31+M57+M84+M118+M129+M168+M191+M213+M224+M249+M259+M282 -> 0 | N11: =E11+H11+I11+K11+L11+M11 -> 231.9085
D12: краевой бюджет | E12: =E32+E58+E85+E119+E130+E169+E192+E214+E225+E250+E260+E283 -> 97.676442 | F12: =F32+F58+F85+F119+F130+F169+F192+F214+F225+F250+F260+F283 -> 97.676442 | G12: =G32+G58+G85+G119+G130+G169+G192+G214+G225+G250+G260+G283 -> 97.676442 | H12: =H32+H58+H85+H119+H130+H169+H192+H214+H225+H250+H260+H283 -> 24.40166 | I12: =I32+I58+I85+I119+I130+I169+I192+I214+I225+I250+I260+I283 -> 23.54 | K12: =K32+K58+K85+K119+K130+K169+K192+K214+K225+K250+K260+K283 -> 102.29 | L12: =L32+L58+L85+L119+L130+L169+L192+L214+L225+L250+L260+L283 -> 92.7898 | M12: =M32+M58+M85+M119+M130+M169+M192+M214+M225+M250+M260+M283 -> 0 | N12: =E12+H12+I12+K12+L12+M12 -> 340.6979
D13: бюджет МО | E13: =E33+E59+E86+E120+E131+E170+E193+E215+E226+E251+E261+E284 -> 16.889101 | F13: =F33+F59+F86+F120+F131+F170+F193+F215+F226+F251+F261+F284 -> 16.889101 | G13: =G33+G59+G86+G120+G131+G170+G193+G215+G226+G251+G261+G284 -> 16.889101 | H13: =H33+H59+H86+H120+H131+H170+H193+H215+H226+H251+H261+H284 -> 0.858 | I13: =I33+I59+I86+I120+I131+I170+I193+I215+I226+I251+I261+I284 -> 0.51 | K13: =K33+K59+K86+K120+K131+K170+K193+K215+K226+K251+K261+K284 -> 10.23 | L13: =L33+L59+L86+L120+L131+L170+L193+L215+L226+L251+L261+L284 -> 16.44717 | M13: =M33+M59+M86+M120+M131+M170+M193+M215+M226+M251+M261+M284 -> 0.6 | N13: =E13+H13+I13+K13+L13+M13 -> 45.534271
E15: I | F15: ДЕМОГРАФИЯ
A16: Региональный проект 1. ….
B17: Меропиятия | C17: Потребность в финансировании, млн. рублей
A18: 1.1 | D18: всего | E18: =SUM(E19:E21) -> 0 | F18: =SUM(F19:F21) -> 0 | G18: =SUM(G19:G21) -> 0 | H18: =SUM(H19:H21) -> 0 | I18: =SUM(I19:I21) -> 0 | K18: =SUM(K19:K21) -> 0.75 | L18: =SUM(L19:L21) -> 0.29 | M18: =SUM(M19:M21) -> 0.6 | N18: =E18+H18+I18+K18+L18+M18 -> 1.64
D19: федер. бюджет | N19: =E19+H19+I19+K19+L19+M19 -> 0
D20: краевой бюджет | N20: =E20+H20+I20+K20+L20+M20 -> 0
D21: бюджет МО | K21: 0.75 | L21: 0.29 | M21: 0.6 | N21: =E21+H21+I21+K21+L21+M21 -> 1.64
A22: 1.2 | D22: всего | E22: =SUM(E23:E25) -> 0 | F22: =SUM(F23:F25) -> 0 | G22: =SUM(G23:G25) -> 0 | H22: =SUM(H23:H25) -> 0 | I22: =SUM(I23:I25) -> 0 | K22: =SUM(K23:K25) -> 0 | L22: =SUM(L23:L25) -> 0 | M22: =SUM(M23:M25) -> 0 | N22: =E22+H22+I22+K22+L22+M22 -> 0
D23: федер. бюджет | N23: =E23+H23+I23+K23+L23+M23 -> 0
D24: краевой бюджет | N24: =E24+H24+I24+K24+L24+M24 -> 0
D25: бюджет МО | N25: =E25+H25+I25+K25+L25+M25 -> 0
A26: 1.3 | D26: всего | E26: =SUM(E27:E29) -> 0 | F26: =SUM(F27:F29) -> 0 | G26: =SUM(G27:G29) -> 0 | H26: =SUM(H27:H29) -> 0 | I26: =SUM(I27:I29) -> 0 | K26: =SUM(K27:K29) -> 0 | L26: =SUM(L27:L29) -> 0 | M26: =SUM(M27:M29) -> 0 | N26: =E26+H26+I26+K26+L26+M26 -> 0
D27: федер. бюджет | N27: =E27+H27+I27+K27+L27+M27 -> 0
D28: краевой бюджет | N28: =E28+H28+I28+K28+L28+M28 -> 0
D29: бюджет МО | N29: =E29+H29+I29+K29+L29+M29 -> 0
A30: =E15 -> I | B30: Итого по национальному проекту | D30: Всего | E30: =E31+E32+E33 -> 0 | F30: =F31+F32+F33 -> 0 | G30: =G31+G32+G33 -> 0 | H30: =H31+H32+H33 -> 0 | I30: =I31+I32+I33 -> 0 | K30: =K31+K32+K33 -> 15.43 | L30: =L31+L32+L33 -> 1.5041 | M30: =M31+M32+M33 -> 0.6 | N30: =N31+N32+N33 -> 17.5341
B31: =F15 -> ДЕМОГРАФИЯ | D31: федер. бюджет | E31: =E19+E23+E27 -> 0 | F31: =F19+F23+F27 -> 0 | G31: =G19+G23+G27 -> 0 | H31: =H19+H23+H27 -> 0 | I31: =I19+I23+I27 -> 0 | M31: =M19+M23+M27 -> 0 | N31: =E31+H31+I31+K31+L31+M31 -> 0
D32: краевой бюджет | E32: =E20+E24+E28 -> 0 | F32: =F20+F24+F28 -> 0 | G32: =G20+G24+G28 -> 0 | H32: =H20+H24+H28 -> 0 | I32: =I20+I24+I28 -> 0 | K32: 14.59 | L32: 0.97 | M32: =M20+M24+M28 -> 0 | N32: =E32+H32+I32+K32+L32+M32 -> 15.56
D33: бюджет МО | E33: =E21+E25+E29 -> 0 | F33: =F21+F25+F29 -> 0 | G33: =G21+G25+G29 -> 0 | H33: =H21+H25+H29 -> 0 | I33: =I21+I25+I29 -> 0 | K33: 0.84 | L33: 0.5341 | M33: =M21+M25+M29 -> 0.6 | N33: =E33+H33+I33+K33+L33+M33 -> 1.9741
E34: II | F34: ЗДРАВООХРАНЕНИЕ
A35: Показатели для оценки деятельности глав муниципальных образований Приморского края по достижению задач регионального проекта «Здравоохранение» на 2021 год
A36: 1
A38: 2
A40: 3
A42: 4
A44: Региональный проект 1. ….
B45: Меропиятия | C45: Потребность в финансировании, млн. рублей
A46: 1.1 | D46: всего | E46: =SUM(E47:E49) -> 0 | F46: =SUM(F47:F49) -> 0 | G46: =SUM(G47:G49) -> 0 | H46: =SUM(H47:H49) -> 0 | I46: =SUM(I47:I49) -> 0 | K46: =SUM(K47:K49) -> 0 | L46: =SUM(L47:L49) -> 0 | M46: =SUM(M47:M49) -> 0 | N46: =E46+H46+I46+K46+L46+M46 -> 0
...

Sheet Приложение 2 (СВОД)
B1: ФОРМАТ И ШРИФТЫ НЕ ИЗМЕНЯТЬ | N1: Приложение 2
A2: ='Приложение 1 (ОТЧЕТНЫЙ ПЕРИОД) '!A2:J2 -> ИНФОРМАЦИЯ по показателям и мероприятиям дорожных карт по достижению показателей Указа Президента Российской Федерации от 07.05.2018 № 204 ПОЖАРСКИЙ МУНИЦИПАЛЬНЫЙ РАЙОН | K2: ЕЖЕМЕСЯЧНАЯ форма предоставления информации | Y2: Приложение 3
A3: № п.п. | B3: Наименование показателя | C3: Базовое значение | E3: Значение показателя/ потребность в финансировании, млн рублей | J3: Примечание. Сумма контракта, дата заключения контракта, поставщик, дата завершения работ по контракту. Дата внесения изменений в план-график, планируемая дата начала конкурсных процедур, планируемая дата заключения контракта. Для контрактов на подписании - дата завершения конкурсных процедур, сумма контракта, поставщик, планируемая дата заключения контракта, дата завершения работ по контракту. Адрес расположения заверщенного объекта. | K3: ='Приложение 1 (ОТЧЕТНЫЙ ПЕРИОД) '!K3 -> ИТОГ ПРОФИНАНСИРОВАННО, млн рублей | M3: ='Приложение 1 (ОТЧЕТНЫЙ ПЕРИОД) '!M3 -> Значениепотребность в финансировании, млн рублей | N3: ВСЕГО 2019-2024 | R3: Текущее исполнение показателей, %, 2021 год
B4: ='Приложение 1 (ОТЧЕТНЫЙ ПЕРИОД) '!B4 -> городской округ (муниципальный р-н) | C4: Значение/ года | D4: Дата / вид бюджета | E4: ='Приложение 1 (ОТЧЕТНЫЙ ПЕРИОД) '!E4 -> 2021 г. (план в соответствии с бюджетом) | F4: ='Приложение 1 (ОТЧЕТНЫЙ ПЕРИОД) '!F4 -> сумма подписанного контракта по мероприятию | G4: ='Приложение 1 (ОТЧЕТНЫЙ ПЕРИОД) '!G4 -> профинанси-ровано (кассовый расход) /исполнение на 27.12.2021 | H4: ='Приложение 1 (ОТЧЕТНЫЙ ПЕРИОД) '!H4 -> 2022 г. (план в соответствии с бюджетом) | I4: ='Приложение 1 (ОТЧЕТНЫЙ ПЕРИОД) '!I4 -> 2023 г. (план в соответствии с бюджетом) | K4: ='Приложение 1 (ОТЧЕТНЫЙ ПЕРИОД) '!K4 -> 2019 г. | L4: ='Приложение 1 (ОТЧЕТНЫЙ ПЕРИОД) '!L4 -> 2020 г. | M4: ='Приложение 1 (ОТЧЕТНЫЙ ПЕРИОД) '!M4 -> 2024 г. | P4: проверочная сторока | R4: =B4 -> городской округ (муниципальный р-н) | S4: Вид бюджета | T4: =E4 -> 2021 г. (план в соответствии с бюджетом) | U4: =F4 -> сумма подписанного контракта по мероприятию | V4: =G4 -> профинанси-ровано (кассовый расход) /исполнение на 27.12.2021 | W4: %, подписанного контракта по мероприятию от запланированного, (законтрактовано) | X4: %, профинансировано (кассовый расход) /исполнение (от закантрактованного) | Y4: %, профинансировано (кассовый расход)/исполнение от ПЛАНА
B5: ВСЕГО | D5: Всего | E5: =E6+E7+E8 -> 253.4272 | F5: =F6+F7+F8 -> 253.4272 | G5: =G6+G7+G8 -> 253.4272 | H5: =H6+H7+H8 -> 80.671316 | I5: =I6+I7+I8 -> 37.321521 | K5: =K6+K7+K8 -> 130.618 | L5: =L6+L7+L8 -> 124.03937 | M5: =M6+M7+M8 -> 0.6 | N5: =N6+N7+N8 -> 626.67741 | R5: =B5 -> ВСЕГО | S5: =D5 -> Всего | T5: =E5 -> 253.4272 | U5: =F5 -> 253.4272 | V5: =G5 -> 253.4272 | W5: =F5/E5% -> 100 | X5: =G5/F5% -> 100 | Y5: =V5/T5% -> 100
D6: федер. бюджет | E6: =E19+E135 -> 132.742 | F6: =F19+F135 -> 132.742 | G6: =G19+G135 -> 132.742 | H6: =H19+H135 -> 55.352 | I6: =I19+I135 -> 13.212 | K6: =K19+K135 -> 17.935 | L6: =L19+L135 -> 14.7395 | M6: =M19+M135 -> 0 | N6: =N19+N135 -> 233.9805
D7: краевой бюджет | E7: =E20+E136 -> 103.73144 | F7: =F20+F136 -> 103.73144 | G7: =G20+G136 -> 103.73144 | H7: =H20+H136 -> 24.45666 | I7: =I20+I136 -> 23.5949 | K7: =K20+K136 -> 102.346 | L7: =L20+L136 -> 92.8478 | M7: =M20+M136 -> 0 | N7: =N20+N136 -> 346.9768
D8: бюджет МО | E8: =E21+E137 -> 16.953757 | F8: =F21+F137 -> 16.953757 | G8: =G21+G137 -> 16.953757 | H8: =H21+H137 -> 0.862656 | I8: =I21+I137 -> 0.514621 | K8: =K21+K137 -> 10.337 | L8: =L21+L137 -> 16.45207 | M8: =M21+M137 -> 0.6 | N8: =N21+N137 -> 45.720104
B11: проверочная сторока | D11: Всего | E11: =E5-'Приложение 1 (ОТЧЕТНЫЙ ПЕРИОД) '!E5 -> 0 | F11: =F5-'Приложение 1 (ОТЧЕТНЫЙ ПЕРИОД) '!F5 -> 0 | G11: =G5-'Приложение 1 (ОТЧЕТНЫЙ ПЕРИОД) '!G5 -> 0 | H11: =H5-'Приложение 1 (ОТЧЕТНЫЙ ПЕРИОД) '!H5 -> 0 | I11: =I5-'Приложение 1 (ОТЧЕТНЫЙ ПЕРИОД) '!I5 -> 0 | K11: =K5-'Приложение 1 (ОТЧЕТНЫЙ ПЕРИОД) '!K5 -> 0 | L11: =L5-'Приложение 1 (ОТЧЕТНЫЙ ПЕРИОД) '!L5 -> 0 | M11: =M5-'Приложение 1 (ОТЧЕТНЫЙ ПЕРИОД) '!M5 -> 0 | N11: =N5-'Приложение 1 (ОТЧЕТНЫЙ ПЕРИОД) '!N5 -> 0 | P11: =SUM(E11:O11) -> 0
B12: проверочная сторока | D12: федер. бюджет | E12: =E6-'Приложение 1 (ОТЧЕТНЫЙ ПЕРИОД) '!E6 -> 0 | F12: =F6-'Приложение 1 (ОТЧЕТНЫЙ ПЕРИОД) '!F6 -> 0 | G12: =G6-'Приложение 1 (ОТЧЕТНЫЙ ПЕРИОД) '!G6 -> 0 | H12: =H6-'Приложение 1 (ОТЧЕТНЫЙ ПЕРИОД) '!H6 -> 0 | I12: =I6-'Приложение 1 (ОТЧЕТНЫЙ ПЕРИОД) '!I6 -> 0 | K12: =K6-'Приложение 1 (ОТЧЕТНЫЙ ПЕРИОД) '!K6 -> 0 | L12: =L6-'Приложение 1 (ОТЧЕТНЫЙ ПЕРИОД) '!L6 -> 0 | M12: =M6-'Приложение 1 (ОТЧЕТНЫЙ ПЕРИОД) '!M6 -> 0 | N12: =N6-'Приложение 1 (ОТЧЕТНЫЙ ПЕРИОД) '!N6 -> 0 | P12: =SUM(E12:O12) -> 0
B13: проверочная сторока | D13: краевой бюджет | E13: =E7-'Приложение 1 (ОТЧЕТНЫЙ ПЕРИОД) '!E7 -> 0 | F13: =F7-'Приложение 1 (ОТЧЕТНЫЙ ПЕРИОД) '!F7 -> 0 | G13: =G7-'Приложение 1 (ОТЧЕТНЫЙ ПЕРИОД) '!G7 -> 0 | H13: =H7-'Приложение 1 (ОТЧЕТНЫЙ ПЕРИОД) '!H7 -> 0 | I13: =I7-'Приложение 1 (ОТЧЕТНЫЙ ПЕРИОД) '!I7 -> 0 | K13: =K7-'Приложение 1 (ОТЧЕТНЫЙ ПЕРИОД) '!K7 -> 0 | L13: =L7-'Приложение 1 (ОТЧЕТНЫЙ ПЕРИОД) '!L7 -> 0 | M13: =M7-'Приложение 1 (ОТЧЕТНЫЙ ПЕРИОД) '!M7 -> 0 | N13: =N7-'Приложение 1 (ОТЧЕТНЫЙ ПЕРИОД) '!N7 -> 0 | P13: =SUM(E13:O13) -> 0
B14: проверочная сторока | D14: бюджет МО | E14: =E8-'Приложение 1 (ОТЧЕТНЫЙ ПЕРИОД) '!E8 -> 0 | F14: =F8-'Приложение 1 (ОТЧЕТНЫЙ ПЕРИОД) '!F8 -> 0 | G14: =G8-'Приложение 1 (ОТЧЕТНЫЙ ПЕРИОД) '!G8 -> 0 | H14: =H8-'Приложение 1 (ОТЧЕТНЫЙ ПЕРИОД) '!H8 -> 0 | I14: =I8-'Приложение 1 (ОТЧЕТНЫЙ ПЕРИОД) '!I8 -> 0 | K14: =K8-'Приложение 1 (ОТЧЕТНЫЙ ПЕРИОД) '!K8 -> 0 | L14: =L8-'Приложение 1 (ОТЧЕТНЫЙ ПЕРИОД) '!L8 -> 0 | M14: =M8-'Приложение 1 (ОТЧЕТНЫЙ ПЕРИОД) '!M8 -> 0 | N14: =N8-'Приложение 1 (ОТЧЕТНЫЙ ПЕРИОД) '!N8 -> 0 | P14: =SUM(E14:O14) -> 0
Y17: для формирования ПОЯСНИТЕЛЬНОЙ ЗАПИСКИ мониторинга
B18: Всего по мероприятиям национальных проектов | D18: Всего | E18: ='Приложение 1 (ОТЧЕТНЫЙ ПЕРИОД) '!E10 -> 246.88254 | F18: ='Приложение 1 (ОТЧЕТНЫЙ ПЕРИОД) '!F10 -> 246.88254 | G18: ='Приложение 1 (ОТЧЕТНЫЙ ПЕРИОД) '!G10 -> 246.88254 | H18: ='Приложение 1 (ОТЧЕТНЫЙ ПЕРИОД) '!H10 -> 80.20666 | I18: ='Приложение 1 (ОТЧЕТНЫЙ ПЕРИОД) '!I10 -> 36.86 | K18: ='Приложение 1 (ОТЧЕТНЫЙ ПЕРИОД) '!K10 -> 130.04 | L18: ='Приложение 1 (ОТЧЕТНЫЙ ПЕРИОД) '!L10 -> 123.55147 | M18: ='Приложение 1 (ОТЧЕТНЫЙ ПЕРИОД) '!M10 -> 0.6 | N18: ='Приложение 1 (ОТЧЕТНЫЙ ПЕРИОД) '!N10 -> 618.14067 | R18: =B18 -> Всего по мероприятиям национальных проектов | S18: =D18 -> Всего | T18: =E18 -> 246.88254 | U18: =F18 -> 246.88254 | V18: =G18 -> 246.88254 | W18: =F18/E18% -> 100 | X18: =G18/F18% -> 100 | Y18: =V18/T18% -> 100
D19: федер. бюджет | E19: ='Приложение 1 (ОТЧЕТНЫЙ ПЕРИОД) '!E11 -> 132.317 | F19: ='Приложение 1 (ОТЧЕТНЫЙ ПЕРИОД) '!F11 -> 132.317 | G19: ='Приложение 1 (ОТЧЕТНЫЙ ПЕРИОД) '!G11 -> 132.317 | H19: ='Приложение 1 (ОТЧЕТНЫЙ ПЕРИОД) '!H11 -> 54.947 | I19: ='Приложение 1 (ОТЧЕТНЫЙ ПЕРИОД) '!I11 -> 12.81 | K19: ='Приложение 1 (ОТЧЕТНЫЙ ПЕРИОД) '!K11 -> 17.52 | L19: ='Приложение 1 (ОТЧЕТНЫЙ ПЕРИОД) '!L11 -> 14.3145 | M19: ='Приложение 1 (ОТЧЕТНЫЙ ПЕРИОД) '!M11 -> 0 | N19: ='Приложение 1 (ОТЧЕТНЫЙ ПЕРИОД) '!N11 -> 231.9085
D20: краевой бюджет | E20: ='Приложение 1 (ОТЧЕТНЫЙ ПЕРИОД) '!E12 -> 97.676442 | F20: ='Приложение 1 (ОТЧЕТНЫЙ ПЕРИОД) '!F12 -> 97.676442 | G20: ='Приложение 1 (ОТЧЕТНЫЙ ПЕРИОД) '!G12 -> 97.676442 | H20: ='Приложение 1 (ОТЧЕТНЫЙ ПЕРИОД) '!H12 -> 24.40166 | I20: ='Приложение 1 (ОТЧЕТНЫЙ ПЕРИОД) '!I12 -> 23.54 | K20: ='Приложение 1 (ОТЧЕТНЫЙ ПЕРИОД) '!K12 -> 102.29 | L20: ='Приложение 1 (ОТЧЕТНЫЙ ПЕРИОД) '!L12 -> 92.7898 | M20: ='Приложение 1 (ОТЧЕТНЫЙ ПЕРИОД) '!M12 -> 0 | N20: ='Приложение 1 (ОТЧЕТНЫЙ ПЕРИОД) '!N12 -> 340.6979
D21: бюджет МО | E21: ='Приложение 1 (ОТЧЕТНЫЙ ПЕРИОД) '!E13 -> 16.889101 | F21: ='Приложение 1 (ОТЧЕТНЫЙ ПЕРИОД) '!F13 -> 16.889101 | G21: ='Приложение 1 (ОТЧЕТНЫЙ ПЕРИОД) '!G13 -> 16.889101 | H21: ='Приложение 1 (ОТЧЕТНЫЙ ПЕРИОД) '!H13 -> 0.858 | I21: ='Приложение 1 (ОТЧЕТНЫЙ ПЕРИОД) '!I13 -> 0.51 | K21: ='Приложение 1 (ОТЧЕТНЫЙ ПЕРИОД) '!K13 -> 10.23 | L21: ='Приложение 1 (ОТЧЕТНЫЙ ПЕРИОД) '!L13 -> 16.44717 | M21: ='Приложение 1 (ОТЧЕТНЫЙ ПЕРИОД) '!M13 -> 0.6 | N21: ='Приложение 1 (ОТЧЕТНЫЙ ПЕРИОД) '!N13 -> 45.534271
D22: проверочная сторока | E22: =E19+E20+E21 -> 246.88254 | F22: =F19+F20+F21 -> 246.88254 | G22: =G19+G20+G21 -> 246.88254 | H22: =H19+H20+H21 -> 80.20666 | I22: =I19+I20+I21 -> 36.86 | K22: =K19+K20+K21 -> 130.04 | L22: =L19+L20+L21 -> 123.55147 | M22: =M19+M20+M21 -> 0.6 | N22: =N19+N20+N21 -> 618.14067 | P22: =SUM(E22:O22) -> 1730.0464
D23: проверочная сторока | E23: =E22-E18 -> 0 | F23: =F22-F18 -> 0 | G23: =G22-G18 -> 0 | H23: =H22-H18 -> 0 | I23: =I22-I18 -> 0 | K23: =K22-K18 -> 0 | L23: =L22-L18 -> 0 | M23: =M22-M18 -> 0 | N23: =N22-N18 -> 0 | P23: =SUM(E23:O23) -> 0
B24: проверочная сторока | D24: Всего | E24: =E25+E26+E27 -> 246.88254 | F24: =F25+F26+F27 -> 246.88254 | G24: =G25+G26+G27 -> 246.88254 | H24: =H25+H26+H27 -> 80.20666 | I24: =I25+I26+I27 -> 36.86 | K24: =K25+K26+K27 -> 130.04 | L24: =L25+L26+L27 -> 123.55147 | M24: =M25+M26+M27 -> 0.6 | N24: =N25+N26+N27 -> 618.14067 | P24: =SUM(E24:O24) -> 1730.0464
B25: проверочная сторока | D25: федер. бюджет | E25: =E37+E44+E62+E69+E76+E83+E90+E97+E104+E111+E118+E125 -> 132.317 | F25: =F37+F44+F62+F69+F76+F83+F90+F97+F104+F111+F118+F125 -> 132.317 | G25: =G37+G44+G62+G69+G76+G83+G90+G97+G104+G111+G118+G125 -> 132.317 | H25: =H37+H44+H62+H69+H76+H83+H90+H97+H104+H111+H118+H125 -> 54.947 | I25: =I37+I44+I62+I69+I76+I83+I90+I97+I104+I111+I118+I125 -> 12.81 | K25: =K37+K44+K62+K69+K76+K83+K90+K97+K104+K111+K118+K125 -> 17.52 | L25: =L37+L44+L62+L69+L76+L83+L90+L97+L104+L111+L118+L125 -> 14.3145 | M25: =M37+M44+M62+M69+M76+M83+M90+M97+M104+M111+M118+M125 -> 0 | N25: =N37+N44+N62+N69+N76+N83+N90+N97+N104+N111+N118+N125 -> 231.9085 | P25: =SUM(E25:O25) -> 728.451
B26: проверочная сторока | D26: краевой бюджет | E26: =E38+E45+E63+E70+E77+E84+E91+E98+E105+E112+E119+E126 -> 97.676442 | F26: =F38+F45+F63+F70+F77+F84+F91+F98+F105+F112+F119+F126 -> 97.676442 | G26: =G38+G45+G63+G70+G77+G84+G91+G98+G105+G112+G119+G126 -> 97.676442 | H26: =H38+H45+H63+H70+H77+H84+H91+H98+H105+H112+H119+H126 -> 24.40166 | I26: =I38+I45+I63+I70+I77+I84+I91+I98+I105+I112+I119+I126 -> 23.54 | K26: =K38+K45+K63+K70+K77+K84+K91+K98+K105+K112+K119+K126 -> 102.29 | L26: =L38+L45+L63+L70+L77+L84+L91+L98+L105+L112+L119+L126 -> 92.7898 | M26: =M38+M45+M63+M70+M77+M84+M91+M98+M105+M112+M119+M126 -> 0 | N26: =N38+N45+N63+N70+N77+N84+N91+N98+N105+N112+N119+N126 -> 340.6979 | P26: =SUM(E26:O26) -> 876.74869
B27: проверочная сторока | D27: бюджет МО | E27: =E39+E46+E64+E71+E78+E85+E92+E99+E106+E113+E120+E127 -> 16.889101 | F27: =F39+F46+F64+F71+F78+F85+F92+F99+F106+F113+F120+F127 -> 16.889101 | G27: =G39+G46+G64+G71+G78+G85+G92+G99+G106+G113+G120+G127 -> 16.889101 | H27: =H39+H46+H64+H71+H78+H85+H92+H99+H106+H113+H120+H127 -> 0.858 | I27: =I39+I46+I64+I71+I78+I85+I92+I99+I106+I113+I120+I127 -> 0.51 | K27: =K39+K46+K64+K71+K78+K85+K92+K99+K106+K113+K120+K127 -> 10.23 | L27: =L39+L46+L64+L71+L78+L85+L92+L99+L106+L113+L120+L127 -> 16.44717 | M27: =M39+M46+M64+M71+M78+M85+M92+M99+M106+M113+M120+M127 -> 0.6 | N27: =N39+N46+N64+N71+N78+N85+N92+N99+N106+N113+N120+N127 -> 45.534271 | P27: =SUM(E27:O27) -> 124.84674
B29: проверочная сторока | D29: Всего | E29: =E24-E18 -> 0 | F29: =F24-F18 -> 0 | G29: =G24-G18 -> 0 | H29: =H24-H18 -> 0 | I29: =I24-I18 -> 0 | K29: =K24-K18 -> 0 | L29: =L24-L18 -> 0 | M29: =M24-M18 -> 0 | N29: =N24-N18 -> 0 | P29: =SUM(E29:O29) -> 0
B30: проверочная сторока | D30: федер. бюджет | E30: =E25-E19 -> 0 | F30: =F25-F19 -> 0 | G30: =G25-G19 -> 0 | H30: =H25-H19 -> 0 | I30: =I25-I19 -> 0 | K30: =K25-K19 -> 0 | L30: =L25-L19 -> 0 | M30: =M25-M19 -> 0 | N30: =N25-N19 -> 0 | P30: =SUM(E30:O30) -> 0
B31: проверочная сторока | D31: краевой бюджет | E31: =E26-E20 -> 0 | F31: =F26-F20 -> 0 | G31: =G26-G20 -> 0 | H31: =H26-H20 -> 0 | I31: =I26-I20 -> 0 | K31: =K26-K20 -> 0 | L31: =L26-L20 -> 0 | M31: =M26-M20 -> 0 | N31: =N26-N20 -> 0 | P31: =SUM(E31:O31) -> 0
B32: проверочная сторока | D32: бюджет МО | E32: =E27-E21 -> 0 | F32: =F27-F21 -> 0 | G32: =G27-G21 -> 0 | H32: =H27-H21 -> 0 | I32: =I27-I21 -> 0 | K32: =K27-K21 -> 0 | L32: =L27-L21 -> 0 | M32: =M27-M21 -> 0 | N32: =N27-N21 -> 0 | P32: =SUM(E32:O32) -> 0
E35: I | F35: ДЕМОГРАФИЯ
A36: =E35 -> I | B36: Итого по национальному проекту | D36: Всего | E36: ='Приложение 1 (ОТЧЕТНЫЙ ПЕРИОД) '!E30 -> 0 | F36: ='Приложение 1 (ОТЧЕТНЫЙ ПЕРИОД) '!F30 -> 0 | G36: ='Приложение 1 (ОТЧЕТНЫЙ ПЕРИОД) '!G30 -> 0 | H36: ='Приложение 1 (ОТЧЕТНЫЙ ПЕРИОД) '!H30 -> 0 | I36: ='Приложение 1 (ОТЧЕТНЫЙ ПЕРИОД) '!I30 -> 0 | K36: ='Приложение 1 (ОТЧЕТНЫЙ ПЕРИОД) '!K30 -> 15.43 | L36: ='Приложение 1 (ОТЧЕТНЫЙ ПЕРИОД) '!L30 -> 1.5041 | M36: ='Приложение 1 (ОТЧЕТНЫЙ ПЕРИОД) '!M30 -> 0.6 | N36: ='Приложение 1 (ОТЧЕТНЫЙ ПЕРИОД) '!N30 -> 17.5341 | R36: =B37 -> ДЕМОГРАФИЯ | S36: =D36 -> Всего | T36: =E36 -> 0 | U36: =F36 -> 0 | V36: =G36 -> 0 | W36: =F36/E36% -> #DIV/0! | X36: =G36/F36% -> #DIV/0! | Y36: =V36/T36% -> #DIV/0!
B37: =F35 -> ДЕМОГРАФИЯ | D37: федер. бюджет | E37: ='Приложение 1 (ОТЧЕТНЫЙ ПЕРИОД) '!E31 -> 0 | F37: ='Приложение 1 (ОТЧЕТНЫЙ ПЕРИОД) '!F31 -> 0 | G37: ='Приложение 1 (ОТЧЕТНЫЙ ПЕРИОД) '!G31 -> 0 | H37: ='Приложение 1 (ОТЧЕТНЫЙ ПЕРИОД) '!H31 -> 0 | I37: ='Приложение 1 (ОТЧЕТНЫЙ ПЕРИОД) '!I31 -> 0 | K37: ='Приложение 1 (ОТЧЕТНЫЙ ПЕРИОД) '!K31 -> 0 | L37: ='Приложение 1 (ОТЧЕТНЫЙ ПЕРИОД) '!L31 -> 0 | M37: ='Приложение 1 (ОТЧЕТНЫЙ ПЕРИОД) '!M31 -> 0 | N37: ='Приложение 1 (ОТЧЕТНЫЙ ПЕРИОД) '!N31 -> 0
D38: краевой бюджет | E38: ='Приложение 1 (ОТЧЕТНЫЙ ПЕРИОД) '!E32 -> 0 | F38: ='Приложение 1 (ОТЧЕТНЫЙ ПЕРИОД) '!F32 -> 0 | G38: ='Приложение 1 (ОТЧЕТНЫЙ ПЕРИОД) '!G32 -> 0 | H38: ='Приложение 1 (ОТЧЕТНЫЙ ПЕРИОД) '!H32 -> 0 | I38: ='Приложение 1 (ОТЧЕТНЫЙ ПЕРИОД) '!I32 -> 0 | K38: ='Приложение 1 (ОТЧЕТНЫЙ ПЕРИОД) '!K32 -> 14.59 | L38: ='Приложение 1 (ОТЧЕТНЫЙ ПЕРИОД) '!L32 -> 0.97 | M38: ='Приложение 1 (ОТЧЕТНЫЙ ПЕРИОД) '!M32 -> 0 | N38: ='Приложение 1 (ОТЧЕТНЫЙ ПЕРИОД) '!N32 -> 15.56
D39: бюджет МО | E39: ='Приложение 1 (ОТЧЕТНЫЙ ПЕРИОД) '!E33 -> 0 | F39: ='Приложение 1 (ОТЧЕТНЫЙ ПЕРИОД) '!F33 -> 0 | G39: ='Приложение 1 (ОТЧЕТНЫЙ ПЕРИОД) '!G33 -> 0 | H39: ='Приложение 1 (ОТЧЕТНЫЙ ПЕРИОД) '!H33 -> 0 | I39: ='Приложение 1 (ОТЧЕТНЫЙ ПЕРИОД) '!I33 -> 0 | K39: ='Приложение 1 (ОТЧЕТНЫЙ ПЕРИОД) '!K33 -> 0.84 | L39: ='Приложение 1 (ОТЧЕТНЫЙ ПЕРИОД) '!L33 -> 0.5341 | M39: ='Приложение 1 (ОТЧЕТНЫЙ ПЕРИОД) '!M33 -> 0.6 | N39: ='Приложение 1 (ОТЧЕТНЫЙ ПЕРИОД) '!N33 -> 1.9741
D40: проверочная сторока | E40: =E37+E38+E39 -> 0 | F40: =F37+F38+F39 -> 0 | G40: =G37+G38+G39 -> 0 | H40: =H37+H38+H39 -> 0 | I40: =I37+I38+I39 -> 0 | K40: =K37+K38+K39 -> 15.43 | L40: =L37+L38+L39 -> 1.5041 | M40: =M37+M38+M39 -> 0.6 | N40: =N37+N38+N39 -> 17.5341 | P40: =SUM(E40:O40) -> 35.0682
D41: проверочная сторока | E41: =E40-E36 -> 0 | F41: =F40-F36 -> 0 | G41: =G40-G36 -> 0 | H41: =H40-H36 -> 0 | I41: =I40-I36 -> 0 | K41: =K40-K36 -> 0 | L41: =L40-L36 -> 0 | M41: =M40-M36 -> 0 | N41: =N40-N36 -> 0 | P41: =SUM(E41:O41) -> 0
E42: II | F42: ЗДРАВООХРАНЕНИЕ
A43: =E42 -> II | B43: Итого по национальному проекту | D43: Всего | E43: ='Приложение 1 (ОТЧЕТНЫЙ ПЕРИОД) '!E56 -> 0 | F43: ='Приложение 1 (ОТЧЕТНЫЙ ПЕРИОД) '!F56 -> 0 | G43: ='Приложение 1 (ОТЧЕТНЫЙ ПЕРИОД) '!G56 -> 0 | H43: ='Приложение 1 (ОТЧЕТНЫЙ ПЕРИОД) '!H56 -> 0 | I43: ='Приложение 1 (ОТЧЕТНЫЙ ПЕРИОД) '!I56 -> 0 | K43: ='Приложение 1 (ОТЧЕТНЫЙ ПЕРИОД) '!K56 -> 0 | L43: ='Приложение 1 (ОТЧЕТНЫЙ ПЕРИОД) '!L56 -> 0 | M43: ='Приложение 1 (ОТЧЕТНЫЙ ПЕРИОД) '!M56 -> 0 | N43: ='Приложение 1 (ОТЧЕТНЫЙ ПЕРИОД) '!N56 -> 0 | R43: =B44 -> ЗДРАВООХРАНЕНИЕ | S43: =D43 -> Всего | T43: =E43 -> 0 | U43: =F43 -> 0 | V43: =G43 -> 0 | W43: =F43/E43% -> #DIV/0! | X43: =G43/F43% -> #DIV/0! | Y43: =V43/T43% -> #DIV/0!
B44: =F42 -> ЗДРАВООХРАНЕНИЕ | D44: федер. бюджет | E44: ='Приложение 1 (ОТЧЕТНЫЙ ПЕРИОД) '!E57 -> 0 | F44: ='Приложение 1 (ОТЧЕТНЫЙ ПЕРИОД) '!F57 -> 0 | G44: ='Приложение 1 (ОТЧЕТНЫЙ ПЕРИОД) '!G57 -> 0 | H44: ='Приложение 1 (ОТЧЕТНЫЙ ПЕРИОД) '!H57 -> 0 | I44: ='Приложение 1 (ОТЧЕТНЫЙ ПЕРИОД) '!I57 -> 0 | K44: ='Приложение 1 (ОТЧЕТНЫЙ ПЕРИОД) '!K57 -> 0 | L44: ='Приложение 1 (ОТЧЕТНЫЙ ПЕРИОД) '!L57 -> 0 | M44: ='Приложение 1 (ОТЧЕТНЫЙ ПЕРИОД) '!M57 -> 0 | N44: ='Приложение 1 (ОТЧЕТНЫЙ ПЕРИОД) '!N57 -> 0
D45: краевой бюджет | E45: ='Приложение 1 (ОТЧЕТНЫЙ ПЕРИОД) '!E58 -> 0 | F45: ='Приложение 1 (ОТЧЕТНЫЙ ПЕРИОД) '!F58 -> 0 | G45: ='Приложение 1 (ОТЧЕТНЫЙ ПЕРИОД) '!G58 -> 0 | H45: ='Приложение 1 (ОТЧЕТНЫЙ ПЕРИОД) '!H58 -> 0 | I45: ='Приложение 1 (ОТЧЕТНЫЙ ПЕРИОД) '!I58 -> 0 | K45: ='Приложение 1 (ОТЧЕТНЫЙ ПЕРИОД) '!K58 -> 0 | L45: ='Приложение 1 (ОТЧЕТНЫЙ ПЕРИОД) '!L58 -> 0 | M45: ='Приложение 1 (ОТЧЕТНЫЙ ПЕРИОД) '!M58 -> 0 | N45: ='Приложение 1 (ОТЧЕТНЫЙ ПЕРИОД) '!N58 -> 0
D46: бюджет МО | E46: ='Приложение 1 (ОТЧЕТНЫЙ ПЕРИОД) '!E59 -> 0 | F46: ='Приложение 1 (ОТЧЕТНЫЙ ПЕРИОД) '!F59 -> 0 | G46: ='Приложение 1 (ОТЧЕТНЫЙ ПЕРИОД) '!G59 -> 0 | H46: ='Приложение 1 (ОТЧЕТНЫЙ ПЕРИОД) '!H59 -> 0 | I46: ='Приложение 1 (ОТЧЕТНЫЙ ПЕРИОД) '!I59 -> 0 | K46: ='Приложение 1 (ОТЧЕТНЫЙ ПЕРИОД) '!K59 -> 0 | L46: ='Приложение 1 (ОТЧЕТНЫЙ ПЕРИОД) '!L59 -> 0 | M46: ='Приложение 1 (ОТЧЕТНЫЙ ПЕРИОД) '!M59 -> 0 | N46: ='Приложение 1 (ОТЧЕТНЫЙ ПЕРИОД) '!N59 -> 0
D47: проверочная сторока | E47: =E44+E45+E46 -> 0 | F47: =F44+F45+F46 -> 0 | G47: =G44+G45+G46 -> 0 | H47: =H44+H45+H46 -> 0 | I47: =I44+I45+I46 -> 0 | K47: =K44+K45+K46 -> 0 | L47: =L44+L45+L46 -> 0 | M47: =M44+M45+M46 -> 0 | N47: =N44+N45+N46 -> 0 | P47: =SUM(E47:O47) -> 0
...
